* [dpdk-test-report] |SUCCESS| pw61707 [PATCH] vhost: delete vhost scsi example
[not found] <20191023160154.27765-1-jin.yu@intel.com>
@ 2019-10-23 8:21 ` checkpatch
2019-10-23 16:03 ` [dpdk-test-report] |WARNING| pw61707 " 0-day Robot
1 sibling, 0 replies; 5+ messages in thread
From: checkpatch @ 2019-10-23 8:21 UTC (permalink / raw)
To: test-report
Test-Label: checkpatch
Test-Status: SUCCESS
http://dpdk.org/patch/61707
_coding style OK_
^ permalink raw reply [flat|nested] 5+ messages in thread
* [dpdk-test-report] |WARNING| pw61707 vhost: delete vhost scsi example
[not found] <20191023160154.27765-1-jin.yu@intel.com>
2019-10-23 8:21 ` [dpdk-test-report] |SUCCESS| pw61707 [PATCH] vhost: delete vhost scsi example checkpatch
@ 2019-10-23 16:03 ` 0-day Robot
1 sibling, 0 replies; 5+ messages in thread
From: 0-day Robot @ 2019-10-23 16:03 UTC (permalink / raw)
To: test-report; +Cc: jin.yu, robot
From: robot@bytheb.org
Test-Label: travis-robot
Test-Status: WARNING
http://dpdk.org/patch/61707
_Travis build: failed_
Build URL: https://travis-ci.com/ovsrobot/dpdk/builds/133153835
^ permalink raw reply [flat|nested] 5+ messages in thread
* [dpdk-test-report] |SUCCESS| pw61707 [PATCH] vhost: delete vhost scsi example
@ 2019-10-23 10:22 dpdklab
0 siblings, 0 replies; 5+ messages in thread
From: dpdklab @ 2019-10-23 10:22 UTC (permalink / raw)
To: Ali Alnubani, Test Report; +Cc: dpdk-test-reports
[-- Attachment #1: Type: text/plain, Size: 3900 bytes --]
Test-Label: iol-mellanox-Performance
Test-Status: SUCCESS
http://dpdk.org/patch/61707
_Performance Testing PASS_
Submitter: Jin Yu <jin.yu@intel.com>
Date: Wednesday, October 23 2019 16:01:54
DPDK git baseline: Repo:dpdk
Branch: master
CommitID:08be0e0b68a5dedb1186b19dd61706da96a9ef19
61707 --> performance testing pass
Test environment and result as below:
Ubuntu 18.04
Kernel: 4.15.0-generic
GCC: 7.4
NIC: Mellanox ConnectX-4 Lx 25000 Mbps
Target: x86_64-native-linuxapp-gcc
Fail/Total: 0/6
Detail performance results:
+------------+---------+-------------------------------------+
| frame_size | txd/rxd | throughput difference from expected |
+============+=========+=====================================+
| 64 | 256 | -0.147 |
+------------+---------+-------------------------------------+
| 128 | 256 | 0.073 |
+------------+---------+-------------------------------------+
| 256 | 256 | -0.017 |
+------------+---------+-------------------------------------+
| 512 | 256 | 0.012 |
+------------+---------+-------------------------------------+
| 1024 | 256 | -0.001 |
+------------+---------+-------------------------------------+
| 1518 | 256 | -0.004 |
+------------+---------+-------------------------------------+
Ubuntu 18.04
Kernel: 4.15.0-generic
GCC: 7.4
NIC: Mellanox ConnectX-5 100000 Mbps
Target: x86_64-native-linuxapp-gcc
Fail/Total: 0/6
Detail performance results:
+------------+---------+-------------------------------------+
| frame_size | txd/rxd | throughput difference from expected |
+============+=========+=====================================+
| 64 | 256 | -0.223 |
+------------+---------+-------------------------------------+
| 128 | 256 | 0.018 |
+------------+---------+-------------------------------------+
| 256 | 256 | -0.173 |
+------------+---------+-------------------------------------+
| 512 | 256 | -0.038 |
+------------+---------+-------------------------------------+
| 1024 | 256 | 0.025 |
+------------+---------+-------------------------------------+
| 1518 | 256 | 0.001 |
+------------+---------+-------------------------------------+
Ubuntu 18.04
Kernel: 4.15.0-generic
GCC: 7.4
NIC: Mellanox ConnectX-4 Lx 40000 Mbps
Target: x86_64-native-linuxapp-gcc
Fail/Total: 0/6
Detail performance results:
+------------+---------+-------------------------------------+
| frame_size | txd/rxd | throughput difference from expected |
+============+=========+=====================================+
| 64 | 256 | -0.164 |
+------------+---------+-------------------------------------+
| 128 | 256 | -0.855 |
+------------+---------+-------------------------------------+
| 256 | 256 | 0.086 |
+------------+---------+-------------------------------------+
| 512 | 256 | 0.002 |
+------------+---------+-------------------------------------+
| 1024 | 256 | 0.002 |
+------------+---------+-------------------------------------+
| 1518 | 256 | 0.007 |
+------------+---------+-------------------------------------+
https://lab.dpdk.org/results/dashboard/patchsets/8089/
UNH-IOL DPDK Performance Test Lab
To manage your email subscriptions visit:
https://lab.dpdk.org/results/dashboard/preferences/subscriptions/
^ permalink raw reply [flat|nested] 5+ messages in thread
* [dpdk-test-report] |SUCCESS| pw61707 [PATCH] vhost: delete vhost scsi example
@ 2019-10-23 10:15 dpdklab
0 siblings, 0 replies; 5+ messages in thread
From: dpdklab @ 2019-10-23 10:15 UTC (permalink / raw)
To: Test Report; +Cc: dpdk-test-reports
[-- Attachment #1: Type: text/plain, Size: 1320 bytes --]
Test-Label: iol-compilation
Test-Status: SUCCESS
http://dpdk.org/patch/61707
_Compile Testing PASS_
Submitter: Jin Yu <jin.yu@intel.com>
Date: Wednesday, October 23 2019 16:01:54
DPDK git baseline: Repo:dpdk
Branch: master
CommitID:08be0e0b68a5dedb1186b19dd61706da96a9ef19
61707 --> compile testing pass
Test environment and result as below:
+--------------+--------------+-------------------+------------------+
| Environment | dpdk_compile | dpdk_compile_spdk | dpdk_compile_ovs |
+==============+==============+===================+==================+
| Ubuntu 18.04 | PASS | PASS | PASS |
+--------------+--------------+-------------------+------------------+
| FreeBSD 11.2 | PASS | PASS | |
+--------------+--------------+-------------------+------------------+
| CentOS 8 | PASS | | PASS |
+--------------+--------------+-------------------+------------------+
Ubuntu 18.04
Kernel: 4.15.0-generic
GCC: 7.4
FreeBSD 11.2
Kernel: 11.2
GCC: 8.3
CentOS 8
Kernel: 4.18.0.el8_0
GCC: 8.2
https://lab.dpdk.org/results/dashboard/patchsets/8089/
UNH-IOL DPDK Performance Test Lab
To manage your email subscriptions visit:
https://lab.dpdk.org/results/dashboard/preferences/subscriptions/
^ permalink raw reply [flat|nested] 5+ messages in thread
* [dpdk-test-report] |SUCCESS| pw61707 [PATCH] vhost: delete vhost scsi example
@ 2019-10-23 9:55 dpdklab
0 siblings, 0 replies; 5+ messages in thread
From: dpdklab @ 2019-10-23 9:55 UTC (permalink / raw)
To: Test Report; +Cc: dpdk-test-reports
[-- Attachment #1: Type: text/plain, Size: 1985 bytes --]
Test-Label: iol-intel-Performance
Test-Status: SUCCESS
http://dpdk.org/patch/61707
_Performance Testing PASS_
Submitter: Jin Yu <jin.yu@intel.com>
Date: Wednesday, October 23 2019 16:01:54
DPDK git baseline: Repo:dpdk
Branch: master
CommitID:08be0e0b68a5dedb1186b19dd61706da96a9ef19
61707 --> performance testing pass
Test environment and result as below:
Ubuntu 18.04
Kernel: 4.15.0-generic
GCC: 7.4
NIC: Intel Corporation Ethernet Converged Network Adapter 82599ES 10000 Mbps
Target: x86_64-native-linuxapp-gcc
Fail/Total: 0/3
Detail performance results:
+------------+---------+-------------------------------------+
| frame_size | txd/rxd | throughput difference from expected |
+============+=========+=====================================+
| 64 | 128 | 0.152 |
+------------+---------+-------------------------------------+
| 64 | 512 | 0.059 |
+------------+---------+-------------------------------------+
| 64 | 2048 | -0.288 |
+------------+---------+-------------------------------------+
Ubuntu 18.04
Kernel: 4.15.0-generic
GCC: 7.4
NIC: Intel Corporation Ethernet Converged Network Adapter XL710-QDA2 40000 Mbps
Target: x86_64-native-linuxapp-gcc
Fail/Total: 0/2
Detail performance results:
+------------+---------+-------------------------------------+
| frame_size | txd/rxd | throughput difference from expected |
+============+=========+=====================================+
| 64 | 512 | -0.050 |
+------------+---------+-------------------------------------+
| 64 | 2048 | -0.311 |
+------------+---------+-------------------------------------+
https://lab.dpdk.org/results/dashboard/patchsets/8089/
UNH-IOL DPDK Performance Test Lab
To manage your email subscriptions visit:
https://lab.dpdk.org/results/dashboard/preferences/subscriptions/
^ permalink raw reply [flat|nested] 5+ messages in thread
end of thread, other threads:[~2019-10-23 16:05 UTC | newest]
Thread overview: 5+ messages (download: mbox.gz / follow: Atom feed)
-- links below jump to the message on this page --
[not found] <20191023160154.27765-1-jin.yu@intel.com>
2019-10-23 8:21 ` [dpdk-test-report] |SUCCESS| pw61707 [PATCH] vhost: delete vhost scsi example checkpatch
2019-10-23 16:03 ` [dpdk-test-report] |WARNING| pw61707 " 0-day Robot
2019-10-23 9:55 [dpdk-test-report] |SUCCESS| pw61707 [PATCH] " dpdklab
2019-10-23 10:15 dpdklab
2019-10-23 10:22 dpdklab
This is a public inbox, see mirroring instructions
for how to clone and mirror all data and code used for this inbox;
as well as URLs for NNTP newsgroup(s).