* [dpdk-test-report] |SUCCESS| pw62193-62194 [PATCH] [1/2] examples/l3fwd: increase number of routes
@ 2019-10-30 12:56 dpdklab
0 siblings, 0 replies; 2+ messages in thread
From: dpdklab @ 2019-10-30 12:56 UTC (permalink / raw)
To: Test Report; +Cc: dpdk-test-reports
[-- Attachment #1: Type: text/plain, Size: 1355 bytes --]
Test-Label: iol-compilation
Test-Status: SUCCESS
http://dpdk.org/patch/62193
_Compile Testing PASS_
Submitter: Pavan Nikhilesh Bhagavatula <pbhagavatula@marvell.com>
Date: Wednesday, October 30 2019 05:23:16
DPDK git baseline: Repo:dpdk
Branch: master
CommitID:19397c7bf2545e6adab41b657a1f1da3c7344e7b
62193-62194 --> compile testing pass
Test environment and result as below:
+--------------+-------------------+--------------+------------------+
| Environment | dpdk_compile_spdk | dpdk_compile | dpdk_compile_ovs |
+==============+===================+==============+==================+
| Ubuntu 18.04 | PASS | PASS | PASS |
+--------------+-------------------+--------------+------------------+
| FreeBSD 11.2 | PASS | PASS | |
+--------------+-------------------+--------------+------------------+
| CentOS 8 | | PASS | PASS |
+--------------+-------------------+--------------+------------------+
Ubuntu 18.04
Kernel: 4.15.0-generic
GCC: 7.4
FreeBSD 11.2
Kernel: 11.2
GCC: 8.3
CentOS 8
Kernel: 4.18.0.el8_0
GCC: 8.2
https://lab.dpdk.org/results/dashboard/patchsets/8233/
UNH-IOL DPDK Performance Test Lab
To manage your email subscriptions visit:
https://lab.dpdk.org/results/dashboard/preferences/subscriptions/
^ permalink raw reply [flat|nested] 2+ messages in thread
* [dpdk-test-report] |SUCCESS| pw62193-62194 [PATCH] [1/2] examples/l3fwd: increase number of routes
@ 2019-10-30 17:20 dpdklab
0 siblings, 0 replies; 2+ messages in thread
From: dpdklab @ 2019-10-30 17:20 UTC (permalink / raw)
To: Ali Alnubani, Test Report; +Cc: dpdk-test-reports
[-- Attachment #1: Type: text/plain, Size: 3935 bytes --]
Test-Label: iol-mellanox-Performance
Test-Status: SUCCESS
http://dpdk.org/patch/62193
_Performance Testing PASS_
Submitter: Pavan Nikhilesh Bhagavatula <pbhagavatula@marvell.com>
Date: Wednesday, October 30 2019 05:23:16
DPDK git baseline: Repo:dpdk
Branch: master
CommitID:19397c7bf2545e6adab41b657a1f1da3c7344e7b
62193-62194 --> performance testing pass
Test environment and result as below:
Ubuntu 18.04
Kernel: 4.15.0-generic
GCC: 7.4
NIC: Mellanox ConnectX-4 Lx 25000 Mbps
Target: x86_64-native-linuxapp-gcc
Fail/Total: 0/6
Detail performance results:
+------------+---------+-------------------------------------+
| frame_size | txd/rxd | throughput difference from expected |
+============+=========+=====================================+
| 64 | 256 | 0.101 |
+------------+---------+-------------------------------------+
| 128 | 256 | -0.125 |
+------------+---------+-------------------------------------+
| 256 | 256 | 0.018 |
+------------+---------+-------------------------------------+
| 512 | 256 | 0.023 |
+------------+---------+-------------------------------------+
| 1024 | 256 | 0.004 |
+------------+---------+-------------------------------------+
| 1518 | 256 | 0.005 |
+------------+---------+-------------------------------------+
Ubuntu 18.04
Kernel: 4.15.0-generic
GCC: 7.4
NIC: Mellanox ConnectX-5 100000 Mbps
Target: x86_64-native-linuxapp-gcc
Fail/Total: 0/6
Detail performance results:
+------------+---------+-------------------------------------+
| frame_size | txd/rxd | throughput difference from expected |
+============+=========+=====================================+
| 64 | 256 | 0.040 |
+------------+---------+-------------------------------------+
| 128 | 256 | 0.145 |
+------------+---------+-------------------------------------+
| 256 | 256 | -0.039 |
+------------+---------+-------------------------------------+
| 512 | 256 | 0.181 |
+------------+---------+-------------------------------------+
| 1024 | 256 | -0.048 |
+------------+---------+-------------------------------------+
| 1518 | 256 | 0.029 |
+------------+---------+-------------------------------------+
Ubuntu 18.04
Kernel: 4.15.0-generic
GCC: 7.4
NIC: Mellanox ConnectX-4 Lx 40000 Mbps
Target: x86_64-native-linuxapp-gcc
Fail/Total: 0/6
Detail performance results:
+------------+---------+-------------------------------------+
| frame_size | txd/rxd | throughput difference from expected |
+============+=========+=====================================+
| 64 | 256 | -0.131 |
+------------+---------+-------------------------------------+
| 128 | 256 | 0.244 |
+------------+---------+-------------------------------------+
| 256 | 256 | 0.033 |
+------------+---------+-------------------------------------+
| 512 | 256 | 0.020 |
+------------+---------+-------------------------------------+
| 1024 | 256 | -0.002 |
+------------+---------+-------------------------------------+
| 1518 | 256 | -0.002 |
+------------+---------+-------------------------------------+
https://lab.dpdk.org/results/dashboard/patchsets/8233/
UNH-IOL DPDK Performance Test Lab
To manage your email subscriptions visit:
https://lab.dpdk.org/results/dashboard/preferences/subscriptions/
^ permalink raw reply [flat|nested] 2+ messages in thread
end of thread, other threads:[~2019-10-30 17:20 UTC | newest]
Thread overview: 2+ messages (download: mbox.gz / follow: Atom feed)
-- links below jump to the message on this page --
2019-10-30 12:56 [dpdk-test-report] |SUCCESS| pw62193-62194 [PATCH] [1/2] examples/l3fwd: increase number of routes dpdklab
2019-10-30 17:20 dpdklab
This is a public inbox, see mirroring instructions
for how to clone and mirror all data and code used for this inbox;
as well as URLs for NNTP newsgroup(s).