* [dpdk-test-report] |SUCCESS| pw62303 [PATCH] net/bnx2x: fix meson build failure
@ 2019-11-01 10:11 dpdklab
0 siblings, 0 replies; 3+ messages in thread
From: dpdklab @ 2019-11-01 10:11 UTC (permalink / raw)
To: Test Report; +Cc: dpdk-test-reports
[-- Attachment #1: Type: text/plain, Size: 1989 bytes --]
Test-Label: iol-intel-Performance
Test-Status: SUCCESS
http://dpdk.org/patch/62303
_Performance Testing PASS_
Submitter: Rasesh Mody <rmody@marvell.com>
Date: Friday, November 01 2019 06:02:28
DPDK git baseline: Repo:dpdk
Branch: master
CommitID:d22cd795ec9db722505e48b5e9bc5afddbeb400e
62303 --> performance testing pass
Test environment and result as below:
Ubuntu 18.04
Kernel: 4.15.0-generic
GCC: 7.4
NIC: Intel Corporation Ethernet Converged Network Adapter 82599ES 10000 Mbps
Target: x86_64-native-linuxapp-gcc
Fail/Total: 0/3
Detail performance results:
+------------+---------+-------------------------------------+
| frame_size | txd/rxd | throughput difference from expected |
+============+=========+=====================================+
| 64 | 128 | 0.108 |
+------------+---------+-------------------------------------+
| 64 | 512 | -0.026 |
+------------+---------+-------------------------------------+
| 64 | 2048 | 0.075 |
+------------+---------+-------------------------------------+
Ubuntu 18.04
Kernel: 4.15.0-generic
GCC: 7.4
NIC: Intel Corporation Ethernet Converged Network Adapter XL710-QDA2 40000 Mbps
Target: x86_64-native-linuxapp-gcc
Fail/Total: 0/2
Detail performance results:
+------------+---------+-------------------------------------+
| frame_size | txd/rxd | throughput difference from expected |
+============+=========+=====================================+
| 64 | 512 | -0.625 |
+------------+---------+-------------------------------------+
| 64 | 2048 | -0.099 |
+------------+---------+-------------------------------------+
https://lab.dpdk.org/results/dashboard/patchsets/8279/
UNH-IOL DPDK Performance Test Lab
To manage your email subscriptions visit:
https://lab.dpdk.org/results/dashboard/preferences/subscriptions/
^ permalink raw reply [flat|nested] 3+ messages in thread
* [dpdk-test-report] |SUCCESS| pw62303 [PATCH] net/bnx2x: fix meson build failure
@ 2019-11-01 11:26 dpdklab
0 siblings, 0 replies; 3+ messages in thread
From: dpdklab @ 2019-11-01 11:26 UTC (permalink / raw)
To: Ali Alnubani, Test Report; +Cc: dpdk-test-reports
[-- Attachment #1: Type: text/plain, Size: 3904 bytes --]
Test-Label: iol-mellanox-Performance
Test-Status: SUCCESS
http://dpdk.org/patch/62303
_Performance Testing PASS_
Submitter: Rasesh Mody <rmody@marvell.com>
Date: Friday, November 01 2019 06:02:28
DPDK git baseline: Repo:dpdk
Branch: master
CommitID:d22cd795ec9db722505e48b5e9bc5afddbeb400e
62303 --> performance testing pass
Test environment and result as below:
Ubuntu 18.04
Kernel: 4.15.0-generic
GCC: 7.4
NIC: Mellanox ConnectX-4 Lx 40000 Mbps
Target: x86_64-native-linuxapp-gcc
Fail/Total: 0/6
Detail performance results:
+------------+---------+-------------------------------------+
| frame_size | txd/rxd | throughput difference from expected |
+============+=========+=====================================+
| 64 | 256 | -0.186 |
+------------+---------+-------------------------------------+
| 128 | 256 | -0.298 |
+------------+---------+-------------------------------------+
| 256 | 256 | -0.014 |
+------------+---------+-------------------------------------+
| 512 | 256 | -0.013 |
+------------+---------+-------------------------------------+
| 1024 | 256 | -0.005 |
+------------+---------+-------------------------------------+
| 1518 | 256 | 0.005 |
+------------+---------+-------------------------------------+
Ubuntu 18.04
Kernel: 4.15.0-generic
GCC: 7.4
NIC: Mellanox ConnectX-5 100000 Mbps
Target: x86_64-native-linuxapp-gcc
Fail/Total: 0/6
Detail performance results:
+------------+---------+-------------------------------------+
| frame_size | txd/rxd | throughput difference from expected |
+============+=========+=====================================+
| 64 | 256 | 0.087 |
+------------+---------+-------------------------------------+
| 128 | 256 | 0.095 |
+------------+---------+-------------------------------------+
| 256 | 256 | -0.190 |
+------------+---------+-------------------------------------+
| 512 | 256 | 0.120 |
+------------+---------+-------------------------------------+
| 1024 | 256 | 0.106 |
+------------+---------+-------------------------------------+
| 1518 | 256 | 0.033 |
+------------+---------+-------------------------------------+
Ubuntu 18.04
Kernel: 4.15.0-generic
GCC: 7.4
NIC: Mellanox ConnectX-4 Lx 25000 Mbps
Target: x86_64-native-linuxapp-gcc
Fail/Total: 0/6
Detail performance results:
+------------+---------+-------------------------------------+
| frame_size | txd/rxd | throughput difference from expected |
+============+=========+=====================================+
| 64 | 256 | 0.068 |
+------------+---------+-------------------------------------+
| 128 | 256 | -0.077 |
+------------+---------+-------------------------------------+
| 256 | 256 | -0.049 |
+------------+---------+-------------------------------------+
| 512 | 256 | 0.027 |
+------------+---------+-------------------------------------+
| 1024 | 256 | 0 |
+------------+---------+-------------------------------------+
| 1518 | 256 | 0.012 |
+------------+---------+-------------------------------------+
https://lab.dpdk.org/results/dashboard/patchsets/8279/
UNH-IOL DPDK Performance Test Lab
To manage your email subscriptions visit:
https://lab.dpdk.org/results/dashboard/preferences/subscriptions/
^ permalink raw reply [flat|nested] 3+ messages in thread
* [dpdk-test-report] |SUCCESS| pw62303 [PATCH] net/bnx2x: fix meson build failure
@ 2019-11-01 10:12 dpdklab
0 siblings, 0 replies; 3+ messages in thread
From: dpdklab @ 2019-11-01 10:12 UTC (permalink / raw)
To: Test Report; +Cc: dpdk-test-reports
[-- Attachment #1: Type: text/plain, Size: 1324 bytes --]
Test-Label: iol-compilation
Test-Status: SUCCESS
http://dpdk.org/patch/62303
_Compile Testing PASS_
Submitter: Rasesh Mody <rmody@marvell.com>
Date: Friday, November 01 2019 06:02:28
DPDK git baseline: Repo:dpdk
Branch: master
CommitID:d22cd795ec9db722505e48b5e9bc5afddbeb400e
62303 --> compile testing pass
Test environment and result as below:
+--------------+------------------+-------------------+--------------+
| Environment | dpdk_compile_ovs | dpdk_compile_spdk | dpdk_compile |
+==============+==================+===================+==============+
| Ubuntu 18.04 | PASS | PASS | PASS |
+--------------+------------------+-------------------+--------------+
| CentOS 8 | PASS | | PASS |
+--------------+------------------+-------------------+--------------+
| FreeBSD 11.2 | | PASS | PASS |
+--------------+------------------+-------------------+--------------+
Ubuntu 18.04
Kernel: 4.15.0-generic
GCC: 7.4
CentOS 8
Kernel: 4.18.0.el8_0
GCC: 8.2
FreeBSD 11.2
Kernel: 11.2
GCC: 8.3
https://lab.dpdk.org/results/dashboard/patchsets/8279/
UNH-IOL DPDK Performance Test Lab
To manage your email subscriptions visit:
https://lab.dpdk.org/results/dashboard/preferences/subscriptions/
^ permalink raw reply [flat|nested] 3+ messages in thread
end of thread, other threads:[~2019-11-01 11:26 UTC | newest]
Thread overview: 3+ messages (download: mbox.gz / follow: Atom feed)
-- links below jump to the message on this page --
2019-11-01 10:11 [dpdk-test-report] |SUCCESS| pw62303 [PATCH] net/bnx2x: fix meson build failure dpdklab
2019-11-01 10:12 dpdklab
2019-11-01 11:26 dpdklab
This is a public inbox, see mirroring instructions
for how to clone and mirror all data and code used for this inbox;
as well as URLs for NNTP newsgroup(s).