* [dpdk-test-report] |SUCCESS| pw62944 [PATCH] net/ice: fix FDIR programming status check issue
[not found] <20191113160921.90573-1-yahui.cao@intel.com>
@ 2019-11-13 8:26 ` checkpatch
2019-11-14 7:08 ` [dpdk-test-report] |SUCCESS| pw62944 " 0-day Robot
1 sibling, 0 replies; 5+ messages in thread
From: checkpatch @ 2019-11-13 8:26 UTC (permalink / raw)
To: test-report
Test-Label: checkpatch
Test-Status: SUCCESS
http://dpdk.org/patch/62944
_coding style OK_
^ permalink raw reply [flat|nested] 5+ messages in thread
* [dpdk-test-report] |SUCCESS| pw62944 net/ice: fix FDIR programming status check issue
[not found] <20191113160921.90573-1-yahui.cao@intel.com>
2019-11-13 8:26 ` [dpdk-test-report] |SUCCESS| pw62944 [PATCH] net/ice: fix FDIR programming status check issue checkpatch
@ 2019-11-14 7:08 ` 0-day Robot
1 sibling, 0 replies; 5+ messages in thread
From: 0-day Robot @ 2019-11-14 7:08 UTC (permalink / raw)
To: test-report; +Cc: robot
From: robot@bytheb.org
Test-Label: travis-robot
Test-Status: SUCCESS
http://dpdk.org/patch/62944
_Travis build: passed_
Build URL: https://travis-ci.com/ovsrobot/dpdk/builds/136286058
^ permalink raw reply [flat|nested] 5+ messages in thread
* [dpdk-test-report] |SUCCESS| pw62944 [PATCH] net/ice: fix FDIR programming status check issue
@ 2019-11-18 22:55 dpdklab
0 siblings, 0 replies; 5+ messages in thread
From: dpdklab @ 2019-11-18 22:55 UTC (permalink / raw)
To: Ali Alnubani, Test Report; +Cc: dpdk-test-reports
[-- Attachment #1: Type: text/plain, Size: 3907 bytes --]
Test-Label: iol-mellanox-Performance
Test-Status: SUCCESS
http://dpdk.org/patch/62944
_Performance Testing PASS_
Submitter: Yahui Cao <yahui.cao@intel.com>
Date: Wednesday, November 13 2019 16:09:21
DPDK git baseline: Repo:dpdk
Branch: master
CommitID:08a234788ee548796fd6b394c7e897a2bf1df1b3
62944 --> performance testing pass
Test environment and result as below:
Ubuntu 18.04
Kernel: 4.15.0-generic
GCC: 7.4
NIC: Mellanox ConnectX-4 Lx 25000 Mbps
Target: x86_64-native-linuxapp-gcc
Fail/Total: 0/6
Detail performance results:
+------------+---------+-------------------------------------+
| frame_size | txd/rxd | throughput difference from expected |
+============+=========+=====================================+
| 64 | 256 | -0.005 |
+------------+---------+-------------------------------------+
| 128 | 256 | -0.034 |
+------------+---------+-------------------------------------+
| 256 | 256 | 0.005 |
+------------+---------+-------------------------------------+
| 512 | 256 | -0.002 |
+------------+---------+-------------------------------------+
| 1024 | 256 | 0.006 |
+------------+---------+-------------------------------------+
| 1518 | 256 | 0.004 |
+------------+---------+-------------------------------------+
Ubuntu 18.04
Kernel: 4.15.0-generic
GCC: 7.4
NIC: Mellanox ConnectX-5 100000 Mbps
Target: x86_64-native-linuxapp-gcc
Fail/Total: 0/6
Detail performance results:
+------------+---------+-------------------------------------+
| frame_size | txd/rxd | throughput difference from expected |
+============+=========+=====================================+
| 64 | 256 | -0.165 |
+------------+---------+-------------------------------------+
| 128 | 256 | -0.127 |
+------------+---------+-------------------------------------+
| 256 | 256 | 0.025 |
+------------+---------+-------------------------------------+
| 512 | 256 | 0.224 |
+------------+---------+-------------------------------------+
| 1024 | 256 | 0.053 |
+------------+---------+-------------------------------------+
| 1518 | 256 | -0.013 |
+------------+---------+-------------------------------------+
Ubuntu 18.04
Kernel: 4.15.0-generic
GCC: 7.4
NIC: Mellanox ConnectX-4 Lx 40000 Mbps
Target: x86_64-native-linuxapp-gcc
Fail/Total: 0/6
Detail performance results:
+------------+---------+-------------------------------------+
| frame_size | txd/rxd | throughput difference from expected |
+============+=========+=====================================+
| 64 | 256 | 0.495 |
+------------+---------+-------------------------------------+
| 128 | 256 | 0.019 |
+------------+---------+-------------------------------------+
| 256 | 256 | 0.078 |
+------------+---------+-------------------------------------+
| 512 | 256 | 0.021 |
+------------+---------+-------------------------------------+
| 1024 | 256 | 0.002 |
+------------+---------+-------------------------------------+
| 1518 | 256 | 0.001 |
+------------+---------+-------------------------------------+
https://lab.dpdk.org/results/dashboard/patchsets/8521/
UNH-IOL DPDK Performance Test Lab
To manage your email subscriptions visit:
https://lab.dpdk.org/results/dashboard/preferences/subscriptions/
^ permalink raw reply [flat|nested] 5+ messages in thread
* [dpdk-test-report] |SUCCESS| pw62944 [PATCH] net/ice: fix FDIR programming status check issue
@ 2019-11-13 13:57 dpdklab
0 siblings, 0 replies; 5+ messages in thread
From: dpdklab @ 2019-11-13 13:57 UTC (permalink / raw)
To: Test Report; +Cc: dpdk-test-reports
[-- Attachment #1: Type: text/plain, Size: 1327 bytes --]
Test-Label: iol-compilation
Test-Status: SUCCESS
http://dpdk.org/patch/62944
_Compile Testing PASS_
Submitter: Yahui Cao <yahui.cao@intel.com>
Date: Wednesday, November 13 2019 16:09:21
DPDK git baseline: Repo:dpdk
Branch: master
CommitID:08a234788ee548796fd6b394c7e897a2bf1df1b3
62944 --> compile testing pass
Test environment and result as below:
+--------------+--------------+-------------------+------------------+
| Environment | dpdk_compile | dpdk_compile_spdk | dpdk_compile_ovs |
+==============+==============+===================+==================+
| Ubuntu 18.04 | PASS | PASS | PASS |
+--------------+--------------+-------------------+------------------+
| FreeBSD 11.2 | PASS | PASS | |
+--------------+--------------+-------------------+------------------+
| CentOS 8 | PASS | | PASS |
+--------------+--------------+-------------------+------------------+
Ubuntu 18.04
Kernel: 4.15.0-generic
GCC: 7.4
FreeBSD 11.2
Kernel: 11.2
GCC: 8.3
CentOS 8
Kernel: 4.18.0.el8_0
GCC: 8.2
https://lab.dpdk.org/results/dashboard/patchsets/8521/
UNH-IOL DPDK Performance Test Lab
To manage your email subscriptions visit:
https://lab.dpdk.org/results/dashboard/preferences/subscriptions/
^ permalink raw reply [flat|nested] 5+ messages in thread
* [dpdk-test-report] |SUCCESS| pw62944 [PATCH] net/ice: fix FDIR programming status check issue
@ 2019-11-13 13:56 dpdklab
0 siblings, 0 replies; 5+ messages in thread
From: dpdklab @ 2019-11-13 13:56 UTC (permalink / raw)
To: Test Report; +Cc: dpdk-test-reports
[-- Attachment #1: Type: text/plain, Size: 1992 bytes --]
Test-Label: iol-intel-Performance
Test-Status: SUCCESS
http://dpdk.org/patch/62944
_Performance Testing PASS_
Submitter: Yahui Cao <yahui.cao@intel.com>
Date: Wednesday, November 13 2019 16:09:21
DPDK git baseline: Repo:dpdk
Branch: master
CommitID:08a234788ee548796fd6b394c7e897a2bf1df1b3
62944 --> performance testing pass
Test environment and result as below:
Ubuntu 18.04
Kernel: 4.15.0-generic
GCC: 7.4
NIC: Intel Corporation Ethernet Converged Network Adapter 82599ES 10000 Mbps
Target: x86_64-native-linuxapp-gcc
Fail/Total: 0/3
Detail performance results:
+------------+---------+-------------------------------------+
| frame_size | txd/rxd | throughput difference from expected |
+============+=========+=====================================+
| 64 | 128 | 0.048 |
+------------+---------+-------------------------------------+
| 64 | 512 | -0.331 |
+------------+---------+-------------------------------------+
| 64 | 2048 | 0.005 |
+------------+---------+-------------------------------------+
Ubuntu 18.04
Kernel: 4.15.0-generic
GCC: 7.4
NIC: Intel Corporation Ethernet Converged Network Adapter XL710-QDA2 40000 Mbps
Target: x86_64-native-linuxapp-gcc
Fail/Total: 0/2
Detail performance results:
+------------+---------+-------------------------------------+
| frame_size | txd/rxd | throughput difference from expected |
+============+=========+=====================================+
| 64 | 512 | 0.384 |
+------------+---------+-------------------------------------+
| 64 | 2048 | 0.188 |
+------------+---------+-------------------------------------+
https://lab.dpdk.org/results/dashboard/patchsets/8521/
UNH-IOL DPDK Performance Test Lab
To manage your email subscriptions visit:
https://lab.dpdk.org/results/dashboard/preferences/subscriptions/
^ permalink raw reply [flat|nested] 5+ messages in thread
end of thread, other threads:[~2019-11-18 22:55 UTC | newest]
Thread overview: 5+ messages (download: mbox.gz / follow: Atom feed)
-- links below jump to the message on this page --
[not found] <20191113160921.90573-1-yahui.cao@intel.com>
2019-11-13 8:26 ` [dpdk-test-report] |SUCCESS| pw62944 [PATCH] net/ice: fix FDIR programming status check issue checkpatch
2019-11-14 7:08 ` [dpdk-test-report] |SUCCESS| pw62944 " 0-day Robot
2019-11-18 22:55 [dpdk-test-report] |SUCCESS| pw62944 [PATCH] " dpdklab
-- strict thread matches above, loose matches on Subject: below --
2019-11-13 13:57 dpdklab
2019-11-13 13:56 dpdklab
This is a public inbox, see mirroring instructions
for how to clone and mirror all data and code used for this inbox;
as well as URLs for NNTP newsgroup(s).