* [dpdk-test-report] |SUCCESS| pw62958 [PATCH] MAINTAINERS: resign from NFP PMD maintainer
@ 2019-11-13 14:12 dpdklab
0 siblings, 0 replies; 3+ messages in thread
From: dpdklab @ 2019-11-13 14:12 UTC (permalink / raw)
To: Test Report; +Cc: dpdk-test-reports
[-- Attachment #1: Type: text/plain, Size: 1345 bytes --]
Test-Label: iol-compilation
Test-Status: SUCCESS
http://dpdk.org/patch/62958
_Compile Testing PASS_
Submitter: Alejandro Lucero <alejandro.lucero@netronome.com>
Date: Wednesday, November 13 2019 12:47:17
DPDK git baseline: Repo:dpdk
Branch: master
CommitID:08a234788ee548796fd6b394c7e897a2bf1df1b3
62958 --> compile testing pass
Test environment and result as below:
+--------------+------------------+-------------------+--------------+
| Environment | dpdk_compile_ovs | dpdk_compile_spdk | dpdk_compile |
+==============+==================+===================+==============+
| Ubuntu 18.04 | PASS | PASS | PASS |
+--------------+------------------+-------------------+--------------+
| CentOS 8 | PASS | | PASS |
+--------------+------------------+-------------------+--------------+
| FreeBSD 11.2 | | PASS | PASS |
+--------------+------------------+-------------------+--------------+
Ubuntu 18.04
Kernel: 4.15.0-generic
GCC: 7.4
CentOS 8
Kernel: 4.18.0.el8_0
GCC: 8.2
FreeBSD 11.2
Kernel: 11.2
GCC: 8.3
https://lab.dpdk.org/results/dashboard/patchsets/8529/
UNH-IOL DPDK Performance Test Lab
To manage your email subscriptions visit:
https://lab.dpdk.org/results/dashboard/preferences/subscriptions/
^ permalink raw reply [flat|nested] 3+ messages in thread
* [dpdk-test-report] |SUCCESS| pw62958 [PATCH] MAINTAINERS: resign from NFP PMD maintainer
@ 2019-11-13 14:10 dpdklab
0 siblings, 0 replies; 3+ messages in thread
From: dpdklab @ 2019-11-13 14:10 UTC (permalink / raw)
To: Test Report; +Cc: dpdk-test-reports
[-- Attachment #1: Type: text/plain, Size: 2010 bytes --]
Test-Label: iol-intel-Performance
Test-Status: SUCCESS
http://dpdk.org/patch/62958
_Performance Testing PASS_
Submitter: Alejandro Lucero <alejandro.lucero@netronome.com>
Date: Wednesday, November 13 2019 12:47:17
DPDK git baseline: Repo:dpdk
Branch: master
CommitID:08a234788ee548796fd6b394c7e897a2bf1df1b3
62958 --> performance testing pass
Test environment and result as below:
Ubuntu 18.04
Kernel: 4.15.0-generic
GCC: 7.4
NIC: Intel Corporation Ethernet Converged Network Adapter 82599ES 10000 Mbps
Target: x86_64-native-linuxapp-gcc
Fail/Total: 0/3
Detail performance results:
+------------+---------+-------------------------------------+
| frame_size | txd/rxd | throughput difference from expected |
+============+=========+=====================================+
| 64 | 128 | 0.046 |
+------------+---------+-------------------------------------+
| 64 | 512 | -0.573 |
+------------+---------+-------------------------------------+
| 64 | 2048 | 0.506 |
+------------+---------+-------------------------------------+
Ubuntu 18.04
Kernel: 4.15.0-generic
GCC: 7.4
NIC: Intel Corporation Ethernet Converged Network Adapter XL710-QDA2 40000 Mbps
Target: x86_64-native-linuxapp-gcc
Fail/Total: 0/2
Detail performance results:
+------------+---------+-------------------------------------+
| frame_size | txd/rxd | throughput difference from expected |
+============+=========+=====================================+
| 64 | 512 | 0.173 |
+------------+---------+-------------------------------------+
| 64 | 2048 | -0.061 |
+------------+---------+-------------------------------------+
https://lab.dpdk.org/results/dashboard/patchsets/8529/
UNH-IOL DPDK Performance Test Lab
To manage your email subscriptions visit:
https://lab.dpdk.org/results/dashboard/preferences/subscriptions/
^ permalink raw reply [flat|nested] 3+ messages in thread
* [dpdk-test-report] |SUCCESS| pw62958 [PATCH] MAINTAINERS: resign from NFP PMD maintainer
[not found] <20191113124717.22542-1-alejandro.lucero@netronome.com>
@ 2019-11-13 12:47 ` checkpatch
0 siblings, 0 replies; 3+ messages in thread
From: checkpatch @ 2019-11-13 12:47 UTC (permalink / raw)
To: test-report
Test-Label: checkpatch
Test-Status: SUCCESS
http://dpdk.org/patch/62958
_coding style OK_
^ permalink raw reply [flat|nested] 3+ messages in thread
end of thread, other threads:[~2019-11-13 14:12 UTC | newest]
Thread overview: 3+ messages (download: mbox.gz / follow: Atom feed)
-- links below jump to the message on this page --
2019-11-13 14:12 [dpdk-test-report] |SUCCESS| pw62958 [PATCH] MAINTAINERS: resign from NFP PMD maintainer dpdklab
-- strict thread matches above, loose matches on Subject: below --
2019-11-13 14:10 dpdklab
[not found] <20191113124717.22542-1-alejandro.lucero@netronome.com>
2019-11-13 12:47 ` checkpatch
This is a public inbox, see mirroring instructions
for how to clone and mirror all data and code used for this inbox;
as well as URLs for NNTP newsgroup(s).