Test-Label: checkpatch Test-Status: SUCCESS http://dpdk.org/patch/62970 _coding style OK_
[-- Attachment #1: Type: text/plain, Size: 2008 bytes --] Test-Label: iol-intel-Performance Test-Status: SUCCESS http://dpdk.org/patch/62970 _Performance Testing PASS_ Submitter: Viacheslav Ovsiienko <viacheslavo@mellanox.com> Date: Wednesday, November 13 2019 16:24:50 DPDK git baseline: Repo:dpdk Branch: master CommitID:08a234788ee548796fd6b394c7e897a2bf1df1b3 62970 --> performance testing pass Test environment and result as below: Ubuntu 18.04 Kernel: 4.15.0-generic GCC: 7.4 NIC: Intel Corporation Ethernet Converged Network Adapter 82599ES 10000 Mbps Target: x86_64-native-linuxapp-gcc Fail/Total: 0/3 Detail performance results: +------------+---------+-------------------------------------+ | frame_size | txd/rxd | throughput difference from expected | +============+=========+=====================================+ | 64 | 128 | 0.071 | +------------+---------+-------------------------------------+ | 64 | 512 | -0.328 | +------------+---------+-------------------------------------+ | 64 | 2048 | -0.047 | +------------+---------+-------------------------------------+ Ubuntu 18.04 Kernel: 4.15.0-generic GCC: 7.4 NIC: Intel Corporation Ethernet Converged Network Adapter XL710-QDA2 40000 Mbps Target: x86_64-native-linuxapp-gcc Fail/Total: 0/2 Detail performance results: +------------+---------+-------------------------------------+ | frame_size | txd/rxd | throughput difference from expected | +============+=========+=====================================+ | 64 | 512 | -0.004 | +------------+---------+-------------------------------------+ | 64 | 2048 | 0.148 | +------------+---------+-------------------------------------+ https://lab.dpdk.org/results/dashboard/patchsets/8533/ UNH-IOL DPDK Performance Test Lab To manage your email subscriptions visit: https://lab.dpdk.org/results/dashboard/preferences/subscriptions/
[-- Attachment #1: Type: text/plain, Size: 1343 bytes --] Test-Label: iol-compilation Test-Status: SUCCESS http://dpdk.org/patch/62970 _Compile Testing PASS_ Submitter: Viacheslav Ovsiienko <viacheslavo@mellanox.com> Date: Wednesday, November 13 2019 16:24:50 DPDK git baseline: Repo:dpdk Branch: master CommitID:08a234788ee548796fd6b394c7e897a2bf1df1b3 62970 --> compile testing pass Test environment and result as below: +--------------+--------------+------------------+-------------------+ | Environment | dpdk_compile | dpdk_compile_ovs | dpdk_compile_spdk | +==============+==============+==================+===================+ | Ubuntu 18.04 | PASS | PASS | PASS | +--------------+--------------+------------------+-------------------+ | FreeBSD 11.2 | PASS | | PASS | +--------------+--------------+------------------+-------------------+ | CentOS 8 | PASS | PASS | | +--------------+--------------+------------------+-------------------+ Ubuntu 18.04 Kernel: 4.15.0-generic GCC: 7.4 FreeBSD 11.2 Kernel: 11.2 GCC: 8.3 CentOS 8 Kernel: 4.18.0.el8_0 GCC: 8.2 https://lab.dpdk.org/results/dashboard/patchsets/8533/ UNH-IOL DPDK Performance Test Lab To manage your email subscriptions visit: https://lab.dpdk.org/results/dashboard/preferences/subscriptions/
From: robot@bytheb.org Test-Label: travis-robot Test-Status: SUCCESS http://dpdk.org/patch/62970 _Travis build: passed_ Build URL: https://travis-ci.com/ovsrobot/dpdk/builds/136372114
[-- Attachment #1: Type: text/plain, Size: 3923 bytes --] Test-Label: iol-mellanox-Performance Test-Status: SUCCESS http://dpdk.org/patch/62970 _Performance Testing PASS_ Submitter: Viacheslav Ovsiienko <viacheslavo@mellanox.com> Date: Wednesday, November 13 2019 16:24:50 DPDK git baseline: Repo:dpdk Branch: master CommitID:08a234788ee548796fd6b394c7e897a2bf1df1b3 62970 --> performance testing pass Test environment and result as below: Ubuntu 18.04 Kernel: 4.15.0-generic GCC: 7.4 NIC: Mellanox ConnectX-4 Lx 40000 Mbps Target: x86_64-native-linuxapp-gcc Fail/Total: 0/6 Detail performance results: +------------+---------+-------------------------------------+ | frame_size | txd/rxd | throughput difference from expected | +============+=========+=====================================+ | 64 | 256 | -0.209 | +------------+---------+-------------------------------------+ | 128 | 256 | -0.444 | +------------+---------+-------------------------------------+ | 256 | 256 | 0.061 | +------------+---------+-------------------------------------+ | 512 | 256 | 0.027 | +------------+---------+-------------------------------------+ | 1024 | 256 | -0.001 | +------------+---------+-------------------------------------+ | 1518 | 256 | -0.012 | +------------+---------+-------------------------------------+ Ubuntu 18.04 Kernel: 4.15.0-generic GCC: 7.4 NIC: Mellanox ConnectX-5 100000 Mbps Target: x86_64-native-linuxapp-gcc Fail/Total: 0/6 Detail performance results: +------------+---------+-------------------------------------+ | frame_size | txd/rxd | throughput difference from expected | +============+=========+=====================================+ | 64 | 256 | 0.259 | +------------+---------+-------------------------------------+ | 128 | 256 | -0.110 | +------------+---------+-------------------------------------+ | 256 | 256 | 0.122 | +------------+---------+-------------------------------------+ | 512 | 256 | -0.019 | +------------+---------+-------------------------------------+ | 1024 | 256 | 0.022 | +------------+---------+-------------------------------------+ | 1518 | 256 | 0.012 | +------------+---------+-------------------------------------+ Ubuntu 18.04 Kernel: 4.15.0-generic GCC: 7.4 NIC: Mellanox ConnectX-4 Lx 25000 Mbps Target: x86_64-native-linuxapp-gcc Fail/Total: 0/6 Detail performance results: +------------+---------+-------------------------------------+ | frame_size | txd/rxd | throughput difference from expected | +============+=========+=====================================+ | 64 | 256 | 0.021 | +------------+---------+-------------------------------------+ | 128 | 256 | -0.038 | +------------+---------+-------------------------------------+ | 256 | 256 | -0.006 | +------------+---------+-------------------------------------+ | 512 | 256 | 0.014 | +------------+---------+-------------------------------------+ | 1024 | 256 | 0.015 | +------------+---------+-------------------------------------+ | 1518 | 256 | 0.009 | +------------+---------+-------------------------------------+ https://lab.dpdk.org/results/dashboard/patchsets/8533/ UNH-IOL DPDK Performance Test Lab To manage your email subscriptions visit: https://lab.dpdk.org/results/dashboard/preferences/subscriptions/