* [dpdk-test-report] |SUCCESS| pw62968-62969 [PATCH] [v2, 1/2] lib: fix log typos
@ 2019-11-13 16:53 dpdklab
0 siblings, 0 replies; 3+ messages in thread
From: dpdklab @ 2019-11-13 16:53 UTC (permalink / raw)
To: Test Report; +Cc: dpdk-test-reports
[-- Attachment #1: Type: text/plain, Size: 1337 bytes --]
Test-Label: iol-compilation
Test-Status: SUCCESS
http://dpdk.org/patch/62968
_Compile Testing PASS_
Submitter: Kevin Traynor <ktraynor@redhat.com>
Date: Wednesday, November 13 2019 16:10:14
DPDK git baseline: Repo:dpdk
Branch: master
CommitID:08a234788ee548796fd6b394c7e897a2bf1df1b3
62968-62969 --> compile testing pass
Test environment and result as below:
+--------------+-------------------+--------------+------------------+
| Environment | dpdk_compile_spdk | dpdk_compile | dpdk_compile_ovs |
+==============+===================+==============+==================+
| Ubuntu 18.04 | PASS | PASS | PASS |
+--------------+-------------------+--------------+------------------+
| FreeBSD 11.2 | PASS | PASS | |
+--------------+-------------------+--------------+------------------+
| CentOS 8 | | PASS | PASS |
+--------------+-------------------+--------------+------------------+
Ubuntu 18.04
Kernel: 4.15.0-generic
GCC: 7.4
FreeBSD 11.2
Kernel: 11.2
GCC: 8.3
CentOS 8
Kernel: 4.18.0.el8_0
GCC: 8.2
https://lab.dpdk.org/results/dashboard/patchsets/8532/
UNH-IOL DPDK Performance Test Lab
To manage your email subscriptions visit:
https://lab.dpdk.org/results/dashboard/preferences/subscriptions/
^ permalink raw reply [flat|nested] 3+ messages in thread
* [dpdk-test-report] |SUCCESS| pw62968-62969 [PATCH] [v2, 1/2] lib: fix log typos
@ 2019-11-16 0:52 dpdklab
0 siblings, 0 replies; 3+ messages in thread
From: dpdklab @ 2019-11-16 0:52 UTC (permalink / raw)
To: Ali Alnubani, Test Report; +Cc: dpdk-test-reports
[-- Attachment #1: Type: text/plain, Size: 3917 bytes --]
Test-Label: iol-mellanox-Performance
Test-Status: SUCCESS
http://dpdk.org/patch/62968
_Performance Testing PASS_
Submitter: Kevin Traynor <ktraynor@redhat.com>
Date: Wednesday, November 13 2019 16:10:14
DPDK git baseline: Repo:dpdk
Branch: master
CommitID:08a234788ee548796fd6b394c7e897a2bf1df1b3
62968-62969 --> performance testing pass
Test environment and result as below:
Ubuntu 18.04
Kernel: 4.15.0-generic
GCC: 7.4
NIC: Mellanox ConnectX-4 Lx 40000 Mbps
Target: x86_64-native-linuxapp-gcc
Fail/Total: 0/6
Detail performance results:
+------------+---------+-------------------------------------+
| frame_size | txd/rxd | throughput difference from expected |
+============+=========+=====================================+
| 64 | 256 | -0.128 |
+------------+---------+-------------------------------------+
| 128 | 256 | -0.022 |
+------------+---------+-------------------------------------+
| 256 | 256 | 0.070 |
+------------+---------+-------------------------------------+
| 512 | 256 | 0.067 |
+------------+---------+-------------------------------------+
| 1024 | 256 | 0.001 |
+------------+---------+-------------------------------------+
| 1518 | 256 | -0.015 |
+------------+---------+-------------------------------------+
Ubuntu 18.04
Kernel: 4.15.0-generic
GCC: 7.4
NIC: Mellanox ConnectX-4 Lx 25000 Mbps
Target: x86_64-native-linuxapp-gcc
Fail/Total: 0/6
Detail performance results:
+------------+---------+-------------------------------------+
| frame_size | txd/rxd | throughput difference from expected |
+============+=========+=====================================+
| 64 | 256 | 0.155 |
+------------+---------+-------------------------------------+
| 128 | 256 | 0.172 |
+------------+---------+-------------------------------------+
| 256 | 256 | 0.002 |
+------------+---------+-------------------------------------+
| 512 | 256 | -0.015 |
+------------+---------+-------------------------------------+
| 1024 | 256 | 0.002 |
+------------+---------+-------------------------------------+
| 1518 | 256 | 0.009 |
+------------+---------+-------------------------------------+
Ubuntu 18.04
Kernel: 4.15.0-generic
GCC: 7.4
NIC: Mellanox ConnectX-5 100000 Mbps
Target: x86_64-native-linuxapp-gcc
Fail/Total: 0/6
Detail performance results:
+------------+---------+-------------------------------------+
| frame_size | txd/rxd | throughput difference from expected |
+============+=========+=====================================+
| 64 | 256 | 0.216 |
+------------+---------+-------------------------------------+
| 128 | 256 | -0.162 |
+------------+---------+-------------------------------------+
| 256 | 256 | 0.038 |
+------------+---------+-------------------------------------+
| 512 | 256 | 0.280 |
+------------+---------+-------------------------------------+
| 1024 | 256 | -0.001 |
+------------+---------+-------------------------------------+
| 1518 | 256 | 0.045 |
+------------+---------+-------------------------------------+
https://lab.dpdk.org/results/dashboard/patchsets/8532/
UNH-IOL DPDK Performance Test Lab
To manage your email subscriptions visit:
https://lab.dpdk.org/results/dashboard/preferences/subscriptions/
^ permalink raw reply [flat|nested] 3+ messages in thread
* [dpdk-test-report] |SUCCESS| pw62968-62969 [PATCH] [v2, 1/2] lib: fix log typos
@ 2019-11-13 16:45 dpdklab
0 siblings, 0 replies; 3+ messages in thread
From: dpdklab @ 2019-11-13 16:45 UTC (permalink / raw)
To: Test Report; +Cc: dpdk-test-reports
[-- Attachment #1: Type: text/plain, Size: 2002 bytes --]
Test-Label: iol-intel-Performance
Test-Status: SUCCESS
http://dpdk.org/patch/62968
_Performance Testing PASS_
Submitter: Kevin Traynor <ktraynor@redhat.com>
Date: Wednesday, November 13 2019 16:10:14
DPDK git baseline: Repo:dpdk
Branch: master
CommitID:08a234788ee548796fd6b394c7e897a2bf1df1b3
62968-62969 --> performance testing pass
Test environment and result as below:
Ubuntu 18.04
Kernel: 4.15.0-generic
GCC: 7.4
NIC: Intel Corporation Ethernet Converged Network Adapter 82599ES 10000 Mbps
Target: x86_64-native-linuxapp-gcc
Fail/Total: 0/3
Detail performance results:
+------------+---------+-------------------------------------+
| frame_size | txd/rxd | throughput difference from expected |
+============+=========+=====================================+
| 64 | 128 | 0.067 |
+------------+---------+-------------------------------------+
| 64 | 512 | -0.431 |
+------------+---------+-------------------------------------+
| 64 | 2048 | 0.209 |
+------------+---------+-------------------------------------+
Ubuntu 18.04
Kernel: 4.15.0-generic
GCC: 7.4
NIC: Intel Corporation Ethernet Converged Network Adapter XL710-QDA2 40000 Mbps
Target: x86_64-native-linuxapp-gcc
Fail/Total: 0/2
Detail performance results:
+------------+---------+-------------------------------------+
| frame_size | txd/rxd | throughput difference from expected |
+============+=========+=====================================+
| 64 | 512 | 0.054 |
+------------+---------+-------------------------------------+
| 64 | 2048 | 0.124 |
+------------+---------+-------------------------------------+
https://lab.dpdk.org/results/dashboard/patchsets/8532/
UNH-IOL DPDK Performance Test Lab
To manage your email subscriptions visit:
https://lab.dpdk.org/results/dashboard/preferences/subscriptions/
^ permalink raw reply [flat|nested] 3+ messages in thread
end of thread, other threads:[~2019-11-16 0:53 UTC | newest]
Thread overview: 3+ messages (download: mbox.gz / follow: Atom feed)
-- links below jump to the message on this page --
2019-11-13 16:53 [dpdk-test-report] |SUCCESS| pw62968-62969 [PATCH] [v2, 1/2] lib: fix log typos dpdklab
-- strict thread matches above, loose matches on Subject: below --
2019-11-16 0:52 dpdklab
2019-11-13 16:45 dpdklab
This is a public inbox, see mirroring instructions
for how to clone and mirror all data and code used for this inbox;
as well as URLs for NNTP newsgroup(s).