* [dpdk-test-report] |SUCCESS| pw62975 [PATCH] net/ice: fix missing spdx license identifier
@ 2019-11-15 0:58 dpdklab
0 siblings, 0 replies; 4+ messages in thread
From: dpdklab @ 2019-11-15 0:58 UTC (permalink / raw)
To: Ali Alnubani, Test Report; +Cc: dpdk-test-reports
[-- Attachment #1: Type: text/plain, Size: 3906 bytes --]
Test-Label: iol-mellanox-Performance
Test-Status: SUCCESS
http://dpdk.org/patch/62975
_Performance Testing PASS_
Submitter: Yahui Cao <yahui.cao@intel.com>
Date: Thursday, November 14 2019 14:16:12
DPDK git baseline: Repo:dpdk
Branch: master
CommitID:08a234788ee548796fd6b394c7e897a2bf1df1b3
62975 --> performance testing pass
Test environment and result as below:
Ubuntu 18.04
Kernel: 4.15.0-generic
GCC: 7.4
NIC: Mellanox ConnectX-5 100000 Mbps
Target: x86_64-native-linuxapp-gcc
Fail/Total: 0/6
Detail performance results:
+------------+---------+-------------------------------------+
| frame_size | txd/rxd | throughput difference from expected |
+============+=========+=====================================+
| 64 | 256 | 0.020 |
+------------+---------+-------------------------------------+
| 128 | 256 | 0.106 |
+------------+---------+-------------------------------------+
| 256 | 256 | 0.047 |
+------------+---------+-------------------------------------+
| 512 | 256 | -0.016 |
+------------+---------+-------------------------------------+
| 1024 | 256 | 0.064 |
+------------+---------+-------------------------------------+
| 1518 | 256 | -0.003 |
+------------+---------+-------------------------------------+
Ubuntu 18.04
Kernel: 4.15.0-generic
GCC: 7.4
NIC: Mellanox ConnectX-4 Lx 25000 Mbps
Target: x86_64-native-linuxapp-gcc
Fail/Total: 0/6
Detail performance results:
+------------+---------+-------------------------------------+
| frame_size | txd/rxd | throughput difference from expected |
+============+=========+=====================================+
| 64 | 256 | -0.029 |
+------------+---------+-------------------------------------+
| 128 | 256 | 0.028 |
+------------+---------+-------------------------------------+
| 256 | 256 | 0.017 |
+------------+---------+-------------------------------------+
| 512 | 256 | -0.007 |
+------------+---------+-------------------------------------+
| 1024 | 256 | 0.001 |
+------------+---------+-------------------------------------+
| 1518 | 256 | 0.001 |
+------------+---------+-------------------------------------+
Ubuntu 18.04
Kernel: 4.15.0-generic
GCC: 7.4
NIC: Mellanox ConnectX-4 Lx 40000 Mbps
Target: x86_64-native-linuxapp-gcc
Fail/Total: 0/6
Detail performance results:
+------------+---------+-------------------------------------+
| frame_size | txd/rxd | throughput difference from expected |
+============+=========+=====================================+
| 64 | 256 | -0.213 |
+------------+---------+-------------------------------------+
| 128 | 256 | 0.107 |
+------------+---------+-------------------------------------+
| 256 | 256 | -0.082 |
+------------+---------+-------------------------------------+
| 512 | 256 | 0 |
+------------+---------+-------------------------------------+
| 1024 | 256 | -0.001 |
+------------+---------+-------------------------------------+
| 1518 | 256 | -0.002 |
+------------+---------+-------------------------------------+
https://lab.dpdk.org/results/dashboard/patchsets/8537/
UNH-IOL DPDK Performance Test Lab
To manage your email subscriptions visit:
https://lab.dpdk.org/results/dashboard/preferences/subscriptions/
^ permalink raw reply [flat|nested] 4+ messages in thread
* [dpdk-test-report] |SUCCESS| pw62975 [PATCH] net/ice: fix missing spdx license identifier
@ 2019-11-14 20:24 dpdklab
0 siblings, 0 replies; 4+ messages in thread
From: dpdklab @ 2019-11-14 20:24 UTC (permalink / raw)
To: Test Report; +Cc: dpdk-test-reports
[-- Attachment #1: Type: text/plain, Size: 1326 bytes --]
Test-Label: iol-compilation
Test-Status: SUCCESS
http://dpdk.org/patch/62975
_Compile Testing PASS_
Submitter: Yahui Cao <yahui.cao@intel.com>
Date: Thursday, November 14 2019 14:16:12
DPDK git baseline: Repo:dpdk
Branch: master
CommitID:08a234788ee548796fd6b394c7e897a2bf1df1b3
62975 --> compile testing pass
Test environment and result as below:
+--------------+------------------+-------------------+--------------+
| Environment | dpdk_compile_ovs | dpdk_compile_spdk | dpdk_compile |
+==============+==================+===================+==============+
| Ubuntu 18.04 | PASS | PASS | PASS |
+--------------+------------------+-------------------+--------------+
| CentOS 8 | PASS | | PASS |
+--------------+------------------+-------------------+--------------+
| FreeBSD 11.2 | | PASS | PASS |
+--------------+------------------+-------------------+--------------+
Ubuntu 18.04
Kernel: 4.15.0-generic
GCC: 7.4
CentOS 8
Kernel: 4.18.0.el8_0
GCC: 8.2
FreeBSD 11.2
Kernel: 11.2
GCC: 8.3
https://lab.dpdk.org/results/dashboard/patchsets/8537/
UNH-IOL DPDK Performance Test Lab
To manage your email subscriptions visit:
https://lab.dpdk.org/results/dashboard/preferences/subscriptions/
^ permalink raw reply [flat|nested] 4+ messages in thread
* [dpdk-test-report] |SUCCESS| pw62975 [PATCH] net/ice: fix missing spdx license identifier
@ 2019-11-14 20:18 dpdklab
0 siblings, 0 replies; 4+ messages in thread
From: dpdklab @ 2019-11-14 20:18 UTC (permalink / raw)
To: Test Report; +Cc: dpdk-test-reports
[-- Attachment #1: Type: text/plain, Size: 1991 bytes --]
Test-Label: iol-intel-Performance
Test-Status: SUCCESS
http://dpdk.org/patch/62975
_Performance Testing PASS_
Submitter: Yahui Cao <yahui.cao@intel.com>
Date: Thursday, November 14 2019 14:16:12
DPDK git baseline: Repo:dpdk
Branch: master
CommitID:08a234788ee548796fd6b394c7e897a2bf1df1b3
62975 --> performance testing pass
Test environment and result as below:
Ubuntu 18.04
Kernel: 4.15.0-generic
GCC: 7.4
NIC: Intel Corporation Ethernet Converged Network Adapter 82599ES 10000 Mbps
Target: x86_64-native-linuxapp-gcc
Fail/Total: 0/3
Detail performance results:
+------------+---------+-------------------------------------+
| frame_size | txd/rxd | throughput difference from expected |
+============+=========+=====================================+
| 64 | 128 | 0.158 |
+------------+---------+-------------------------------------+
| 64 | 512 | -0.291 |
+------------+---------+-------------------------------------+
| 64 | 2048 | -0.004 |
+------------+---------+-------------------------------------+
Ubuntu 18.04
Kernel: 4.15.0-generic
GCC: 7.4
NIC: Intel Corporation Ethernet Converged Network Adapter XL710-QDA2 40000 Mbps
Target: x86_64-native-linuxapp-gcc
Fail/Total: 0/2
Detail performance results:
+------------+---------+-------------------------------------+
| frame_size | txd/rxd | throughput difference from expected |
+============+=========+=====================================+
| 64 | 512 | 0.038 |
+------------+---------+-------------------------------------+
| 64 | 2048 | 0.245 |
+------------+---------+-------------------------------------+
https://lab.dpdk.org/results/dashboard/patchsets/8537/
UNH-IOL DPDK Performance Test Lab
To manage your email subscriptions visit:
https://lab.dpdk.org/results/dashboard/preferences/subscriptions/
^ permalink raw reply [flat|nested] 4+ messages in thread
* [dpdk-test-report] |SUCCESS| pw62975 [PATCH] net/ice: fix missing spdx license identifier
[not found] <20191114141612.96378-1-yahui.cao@intel.com>
@ 2019-11-14 6:32 ` checkpatch
0 siblings, 0 replies; 4+ messages in thread
From: checkpatch @ 2019-11-14 6:32 UTC (permalink / raw)
To: test-report
Test-Label: checkpatch
Test-Status: SUCCESS
http://dpdk.org/patch/62975
_coding style OK_
^ permalink raw reply [flat|nested] 4+ messages in thread
end of thread, other threads:[~2019-11-15 0:58 UTC | newest]
Thread overview: 4+ messages (download: mbox.gz / follow: Atom feed)
-- links below jump to the message on this page --
2019-11-15 0:58 [dpdk-test-report] |SUCCESS| pw62975 [PATCH] net/ice: fix missing spdx license identifier dpdklab
-- strict thread matches above, loose matches on Subject: below --
2019-11-14 20:24 dpdklab
2019-11-14 20:18 dpdklab
[not found] <20191114141612.96378-1-yahui.cao@intel.com>
2019-11-14 6:32 ` checkpatch
This is a public inbox, see mirroring instructions
for how to clone and mirror all data and code used for this inbox;
as well as URLs for NNTP newsgroup(s).