* [dpdk-test-report] |SUCCESS| pw63043 [PATCH v2] mk: add support for UBSAN
[not found] <1573829661-16290-1-git-send-email-hkalra@marvell.com>
@ 2019-11-15 14:55 ` checkpatch
2019-11-16 18:08 ` [dpdk-test-report] |SUCCESS| pw63043 " 0-day Robot
1 sibling, 0 replies; 5+ messages in thread
From: checkpatch @ 2019-11-15 14:55 UTC (permalink / raw)
To: test-report
Test-Label: checkpatch
Test-Status: SUCCESS
http://dpdk.org/patch/63043
_coding style OK_
^ permalink raw reply [flat|nested] 5+ messages in thread
* [dpdk-test-report] |SUCCESS| pw63043 mk: add support for UBSAN
[not found] <1573829661-16290-1-git-send-email-hkalra@marvell.com>
2019-11-15 14:55 ` [dpdk-test-report] |SUCCESS| pw63043 [PATCH v2] mk: add support for UBSAN checkpatch
@ 2019-11-16 18:08 ` 0-day Robot
1 sibling, 0 replies; 5+ messages in thread
From: 0-day Robot @ 2019-11-16 18:08 UTC (permalink / raw)
To: test-report; +Cc: robot
From: robot@bytheb.org
Test-Label: travis-robot
Test-Status: SUCCESS
http://dpdk.org/patch/63043
_Travis build: passed_
Build URL: https://travis-ci.com/ovsrobot/dpdk/builds/136727197
^ permalink raw reply [flat|nested] 5+ messages in thread
* [dpdk-test-report] |SUCCESS| pw63043 [PATCH] [v2] mk: add support for UBSAN
@ 2019-11-15 15:55 dpdklab
0 siblings, 0 replies; 5+ messages in thread
From: dpdklab @ 2019-11-15 15:55 UTC (permalink / raw)
To: Ali Alnubani, Test Report; +Cc: dpdk-test-reports
[-- Attachment #1: Type: text/plain, Size: 3906 bytes --]
Test-Label: iol-mellanox-Performance
Test-Status: SUCCESS
http://dpdk.org/patch/63043
_Performance Testing PASS_
Submitter: Harman Kalra <hkalra@marvell.com>
Date: Friday, November 15 2019 14:54:44
DPDK git baseline: Repo:dpdk
Branch: master
CommitID:08a234788ee548796fd6b394c7e897a2bf1df1b3
63043 --> performance testing pass
Test environment and result as below:
Ubuntu 18.04
Kernel: 4.15.0-generic
GCC: 7.4
NIC: Mellanox ConnectX-5 100000 Mbps
Target: x86_64-native-linuxapp-gcc
Fail/Total: 0/6
Detail performance results:
+------------+---------+-------------------------------------+
| frame_size | txd/rxd | throughput difference from expected |
+============+=========+=====================================+
| 64 | 256 | -0.047 |
+------------+---------+-------------------------------------+
| 128 | 256 | 0.302 |
+------------+---------+-------------------------------------+
| 256 | 256 | -0.075 |
+------------+---------+-------------------------------------+
| 512 | 256 | -0.066 |
+------------+---------+-------------------------------------+
| 1024 | 256 | 0 |
+------------+---------+-------------------------------------+
| 1518 | 256 | 0.005 |
+------------+---------+-------------------------------------+
Ubuntu 18.04
Kernel: 4.15.0-generic
GCC: 7.4
NIC: Mellanox ConnectX-4 Lx 40000 Mbps
Target: x86_64-native-linuxapp-gcc
Fail/Total: 0/6
Detail performance results:
+------------+---------+-------------------------------------+
| frame_size | txd/rxd | throughput difference from expected |
+============+=========+=====================================+
| 64 | 256 | 0.162 |
+------------+---------+-------------------------------------+
| 128 | 256 | 0.451 |
+------------+---------+-------------------------------------+
| 256 | 256 | -0.020 |
+------------+---------+-------------------------------------+
| 512 | 256 | 0.020 |
+------------+---------+-------------------------------------+
| 1024 | 256 | -0.007 |
+------------+---------+-------------------------------------+
| 1518 | 256 | 0.002 |
+------------+---------+-------------------------------------+
Ubuntu 18.04
Kernel: 4.15.0-generic
GCC: 7.4
NIC: Mellanox ConnectX-4 Lx 25000 Mbps
Target: x86_64-native-linuxapp-gcc
Fail/Total: 0/6
Detail performance results:
+------------+---------+-------------------------------------+
| frame_size | txd/rxd | throughput difference from expected |
+============+=========+=====================================+
| 64 | 256 | -0.029 |
+------------+---------+-------------------------------------+
| 128 | 256 | 0.008 |
+------------+---------+-------------------------------------+
| 256 | 256 | 0.005 |
+------------+---------+-------------------------------------+
| 512 | 256 | 0.020 |
+------------+---------+-------------------------------------+
| 1024 | 256 | -0.004 |
+------------+---------+-------------------------------------+
| 1518 | 256 | 0.006 |
+------------+---------+-------------------------------------+
https://lab.dpdk.org/results/dashboard/patchsets/8562/
UNH-IOL DPDK Performance Test Lab
To manage your email subscriptions visit:
https://lab.dpdk.org/results/dashboard/preferences/subscriptions/
^ permalink raw reply [flat|nested] 5+ messages in thread
* [dpdk-test-report] |SUCCESS| pw63043 [PATCH] [v2] mk: add support for UBSAN
@ 2019-11-15 15:28 dpdklab
0 siblings, 0 replies; 5+ messages in thread
From: dpdklab @ 2019-11-15 15:28 UTC (permalink / raw)
To: Test Report; +Cc: dpdk-test-reports
[-- Attachment #1: Type: text/plain, Size: 1326 bytes --]
Test-Label: iol-compilation
Test-Status: SUCCESS
http://dpdk.org/patch/63043
_Compile Testing PASS_
Submitter: Harman Kalra <hkalra@marvell.com>
Date: Friday, November 15 2019 14:54:44
DPDK git baseline: Repo:dpdk
Branch: master
CommitID:08a234788ee548796fd6b394c7e897a2bf1df1b3
63043 --> compile testing pass
Test environment and result as below:
+--------------+-------------------+------------------+--------------+
| Environment | dpdk_compile_spdk | dpdk_compile_ovs | dpdk_compile |
+==============+===================+==================+==============+
| Ubuntu 18.04 | PASS | PASS | PASS |
+--------------+-------------------+------------------+--------------+
| FreeBSD 11.2 | PASS | | PASS |
+--------------+-------------------+------------------+--------------+
| CentOS 8 | | PASS | PASS |
+--------------+-------------------+------------------+--------------+
Ubuntu 18.04
Kernel: 4.15.0-generic
GCC: 7.4
FreeBSD 11.2
Kernel: 11.2
GCC: 8.3
CentOS 8
Kernel: 4.18.0.el8_0
GCC: 8.2
https://lab.dpdk.org/results/dashboard/patchsets/8562/
UNH-IOL DPDK Performance Test Lab
To manage your email subscriptions visit:
https://lab.dpdk.org/results/dashboard/preferences/subscriptions/
^ permalink raw reply [flat|nested] 5+ messages in thread
* [dpdk-test-report] |SUCCESS| pw63043 [PATCH] [v2] mk: add support for UBSAN
@ 2019-11-15 15:26 dpdklab
0 siblings, 0 replies; 5+ messages in thread
From: dpdklab @ 2019-11-15 15:26 UTC (permalink / raw)
To: Test Report; +Cc: dpdk-test-reports
[-- Attachment #1: Type: text/plain, Size: 1991 bytes --]
Test-Label: iol-intel-Performance
Test-Status: SUCCESS
http://dpdk.org/patch/63043
_Performance Testing PASS_
Submitter: Harman Kalra <hkalra@marvell.com>
Date: Friday, November 15 2019 14:54:44
DPDK git baseline: Repo:dpdk
Branch: master
CommitID:08a234788ee548796fd6b394c7e897a2bf1df1b3
63043 --> performance testing pass
Test environment and result as below:
Ubuntu 18.04
Kernel: 4.15.0-generic
GCC: 7.4
NIC: Intel Corporation Ethernet Converged Network Adapter 82599ES 10000 Mbps
Target: x86_64-native-linuxapp-gcc
Fail/Total: 0/3
Detail performance results:
+------------+---------+-------------------------------------+
| frame_size | txd/rxd | throughput difference from expected |
+============+=========+=====================================+
| 64 | 128 | 0.159 |
+------------+---------+-------------------------------------+
| 64 | 512 | -0.564 |
+------------+---------+-------------------------------------+
| 64 | 2048 | 0.127 |
+------------+---------+-------------------------------------+
Ubuntu 18.04
Kernel: 4.15.0-generic
GCC: 7.4
NIC: Intel Corporation Ethernet Converged Network Adapter XL710-QDA2 40000 Mbps
Target: x86_64-native-linuxapp-gcc
Fail/Total: 0/2
Detail performance results:
+------------+---------+-------------------------------------+
| frame_size | txd/rxd | throughput difference from expected |
+============+=========+=====================================+
| 64 | 512 | 0.085 |
+------------+---------+-------------------------------------+
| 64 | 2048 | 0.257 |
+------------+---------+-------------------------------------+
https://lab.dpdk.org/results/dashboard/patchsets/8562/
UNH-IOL DPDK Performance Test Lab
To manage your email subscriptions visit:
https://lab.dpdk.org/results/dashboard/preferences/subscriptions/
^ permalink raw reply [flat|nested] 5+ messages in thread
end of thread, other threads:[~2019-11-16 18:10 UTC | newest]
Thread overview: 5+ messages (download: mbox.gz / follow: Atom feed)
-- links below jump to the message on this page --
[not found] <1573829661-16290-1-git-send-email-hkalra@marvell.com>
2019-11-15 14:55 ` [dpdk-test-report] |SUCCESS| pw63043 [PATCH v2] mk: add support for UBSAN checkpatch
2019-11-16 18:08 ` [dpdk-test-report] |SUCCESS| pw63043 " 0-day Robot
2019-11-15 15:55 [dpdk-test-report] |SUCCESS| pw63043 [PATCH] [v2] " dpdklab
-- strict thread matches above, loose matches on Subject: below --
2019-11-15 15:28 dpdklab
2019-11-15 15:26 dpdklab
This is a public inbox, see mirroring instructions
for how to clone and mirror all data and code used for this inbox;
as well as URLs for NNTP newsgroup(s).