* [dpdk-test-report] |SUCCESS| pw63042 [PATCH] [v2] kni: reduce interface name size
@ 2019-11-15 15:42 dpdklab
0 siblings, 0 replies; 4+ messages in thread
From: dpdklab @ 2019-11-15 15:42 UTC (permalink / raw)
To: Test Report; +Cc: dpdk-test-reports
[-- Attachment #1: Type: text/plain, Size: 1342 bytes --]
Test-Label: iol-compilation
Test-Status: SUCCESS
http://dpdk.org/patch/63042
_Compile Testing PASS_
Submitter: Michael Pfeiffer <michael.pfeiffer@tu-ilmenau.de>
Date: Friday, November 15 2019 13:03:28
DPDK git baseline: Repo:dpdk
Branch: master
CommitID:08a234788ee548796fd6b394c7e897a2bf1df1b3
63042 --> compile testing pass
Test environment and result as below:
+--------------+------------------+-------------------+--------------+
| Environment | dpdk_compile_ovs | dpdk_compile_spdk | dpdk_compile |
+==============+==================+===================+==============+
| Ubuntu 18.04 | PASS | PASS | PASS |
+--------------+------------------+-------------------+--------------+
| CentOS 8 | PASS | | PASS |
+--------------+------------------+-------------------+--------------+
| FreeBSD 11.2 | | PASS | PASS |
+--------------+------------------+-------------------+--------------+
Ubuntu 18.04
Kernel: 4.15.0-generic
GCC: 7.4
CentOS 8
Kernel: 4.18.0.el8_0
GCC: 8.2
FreeBSD 11.2
Kernel: 11.2
GCC: 8.3
https://lab.dpdk.org/results/dashboard/patchsets/8561/
UNH-IOL DPDK Performance Test Lab
To manage your email subscriptions visit:
https://lab.dpdk.org/results/dashboard/preferences/subscriptions/
^ permalink raw reply [flat|nested] 4+ messages in thread
* [dpdk-test-report] |SUCCESS| pw63042 [PATCH] [v2] kni: reduce interface name size
@ 2019-11-15 16:33 dpdklab
0 siblings, 0 replies; 4+ messages in thread
From: dpdklab @ 2019-11-15 16:33 UTC (permalink / raw)
To: Ali Alnubani, Test Report; +Cc: dpdk-test-reports
[-- Attachment #1: Type: text/plain, Size: 3922 bytes --]
Test-Label: iol-mellanox-Performance
Test-Status: SUCCESS
http://dpdk.org/patch/63042
_Performance Testing PASS_
Submitter: Michael Pfeiffer <michael.pfeiffer@tu-ilmenau.de>
Date: Friday, November 15 2019 13:03:28
DPDK git baseline: Repo:dpdk
Branch: master
CommitID:08a234788ee548796fd6b394c7e897a2bf1df1b3
63042 --> performance testing pass
Test environment and result as below:
Ubuntu 18.04
Kernel: 4.15.0-generic
GCC: 7.4
NIC: Mellanox ConnectX-4 Lx 40000 Mbps
Target: x86_64-native-linuxapp-gcc
Fail/Total: 0/6
Detail performance results:
+------------+---------+-------------------------------------+
| frame_size | txd/rxd | throughput difference from expected |
+============+=========+=====================================+
| 64 | 256 | 0.264 |
+------------+---------+-------------------------------------+
| 128 | 256 | 0.454 |
+------------+---------+-------------------------------------+
| 256 | 256 | -0.187 |
+------------+---------+-------------------------------------+
| 512 | 256 | -0.005 |
+------------+---------+-------------------------------------+
| 1024 | 256 | 0.006 |
+------------+---------+-------------------------------------+
| 1518 | 256 | 0.003 |
+------------+---------+-------------------------------------+
Ubuntu 18.04
Kernel: 4.15.0-generic
GCC: 7.4
NIC: Mellanox ConnectX-5 100000 Mbps
Target: x86_64-native-linuxapp-gcc
Fail/Total: 0/6
Detail performance results:
+------------+---------+-------------------------------------+
| frame_size | txd/rxd | throughput difference from expected |
+============+=========+=====================================+
| 64 | 256 | 0.051 |
+------------+---------+-------------------------------------+
| 128 | 256 | 0.183 |
+------------+---------+-------------------------------------+
| 256 | 256 | -0.060 |
+------------+---------+-------------------------------------+
| 512 | 256 | -0.176 |
+------------+---------+-------------------------------------+
| 1024 | 256 | 0.097 |
+------------+---------+-------------------------------------+
| 1518 | 256 | 0.007 |
+------------+---------+-------------------------------------+
Ubuntu 18.04
Kernel: 4.15.0-generic
GCC: 7.4
NIC: Mellanox ConnectX-4 Lx 25000 Mbps
Target: x86_64-native-linuxapp-gcc
Fail/Total: 0/6
Detail performance results:
+------------+---------+-------------------------------------+
| frame_size | txd/rxd | throughput difference from expected |
+============+=========+=====================================+
| 64 | 256 | -0.057 |
+------------+---------+-------------------------------------+
| 128 | 256 | 0.138 |
+------------+---------+-------------------------------------+
| 256 | 256 | 0.033 |
+------------+---------+-------------------------------------+
| 512 | 256 | -0.004 |
+------------+---------+-------------------------------------+
| 1024 | 256 | 0.008 |
+------------+---------+-------------------------------------+
| 1518 | 256 | 0.010 |
+------------+---------+-------------------------------------+
https://lab.dpdk.org/results/dashboard/patchsets/8561/
UNH-IOL DPDK Performance Test Lab
To manage your email subscriptions visit:
https://lab.dpdk.org/results/dashboard/preferences/subscriptions/
^ permalink raw reply [flat|nested] 4+ messages in thread
* [dpdk-test-report] |SUCCESS| pw63042 [PATCH] [v2] kni: reduce interface name size
@ 2019-11-15 15:40 dpdklab
0 siblings, 0 replies; 4+ messages in thread
From: dpdklab @ 2019-11-15 15:40 UTC (permalink / raw)
To: Test Report; +Cc: dpdk-test-reports
[-- Attachment #1: Type: text/plain, Size: 2007 bytes --]
Test-Label: iol-intel-Performance
Test-Status: SUCCESS
http://dpdk.org/patch/63042
_Performance Testing PASS_
Submitter: Michael Pfeiffer <michael.pfeiffer@tu-ilmenau.de>
Date: Friday, November 15 2019 13:03:28
DPDK git baseline: Repo:dpdk
Branch: master
CommitID:08a234788ee548796fd6b394c7e897a2bf1df1b3
63042 --> performance testing pass
Test environment and result as below:
Ubuntu 18.04
Kernel: 4.15.0-generic
GCC: 7.4
NIC: Intel Corporation Ethernet Converged Network Adapter 82599ES 10000 Mbps
Target: x86_64-native-linuxapp-gcc
Fail/Total: 0/3
Detail performance results:
+------------+---------+-------------------------------------+
| frame_size | txd/rxd | throughput difference from expected |
+============+=========+=====================================+
| 64 | 128 | -0.134 |
+------------+---------+-------------------------------------+
| 64 | 512 | -0.069 |
+------------+---------+-------------------------------------+
| 64 | 2048 | 0.297 |
+------------+---------+-------------------------------------+
Ubuntu 18.04
Kernel: 4.15.0-generic
GCC: 7.4
NIC: Intel Corporation Ethernet Converged Network Adapter XL710-QDA2 40000 Mbps
Target: x86_64-native-linuxapp-gcc
Fail/Total: 0/2
Detail performance results:
+------------+---------+-------------------------------------+
| frame_size | txd/rxd | throughput difference from expected |
+============+=========+=====================================+
| 64 | 512 | 0.051 |
+------------+---------+-------------------------------------+
| 64 | 2048 | -0.017 |
+------------+---------+-------------------------------------+
https://lab.dpdk.org/results/dashboard/patchsets/8561/
UNH-IOL DPDK Performance Test Lab
To manage your email subscriptions visit:
https://lab.dpdk.org/results/dashboard/preferences/subscriptions/
^ permalink raw reply [flat|nested] 4+ messages in thread
[parent not found: <20191115130328.25683-1-michael.pfeiffer@tu-ilmenau.de>]
end of thread, other threads:[~2019-11-15 16:34 UTC | newest]
Thread overview: 4+ messages (download: mbox.gz / follow: Atom feed)
-- links below jump to the message on this page --
2019-11-15 15:42 [dpdk-test-report] |SUCCESS| pw63042 [PATCH] [v2] kni: reduce interface name size dpdklab
-- strict thread matches above, loose matches on Subject: below --
2019-11-15 16:33 dpdklab
2019-11-15 15:40 dpdklab
[not found] <20191115130328.25683-1-michael.pfeiffer@tu-ilmenau.de>
2019-11-15 13:04 ` [dpdk-test-report] |SUCCESS| pw63042 [PATCH v2] " checkpatch
This is a public inbox, see mirroring instructions
for how to clone and mirror all data and code used for this inbox;
as well as URLs for NNTP newsgroup(s).