* [dpdk-test-report] |SUCCESS| pw63061 [PATCH] net/mlx5: fix vport index in port action
[not found] <1573980506-866-1-git-send-email-viacheslavo@mellanox.com>
@ 2019-11-17 8:48 ` checkpatch
0 siblings, 0 replies; 4+ messages in thread
From: checkpatch @ 2019-11-17 8:48 UTC (permalink / raw)
To: test-report
Test-Label: checkpatch
Test-Status: SUCCESS
http://dpdk.org/patch/63061
_coding style OK_
^ permalink raw reply [flat|nested] 4+ messages in thread
* [dpdk-test-report] |SUCCESS| pw63061 [PATCH] net/mlx5: fix vport index in port action
@ 2019-11-17 9:53 dpdklab
0 siblings, 0 replies; 4+ messages in thread
From: dpdklab @ 2019-11-17 9:53 UTC (permalink / raw)
To: Ali Alnubani, Test Report; +Cc: dpdk-test-reports
[-- Attachment #1: Type: text/plain, Size: 3933 bytes --]
Test-Label: iol-mellanox-Performance
Test-Status: SUCCESS
http://dpdk.org/patch/63061
_Performance Testing PASS_
Submitter: Viacheslav Ovsiienko <viacheslavo@mellanox.com>
Date: Sunday, November 17 2019 08:48:26
DPDK git baseline: Repo:dpdk-next-net-mlx
Branch: master
CommitID:24c01a7a55478a283d7765aaa141e2755feec710
63061 --> performance testing pass
Test environment and result as below:
Ubuntu 18.04
Kernel: 4.15.0-generic
GCC: 7.4
NIC: Mellanox ConnectX-5 100000 Mbps
Target: x86_64-native-linuxapp-gcc
Fail/Total: 0/6
Detail performance results:
+------------+---------+-------------------------------------+
| frame_size | txd/rxd | throughput difference from expected |
+============+=========+=====================================+
| 64 | 256 | 0.707 |
+------------+---------+-------------------------------------+
| 128 | 256 | -0.082 |
+------------+---------+-------------------------------------+
| 256 | 256 | 0.055 |
+------------+---------+-------------------------------------+
| 512 | 256 | 0.201 |
+------------+---------+-------------------------------------+
| 1024 | 256 | 0.064 |
+------------+---------+-------------------------------------+
| 1518 | 256 | 0.010 |
+------------+---------+-------------------------------------+
Ubuntu 18.04
Kernel: 4.15.0-generic
GCC: 7.4
NIC: Mellanox ConnectX-4 Lx 40000 Mbps
Target: x86_64-native-linuxapp-gcc
Fail/Total: 0/6
Detail performance results:
+------------+---------+-------------------------------------+
| frame_size | txd/rxd | throughput difference from expected |
+============+=========+=====================================+
| 64 | 256 | 0.070 |
+------------+---------+-------------------------------------+
| 128 | 256 | -0.154 |
+------------+---------+-------------------------------------+
| 256 | 256 | -0.012 |
+------------+---------+-------------------------------------+
| 512 | 256 | 0.019 |
+------------+---------+-------------------------------------+
| 1024 | 256 | 0.006 |
+------------+---------+-------------------------------------+
| 1518 | 256 | -0.016 |
+------------+---------+-------------------------------------+
Ubuntu 18.04
Kernel: 4.15.0-generic
GCC: 7.4
NIC: Mellanox ConnectX-4 Lx 25000 Mbps
Target: x86_64-native-linuxapp-gcc
Fail/Total: 0/6
Detail performance results:
+------------+---------+-------------------------------------+
| frame_size | txd/rxd | throughput difference from expected |
+============+=========+=====================================+
| 64 | 256 | -0.094 |
+------------+---------+-------------------------------------+
| 128 | 256 | 0.027 |
+------------+---------+-------------------------------------+
| 256 | 256 | -0.023 |
+------------+---------+-------------------------------------+
| 512 | 256 | -0.012 |
+------------+---------+-------------------------------------+
| 1024 | 256 | 0.002 |
+------------+---------+-------------------------------------+
| 1518 | 256 | 0.001 |
+------------+---------+-------------------------------------+
https://lab.dpdk.org/results/dashboard/patchsets/8569/
UNH-IOL DPDK Performance Test Lab
To manage your email subscriptions visit:
https://lab.dpdk.org/results/dashboard/preferences/subscriptions/
^ permalink raw reply [flat|nested] 4+ messages in thread
* [dpdk-test-report] |SUCCESS| pw63061 [PATCH] net/mlx5: fix vport index in port action
@ 2019-11-17 9:28 dpdklab
0 siblings, 0 replies; 4+ messages in thread
From: dpdklab @ 2019-11-17 9:28 UTC (permalink / raw)
To: Test Report; +Cc: dpdk-test-reports
[-- Attachment #1: Type: text/plain, Size: 1353 bytes --]
Test-Label: iol-compilation
Test-Status: SUCCESS
http://dpdk.org/patch/63061
_Compile Testing PASS_
Submitter: Viacheslav Ovsiienko <viacheslavo@mellanox.com>
Date: Sunday, November 17 2019 08:48:26
DPDK git baseline: Repo:dpdk-next-net-mlx
Branch: master
CommitID:24c01a7a55478a283d7765aaa141e2755feec710
63061 --> compile testing pass
Test environment and result as below:
+--------------+------------------+-------------------+--------------+
| Environment | dpdk_compile_ovs | dpdk_compile_spdk | dpdk_compile |
+==============+==================+===================+==============+
| Ubuntu 18.04 | PASS | PASS | PASS |
+--------------+------------------+-------------------+--------------+
| CentOS 8 | PASS | | PASS |
+--------------+------------------+-------------------+--------------+
| FreeBSD 11.2 | | PASS | PASS |
+--------------+------------------+-------------------+--------------+
Ubuntu 18.04
Kernel: 4.15.0-generic
GCC: 7.4
CentOS 8
Kernel: 4.18.0.el8_0
GCC: 8.2
FreeBSD 11.2
Kernel: 11.2
GCC: 8.3
https://lab.dpdk.org/results/dashboard/patchsets/8569/
UNH-IOL DPDK Performance Test Lab
To manage your email subscriptions visit:
https://lab.dpdk.org/results/dashboard/preferences/subscriptions/
^ permalink raw reply [flat|nested] 4+ messages in thread
* [dpdk-test-report] |SUCCESS| pw63061 [PATCH] net/mlx5: fix vport index in port action
@ 2019-11-17 9:26 dpdklab
0 siblings, 0 replies; 4+ messages in thread
From: dpdklab @ 2019-11-17 9:26 UTC (permalink / raw)
To: Test Report; +Cc: dpdk-test-reports
[-- Attachment #1: Type: text/plain, Size: 2018 bytes --]
Test-Label: iol-intel-Performance
Test-Status: SUCCESS
http://dpdk.org/patch/63061
_Performance Testing PASS_
Submitter: Viacheslav Ovsiienko <viacheslavo@mellanox.com>
Date: Sunday, November 17 2019 08:48:26
DPDK git baseline: Repo:dpdk-next-net-mlx
Branch: master
CommitID:24c01a7a55478a283d7765aaa141e2755feec710
63061 --> performance testing pass
Test environment and result as below:
Ubuntu 18.04
Kernel: 4.15.0-generic
GCC: 7.4
NIC: Intel Corporation Ethernet Converged Network Adapter 82599ES 10000 Mbps
Target: x86_64-native-linuxapp-gcc
Fail/Total: 0/3
Detail performance results:
+------------+---------+-------------------------------------+
| frame_size | txd/rxd | throughput difference from expected |
+============+=========+=====================================+
| 64 | 128 | -0.057 |
+------------+---------+-------------------------------------+
| 64 | 512 | -0.549 |
+------------+---------+-------------------------------------+
| 64 | 2048 | -0.218 |
+------------+---------+-------------------------------------+
Ubuntu 18.04
Kernel: 4.15.0-generic
GCC: 7.4
NIC: Intel Corporation Ethernet Converged Network Adapter XL710-QDA2 40000 Mbps
Target: x86_64-native-linuxapp-gcc
Fail/Total: 0/2
Detail performance results:
+------------+---------+-------------------------------------+
| frame_size | txd/rxd | throughput difference from expected |
+============+=========+=====================================+
| 64 | 512 | 0.078 |
+------------+---------+-------------------------------------+
| 64 | 2048 | 0.199 |
+------------+---------+-------------------------------------+
https://lab.dpdk.org/results/dashboard/patchsets/8569/
UNH-IOL DPDK Performance Test Lab
To manage your email subscriptions visit:
https://lab.dpdk.org/results/dashboard/preferences/subscriptions/
^ permalink raw reply [flat|nested] 4+ messages in thread
end of thread, other threads:[~2019-11-17 9:53 UTC | newest]
Thread overview: 4+ messages (download: mbox.gz / follow: Atom feed)
-- links below jump to the message on this page --
[not found] <1573980506-866-1-git-send-email-viacheslavo@mellanox.com>
2019-11-17 8:48 ` [dpdk-test-report] |SUCCESS| pw63061 [PATCH] net/mlx5: fix vport index in port action checkpatch
2019-11-17 9:26 dpdklab
2019-11-17 9:28 dpdklab
2019-11-17 9:53 dpdklab
This is a public inbox, see mirroring instructions
for how to clone and mirror all data and code used for this inbox;
as well as URLs for NNTP newsgroup(s).