* [dpdk-test-report] |SUCCESS| pw63067 [PATCH] eal: check for interrupt context
@ 2019-11-17 20:22 dpdklab
0 siblings, 0 replies; 4+ messages in thread
From: dpdklab @ 2019-11-17 20:22 UTC (permalink / raw)
To: Ali Alnubani, Test Report; +Cc: dpdk-test-reports
[-- Attachment #1: Type: text/plain, Size: 3906 bytes --]
Test-Label: iol-mellanox-Performance
Test-Status: SUCCESS
http://dpdk.org/patch/63067
_Performance Testing PASS_
Submitter: Harman Kalra <hkalra@marvell.com>
Date: Sunday, November 17 2019 19:36:11
DPDK git baseline: Repo:dpdk
Branch: master
CommitID:1407b0752eee2353160701d0182c7e911ccb538a
63067 --> performance testing pass
Test environment and result as below:
Ubuntu 18.04
Kernel: 4.15.0-generic
GCC: 7.4
NIC: Mellanox ConnectX-5 100000 Mbps
Target: x86_64-native-linuxapp-gcc
Fail/Total: 0/6
Detail performance results:
+------------+---------+-------------------------------------+
| frame_size | txd/rxd | throughput difference from expected |
+============+=========+=====================================+
| 64 | 256 | 0.210 |
+------------+---------+-------------------------------------+
| 128 | 256 | 0.085 |
+------------+---------+-------------------------------------+
| 256 | 256 | 0.177 |
+------------+---------+-------------------------------------+
| 512 | 256 | 0.118 |
+------------+---------+-------------------------------------+
| 1024 | 256 | 0.014 |
+------------+---------+-------------------------------------+
| 1518 | 256 | 0.010 |
+------------+---------+-------------------------------------+
Ubuntu 18.04
Kernel: 4.15.0-generic
GCC: 7.4
NIC: Mellanox ConnectX-4 Lx 40000 Mbps
Target: x86_64-native-linuxapp-gcc
Fail/Total: 0/6
Detail performance results:
+------------+---------+-------------------------------------+
| frame_size | txd/rxd | throughput difference from expected |
+============+=========+=====================================+
| 64 | 256 | 0.435 |
+------------+---------+-------------------------------------+
| 128 | 256 | -0.013 |
+------------+---------+-------------------------------------+
| 256 | 256 | -0.019 |
+------------+---------+-------------------------------------+
| 512 | 256 | 0.065 |
+------------+---------+-------------------------------------+
| 1024 | 256 | -0.002 |
+------------+---------+-------------------------------------+
| 1518 | 256 | -0.021 |
+------------+---------+-------------------------------------+
Ubuntu 18.04
Kernel: 4.15.0-generic
GCC: 7.4
NIC: Mellanox ConnectX-4 Lx 25000 Mbps
Target: x86_64-native-linuxapp-gcc
Fail/Total: 0/6
Detail performance results:
+------------+---------+-------------------------------------+
| frame_size | txd/rxd | throughput difference from expected |
+============+=========+=====================================+
| 64 | 256 | -0.021 |
+------------+---------+-------------------------------------+
| 128 | 256 | 0.072 |
+------------+---------+-------------------------------------+
| 256 | 256 | 0.003 |
+------------+---------+-------------------------------------+
| 512 | 256 | -0.013 |
+------------+---------+-------------------------------------+
| 1024 | 256 | 0.002 |
+------------+---------+-------------------------------------+
| 1518 | 256 | 0.002 |
+------------+---------+-------------------------------------+
https://lab.dpdk.org/results/dashboard/patchsets/8573/
UNH-IOL DPDK Performance Test Lab
To manage your email subscriptions visit:
https://lab.dpdk.org/results/dashboard/preferences/subscriptions/
^ permalink raw reply [flat|nested] 4+ messages in thread
* [dpdk-test-report] |SUCCESS| pw63067 [PATCH] eal: check for interrupt context
@ 2019-11-17 19:57 dpdklab
0 siblings, 0 replies; 4+ messages in thread
From: dpdklab @ 2019-11-17 19:57 UTC (permalink / raw)
To: Test Report; +Cc: dpdk-test-reports
[-- Attachment #1: Type: text/plain, Size: 1326 bytes --]
Test-Label: iol-compilation
Test-Status: SUCCESS
http://dpdk.org/patch/63067
_Compile Testing PASS_
Submitter: Harman Kalra <hkalra@marvell.com>
Date: Sunday, November 17 2019 19:36:11
DPDK git baseline: Repo:dpdk
Branch: master
CommitID:1407b0752eee2353160701d0182c7e911ccb538a
63067 --> compile testing pass
Test environment and result as below:
+--------------+--------------+-------------------+------------------+
| Environment | dpdk_compile | dpdk_compile_spdk | dpdk_compile_ovs |
+==============+==============+===================+==================+
| Ubuntu 18.04 | PASS | PASS | PASS |
+--------------+--------------+-------------------+------------------+
| FreeBSD 11.2 | PASS | PASS | |
+--------------+--------------+-------------------+------------------+
| CentOS 8 | PASS | | PASS |
+--------------+--------------+-------------------+------------------+
Ubuntu 18.04
Kernel: 4.15.0-generic
GCC: 7.4
FreeBSD 11.2
Kernel: 11.2
GCC: 8.3
CentOS 8
Kernel: 4.18.0.el8_0
GCC: 8.2
https://lab.dpdk.org/results/dashboard/patchsets/8573/
UNH-IOL DPDK Performance Test Lab
To manage your email subscriptions visit:
https://lab.dpdk.org/results/dashboard/preferences/subscriptions/
^ permalink raw reply [flat|nested] 4+ messages in thread
* [dpdk-test-report] |SUCCESS| pw63067 [PATCH] eal: check for interrupt context
@ 2019-11-17 19:56 dpdklab
0 siblings, 0 replies; 4+ messages in thread
From: dpdklab @ 2019-11-17 19:56 UTC (permalink / raw)
To: Test Report; +Cc: dpdk-test-reports
[-- Attachment #1: Type: text/plain, Size: 1991 bytes --]
Test-Label: iol-intel-Performance
Test-Status: SUCCESS
http://dpdk.org/patch/63067
_Performance Testing PASS_
Submitter: Harman Kalra <hkalra@marvell.com>
Date: Sunday, November 17 2019 19:36:11
DPDK git baseline: Repo:dpdk
Branch: master
CommitID:1407b0752eee2353160701d0182c7e911ccb538a
63067 --> performance testing pass
Test environment and result as below:
Ubuntu 18.04
Kernel: 4.15.0-generic
GCC: 7.4
NIC: Intel Corporation Ethernet Converged Network Adapter 82599ES 10000 Mbps
Target: x86_64-native-linuxapp-gcc
Fail/Total: 0/3
Detail performance results:
+------------+---------+-------------------------------------+
| frame_size | txd/rxd | throughput difference from expected |
+============+=========+=====================================+
| 64 | 128 | -0.115 |
+------------+---------+-------------------------------------+
| 64 | 512 | -0.442 |
+------------+---------+-------------------------------------+
| 64 | 2048 | -0.175 |
+------------+---------+-------------------------------------+
Ubuntu 18.04
Kernel: 4.15.0-generic
GCC: 7.4
NIC: Intel Corporation Ethernet Converged Network Adapter XL710-QDA2 40000 Mbps
Target: x86_64-native-linuxapp-gcc
Fail/Total: 0/2
Detail performance results:
+------------+---------+-------------------------------------+
| frame_size | txd/rxd | throughput difference from expected |
+============+=========+=====================================+
| 64 | 512 | -0.039 |
+------------+---------+-------------------------------------+
| 64 | 2048 | 0.182 |
+------------+---------+-------------------------------------+
https://lab.dpdk.org/results/dashboard/patchsets/8573/
UNH-IOL DPDK Performance Test Lab
To manage your email subscriptions visit:
https://lab.dpdk.org/results/dashboard/preferences/subscriptions/
^ permalink raw reply [flat|nested] 4+ messages in thread
* [dpdk-test-report] |SUCCESS| pw63067 [PATCH] eal: check for interrupt context
[not found] <1574019355-27695-1-git-send-email-hkalra@marvell.com>
@ 2019-11-17 19:36 ` checkpatch
0 siblings, 0 replies; 4+ messages in thread
From: checkpatch @ 2019-11-17 19:36 UTC (permalink / raw)
To: test-report
Test-Label: checkpatch
Test-Status: SUCCESS
http://dpdk.org/patch/63067
_coding style OK_
^ permalink raw reply [flat|nested] 4+ messages in thread
end of thread, other threads:[~2019-11-17 20:22 UTC | newest]
Thread overview: 4+ messages (download: mbox.gz / follow: Atom feed)
-- links below jump to the message on this page --
2019-11-17 20:22 [dpdk-test-report] |SUCCESS| pw63067 [PATCH] eal: check for interrupt context dpdklab
-- strict thread matches above, loose matches on Subject: below --
2019-11-17 19:57 dpdklab
2019-11-17 19:56 dpdklab
[not found] <1574019355-27695-1-git-send-email-hkalra@marvell.com>
2019-11-17 19:36 ` checkpatch
This is a public inbox, see mirroring instructions
for how to clone and mirror all data and code used for this inbox;
as well as URLs for NNTP newsgroup(s).