* [dpdk-test-report] |SUCCESS| [GIT MASTER] 5fb2bc5b78444e511b42ede496ab1d43bccc8245
@ 2019-11-18 20:55 dpdklab
0 siblings, 0 replies; 6+ messages in thread
From: dpdklab @ 2019-11-18 20:55 UTC (permalink / raw)
To: Ali Alnubani, Test Report; +Cc: dpdk-test-reports
[-- Attachment #1: Type: text/plain, Size: 3696 bytes --]
_Performance Testing PASS_
Branch: dpdk-next-net-brcm
5fb2bc5b78444e511b42ede496ab1d43bccc8245 --> performance testing pass
Test environment and result as below:
Ubuntu 18.04
Kernel: 4.15.0-generic
GCC: 7.4
NIC: Mellanox ConnectX-5 100000 Mbps
Target: x86_64-native-linuxapp-gcc
Fail/Total: 0/6
Detail performance results:
+------------+---------+-------------------------------------+
| frame_size | txd/rxd | throughput difference from expected |
+============+=========+=====================================+
| 64 | 256 | 0.159 |
+------------+---------+-------------------------------------+
| 128 | 256 | -0.019 |
+------------+---------+-------------------------------------+
| 256 | 256 | 0.179 |
+------------+---------+-------------------------------------+
| 512 | 256 | 0.311 |
+------------+---------+-------------------------------------+
| 1024 | 256 | 0.056 |
+------------+---------+-------------------------------------+
| 1518 | 256 | 0.007 |
+------------+---------+-------------------------------------+
Ubuntu 18.04
Kernel: 4.15.0-generic
GCC: 7.4
NIC: Mellanox ConnectX-4 Lx 25000 Mbps
Target: x86_64-native-linuxapp-gcc
Fail/Total: 0/6
Detail performance results:
+------------+---------+-------------------------------------+
| frame_size | txd/rxd | throughput difference from expected |
+============+=========+=====================================+
| 64 | 256 | 0.036 |
+------------+---------+-------------------------------------+
| 128 | 256 | 0.066 |
+------------+---------+-------------------------------------+
| 256 | 256 | 0.012 |
+------------+---------+-------------------------------------+
| 512 | 256 | 0 |
+------------+---------+-------------------------------------+
| 1024 | 256 | 0.009 |
+------------+---------+-------------------------------------+
| 1518 | 256 | -0.001 |
+------------+---------+-------------------------------------+
Ubuntu 18.04
Kernel: 4.15.0-generic
GCC: 7.4
NIC: Mellanox ConnectX-4 Lx 40000 Mbps
Target: x86_64-native-linuxapp-gcc
Fail/Total: 0/6
Detail performance results:
+------------+---------+-------------------------------------+
| frame_size | txd/rxd | throughput difference from expected |
+============+=========+=====================================+
| 64 | 256 | 0.620 |
+------------+---------+-------------------------------------+
| 128 | 256 | -0.030 |
+------------+---------+-------------------------------------+
| 256 | 256 | 0.087 |
+------------+---------+-------------------------------------+
| 512 | 256 | 0.019 |
+------------+---------+-------------------------------------+
| 1024 | 256 | 0.001 |
+------------+---------+-------------------------------------+
| 1518 | 256 | -0.022 |
+------------+---------+-------------------------------------+
https://lab.dpdk.org/results/dashboard/tarballs/7158/
UNH-IOL DPDK Performance Test Lab
To manage your email subscriptions visit:
https://lab.dpdk.org/results/dashboard/preferences/subscriptions/
^ permalink raw reply [flat|nested] 6+ messages in thread
* [dpdk-test-report] |SUCCESS| [GIT MASTER] 5fb2bc5b78444e511b42ede496ab1d43bccc8245
@ 2019-11-18 20:30 dpdklab
0 siblings, 0 replies; 6+ messages in thread
From: dpdklab @ 2019-11-18 20:30 UTC (permalink / raw)
To: Test Report; +Cc: dpdk-test-reports
[-- Attachment #1: Type: text/plain, Size: 1125 bytes --]
_Compile Testing PASS_
Branch: dpdk-next-net-brcm
5fb2bc5b78444e511b42ede496ab1d43bccc8245 --> compile testing pass
Test environment and result as below:
+--------------+--------------+------------------+-------------------+
| Environment | dpdk_compile | dpdk_compile_ovs | dpdk_compile_spdk |
+==============+==============+==================+===================+
| FreeBSD 11.2 | PASS | | PASS |
+--------------+--------------+------------------+-------------------+
| Ubuntu 18.04 | PASS | PASS | PASS |
+--------------+--------------+------------------+-------------------+
| CentOS 8 | PASS | PASS | |
+--------------+--------------+------------------+-------------------+
FreeBSD 11.2
Kernel: 11.2
GCC: 8.3
Ubuntu 18.04
Kernel: 4.15.0-generic
GCC: 7.4
CentOS 8
Kernel: 4.18.0.el8_0
GCC: 8.2
https://lab.dpdk.org/results/dashboard/tarballs/7158/
UNH-IOL DPDK Performance Test Lab
To manage your email subscriptions visit:
https://lab.dpdk.org/results/dashboard/preferences/subscriptions/
^ permalink raw reply [flat|nested] 6+ messages in thread
* [dpdk-test-report] |SUCCESS| [GIT MASTER] 5fb2bc5b78444e511b42ede496ab1d43bccc8245
@ 2019-11-18 20:28 dpdklab
0 siblings, 0 replies; 6+ messages in thread
From: dpdklab @ 2019-11-18 20:28 UTC (permalink / raw)
To: Test Report; +Cc: dpdk-test-reports
[-- Attachment #1: Type: text/plain, Size: 1784 bytes --]
_Performance Testing PASS_
Branch: dpdk-next-net-brcm
5fb2bc5b78444e511b42ede496ab1d43bccc8245 --> performance testing pass
Test environment and result as below:
Ubuntu 18.04
Kernel: 4.15.0-generic
GCC: 7.4
NIC: Intel Corporation Ethernet Converged Network Adapter 82599ES 10000 Mbps
Target: x86_64-native-linuxapp-gcc
Fail/Total: 0/3
Detail performance results:
+------------+---------+-------------------------------------+
| frame_size | txd/rxd | throughput difference from expected |
+============+=========+=====================================+
| 64 | 128 | -0.311 |
+------------+---------+-------------------------------------+
| 64 | 512 | -0.462 |
+------------+---------+-------------------------------------+
| 64 | 2048 | -0.129 |
+------------+---------+-------------------------------------+
Ubuntu 18.04
Kernel: 4.15.0-generic
GCC: 7.4
NIC: Intel Corporation Ethernet Converged Network Adapter XL710-QDA2 40000 Mbps
Target: x86_64-native-linuxapp-gcc
Fail/Total: 0/2
Detail performance results:
+------------+---------+-------------------------------------+
| frame_size | txd/rxd | throughput difference from expected |
+============+=========+=====================================+
| 64 | 512 | 0.250 |
+------------+---------+-------------------------------------+
| 64 | 2048 | 0.069 |
+------------+---------+-------------------------------------+
https://lab.dpdk.org/results/dashboard/tarballs/7158/
UNH-IOL DPDK Performance Test Lab
To manage your email subscriptions visit:
https://lab.dpdk.org/results/dashboard/preferences/subscriptions/
^ permalink raw reply [flat|nested] 6+ messages in thread
* [dpdk-test-report] |SUCCESS| [GIT MASTER] 5fb2bc5b78444e511b42ede496ab1d43bccc8245
@ 2019-11-18 19:53 dpdklab
0 siblings, 0 replies; 6+ messages in thread
From: dpdklab @ 2019-11-18 19:53 UTC (permalink / raw)
To: Ali Alnubani, Test Report; +Cc: dpdk-test-reports
[-- Attachment #1: Type: text/plain, Size: 3691 bytes --]
_Performance Testing PASS_
Branch: dpdk-next-net
5fb2bc5b78444e511b42ede496ab1d43bccc8245 --> performance testing pass
Test environment and result as below:
Ubuntu 18.04
Kernel: 4.15.0-generic
GCC: 7.4
NIC: Mellanox ConnectX-5 100000 Mbps
Target: x86_64-native-linuxapp-gcc
Fail/Total: 0/6
Detail performance results:
+------------+---------+-------------------------------------+
| frame_size | txd/rxd | throughput difference from expected |
+============+=========+=====================================+
| 64 | 256 | 0.083 |
+------------+---------+-------------------------------------+
| 128 | 256 | -0.012 |
+------------+---------+-------------------------------------+
| 256 | 256 | 0.220 |
+------------+---------+-------------------------------------+
| 512 | 256 | 0.299 |
+------------+---------+-------------------------------------+
| 1024 | 256 | -0.023 |
+------------+---------+-------------------------------------+
| 1518 | 256 | 0.031 |
+------------+---------+-------------------------------------+
Ubuntu 18.04
Kernel: 4.15.0-generic
GCC: 7.4
NIC: Mellanox ConnectX-4 Lx 40000 Mbps
Target: x86_64-native-linuxapp-gcc
Fail/Total: 0/6
Detail performance results:
+------------+---------+-------------------------------------+
| frame_size | txd/rxd | throughput difference from expected |
+============+=========+=====================================+
| 64 | 256 | 0.404 |
+------------+---------+-------------------------------------+
| 128 | 256 | -0.308 |
+------------+---------+-------------------------------------+
| 256 | 256 | 0.010 |
+------------+---------+-------------------------------------+
| 512 | 256 | 0.060 |
+------------+---------+-------------------------------------+
| 1024 | 256 | -0.003 |
+------------+---------+-------------------------------------+
| 1518 | 256 | -0.009 |
+------------+---------+-------------------------------------+
Ubuntu 18.04
Kernel: 4.15.0-generic
GCC: 7.4
NIC: Mellanox ConnectX-4 Lx 25000 Mbps
Target: x86_64-native-linuxapp-gcc
Fail/Total: 0/6
Detail performance results:
+------------+---------+-------------------------------------+
| frame_size | txd/rxd | throughput difference from expected |
+============+=========+=====================================+
| 64 | 256 | 0.028 |
+------------+---------+-------------------------------------+
| 128 | 256 | 0.007 |
+------------+---------+-------------------------------------+
| 256 | 256 | 0.007 |
+------------+---------+-------------------------------------+
| 512 | 256 | -0.007 |
+------------+---------+-------------------------------------+
| 1024 | 256 | 0.015 |
+------------+---------+-------------------------------------+
| 1518 | 256 | 0 |
+------------+---------+-------------------------------------+
https://lab.dpdk.org/results/dashboard/tarballs/7157/
UNH-IOL DPDK Performance Test Lab
To manage your email subscriptions visit:
https://lab.dpdk.org/results/dashboard/preferences/subscriptions/
^ permalink raw reply [flat|nested] 6+ messages in thread
* [dpdk-test-report] |SUCCESS| [GIT MASTER] 5fb2bc5b78444e511b42ede496ab1d43bccc8245
@ 2019-11-18 19:29 dpdklab
0 siblings, 0 replies; 6+ messages in thread
From: dpdklab @ 2019-11-18 19:29 UTC (permalink / raw)
To: Test Report; +Cc: dpdk-test-reports
[-- Attachment #1: Type: text/plain, Size: 1120 bytes --]
_Compile Testing PASS_
Branch: dpdk-next-net
5fb2bc5b78444e511b42ede496ab1d43bccc8245 --> compile testing pass
Test environment and result as below:
+--------------+--------------+-------------------+------------------+
| Environment | dpdk_compile | dpdk_compile_spdk | dpdk_compile_ovs |
+==============+==============+===================+==================+
| Ubuntu 18.04 | PASS | PASS | PASS |
+--------------+--------------+-------------------+------------------+
| FreeBSD 11.2 | PASS | PASS | |
+--------------+--------------+-------------------+------------------+
| CentOS 8 | PASS | | PASS |
+--------------+--------------+-------------------+------------------+
Ubuntu 18.04
Kernel: 4.15.0-generic
GCC: 7.4
FreeBSD 11.2
Kernel: 11.2
GCC: 8.3
CentOS 8
Kernel: 4.18.0.el8_0
GCC: 8.2
https://lab.dpdk.org/results/dashboard/tarballs/7157/
UNH-IOL DPDK Performance Test Lab
To manage your email subscriptions visit:
https://lab.dpdk.org/results/dashboard/preferences/subscriptions/
^ permalink raw reply [flat|nested] 6+ messages in thread
* [dpdk-test-report] |SUCCESS| [GIT MASTER] 5fb2bc5b78444e511b42ede496ab1d43bccc8245
@ 2019-11-18 19:27 dpdklab
0 siblings, 0 replies; 6+ messages in thread
From: dpdklab @ 2019-11-18 19:27 UTC (permalink / raw)
To: Test Report; +Cc: dpdk-test-reports
[-- Attachment #1: Type: text/plain, Size: 1779 bytes --]
_Performance Testing PASS_
Branch: dpdk-next-net
5fb2bc5b78444e511b42ede496ab1d43bccc8245 --> performance testing pass
Test environment and result as below:
Ubuntu 18.04
Kernel: 4.15.0-generic
GCC: 7.4
NIC: Intel Corporation Ethernet Converged Network Adapter 82599ES 10000 Mbps
Target: x86_64-native-linuxapp-gcc
Fail/Total: 0/3
Detail performance results:
+------------+---------+-------------------------------------+
| frame_size | txd/rxd | throughput difference from expected |
+============+=========+=====================================+
| 64 | 128 | 0.096 |
+------------+---------+-------------------------------------+
| 64 | 512 | -0.369 |
+------------+---------+-------------------------------------+
| 64 | 2048 | 0.058 |
+------------+---------+-------------------------------------+
Ubuntu 18.04
Kernel: 4.15.0-generic
GCC: 7.4
NIC: Intel Corporation Ethernet Converged Network Adapter XL710-QDA2 40000 Mbps
Target: x86_64-native-linuxapp-gcc
Fail/Total: 0/2
Detail performance results:
+------------+---------+-------------------------------------+
| frame_size | txd/rxd | throughput difference from expected |
+============+=========+=====================================+
| 64 | 512 | 0.273 |
+------------+---------+-------------------------------------+
| 64 | 2048 | -0.148 |
+------------+---------+-------------------------------------+
https://lab.dpdk.org/results/dashboard/tarballs/7157/
UNH-IOL DPDK Performance Test Lab
To manage your email subscriptions visit:
https://lab.dpdk.org/results/dashboard/preferences/subscriptions/
^ permalink raw reply [flat|nested] 6+ messages in thread
end of thread, other threads:[~2019-11-18 20:55 UTC | newest]
Thread overview: 6+ messages (download: mbox.gz / follow: Atom feed)
-- links below jump to the message on this page --
2019-11-18 20:55 [dpdk-test-report] |SUCCESS| [GIT MASTER] 5fb2bc5b78444e511b42ede496ab1d43bccc8245 dpdklab
-- strict thread matches above, loose matches on Subject: below --
2019-11-18 20:30 dpdklab
2019-11-18 20:28 dpdklab
2019-11-18 19:53 dpdklab
2019-11-18 19:29 dpdklab
2019-11-18 19:27 dpdklab
This is a public inbox, see mirroring instructions
for how to clone and mirror all data and code used for this inbox;
as well as URLs for NNTP newsgroup(s).