* [dpdk-test-report] |SUCCESS| pw62939-62942 [PATCH] [v5, 1/4] net/ice: fix memzone reserve and release in FDIR
@ 2019-11-19 0:12 dpdklab
0 siblings, 0 replies; 3+ messages in thread
From: dpdklab @ 2019-11-19 0:12 UTC (permalink / raw)
To: Ali Alnubani, Test Report; +Cc: dpdk-test-reports
[-- Attachment #1: Type: text/plain, Size: 3923 bytes --]
Test-Label: iol-mellanox-Performance
Test-Status: SUCCESS
http://dpdk.org/patch/62939
_Performance Testing PASS_
Submitter: Wang ShougangX <shougangx.wang@intel.com>
Date: Wednesday, November 13 2019 01:37:55
DPDK git baseline: Repo:dpdk
Branch: master
CommitID:08a234788ee548796fd6b394c7e897a2bf1df1b3
62939-62942 --> performance testing pass
Test environment and result as below:
Ubuntu 18.04
Kernel: 4.15.0-generic
GCC: 7.4
NIC: Mellanox ConnectX-4 Lx 40000 Mbps
Target: x86_64-native-linuxapp-gcc
Fail/Total: 0/6
Detail performance results:
+------------+---------+-------------------------------------+
| frame_size | txd/rxd | throughput difference from expected |
+============+=========+=====================================+
| 64 | 256 | 0.451 |
+------------+---------+-------------------------------------+
| 128 | 256 | -0.023 |
+------------+---------+-------------------------------------+
| 256 | 256 | 0.120 |
+------------+---------+-------------------------------------+
| 512 | 256 | 0.027 |
+------------+---------+-------------------------------------+
| 1024 | 256 | 0 |
+------------+---------+-------------------------------------+
| 1518 | 256 | -0.015 |
+------------+---------+-------------------------------------+
Ubuntu 18.04
Kernel: 4.15.0-generic
GCC: 7.4
NIC: Mellanox ConnectX-5 100000 Mbps
Target: x86_64-native-linuxapp-gcc
Fail/Total: 0/6
Detail performance results:
+------------+---------+-------------------------------------+
| frame_size | txd/rxd | throughput difference from expected |
+============+=========+=====================================+
| 64 | 256 | -0.111 |
+------------+---------+-------------------------------------+
| 128 | 256 | -0.109 |
+------------+---------+-------------------------------------+
| 256 | 256 | 0.150 |
+------------+---------+-------------------------------------+
| 512 | 256 | 0.183 |
+------------+---------+-------------------------------------+
| 1024 | 256 | -0.001 |
+------------+---------+-------------------------------------+
| 1518 | 256 | 0.027 |
+------------+---------+-------------------------------------+
Ubuntu 18.04
Kernel: 4.15.0-generic
GCC: 7.4
NIC: Mellanox ConnectX-4 Lx 25000 Mbps
Target: x86_64-native-linuxapp-gcc
Fail/Total: 0/6
Detail performance results:
+------------+---------+-------------------------------------+
| frame_size | txd/rxd | throughput difference from expected |
+============+=========+=====================================+
| 64 | 256 | 0.146 |
+------------+---------+-------------------------------------+
| 128 | 256 | -0.071 |
+------------+---------+-------------------------------------+
| 256 | 256 | 0.008 |
+------------+---------+-------------------------------------+
| 512 | 256 | -0.018 |
+------------+---------+-------------------------------------+
| 1024 | 256 | 0.015 |
+------------+---------+-------------------------------------+
| 1518 | 256 | 0.009 |
+------------+---------+-------------------------------------+
https://lab.dpdk.org/results/dashboard/patchsets/8519/
UNH-IOL DPDK Performance Test Lab
To manage your email subscriptions visit:
https://lab.dpdk.org/results/dashboard/preferences/subscriptions/
^ permalink raw reply [flat|nested] 3+ messages in thread
* [dpdk-test-report] |SUCCESS| pw62939-62942 [PATCH] [v5, 1/4] net/ice: fix memzone reserve and release in FDIR
@ 2019-11-13 18:04 dpdklab
0 siblings, 0 replies; 3+ messages in thread
From: dpdklab @ 2019-11-13 18:04 UTC (permalink / raw)
To: Test Report; +Cc: dpdk-test-reports
[-- Attachment #1: Type: text/plain, Size: 1343 bytes --]
Test-Label: iol-compilation
Test-Status: SUCCESS
http://dpdk.org/patch/62939
_Compile Testing PASS_
Submitter: Wang ShougangX <shougangx.wang@intel.com>
Date: Wednesday, November 13 2019 01:37:55
DPDK git baseline: Repo:dpdk
Branch: master
CommitID:08a234788ee548796fd6b394c7e897a2bf1df1b3
62939-62942 --> compile testing pass
Test environment and result as below:
+--------------+------------------+-------------------+--------------+
| Environment | dpdk_compile_ovs | dpdk_compile_spdk | dpdk_compile |
+==============+==================+===================+==============+
| Ubuntu 18.04 | PASS | PASS | PASS |
+--------------+------------------+-------------------+--------------+
| CentOS 8 | PASS | | PASS |
+--------------+------------------+-------------------+--------------+
| FreeBSD 11.2 | | PASS | PASS |
+--------------+------------------+-------------------+--------------+
Ubuntu 18.04
Kernel: 4.15.0-generic
GCC: 7.4
CentOS 8
Kernel: 4.18.0.el8_0
GCC: 8.2
FreeBSD 11.2
Kernel: 11.2
GCC: 8.3
https://lab.dpdk.org/results/dashboard/patchsets/8519/
UNH-IOL DPDK Performance Test Lab
To manage your email subscriptions visit:
https://lab.dpdk.org/results/dashboard/preferences/subscriptions/
^ permalink raw reply [flat|nested] 3+ messages in thread
* [dpdk-test-report] |SUCCESS| pw62939-62942 [PATCH] [v5, 1/4] net/ice: fix memzone reserve and release in FDIR
@ 2019-11-13 17:48 dpdklab
0 siblings, 0 replies; 3+ messages in thread
From: dpdklab @ 2019-11-13 17:48 UTC (permalink / raw)
To: Test Report; +Cc: dpdk-test-reports
[-- Attachment #1: Type: text/plain, Size: 2008 bytes --]
Test-Label: iol-intel-Performance
Test-Status: SUCCESS
http://dpdk.org/patch/62939
_Performance Testing PASS_
Submitter: Wang ShougangX <shougangx.wang@intel.com>
Date: Wednesday, November 13 2019 01:37:55
DPDK git baseline: Repo:dpdk
Branch: master
CommitID:08a234788ee548796fd6b394c7e897a2bf1df1b3
62939-62942 --> performance testing pass
Test environment and result as below:
Ubuntu 18.04
Kernel: 4.15.0-generic
GCC: 7.4
NIC: Intel Corporation Ethernet Converged Network Adapter 82599ES 10000 Mbps
Target: x86_64-native-linuxapp-gcc
Fail/Total: 0/3
Detail performance results:
+------------+---------+-------------------------------------+
| frame_size | txd/rxd | throughput difference from expected |
+============+=========+=====================================+
| 64 | 128 | -0.244 |
+------------+---------+-------------------------------------+
| 64 | 512 | -0.458 |
+------------+---------+-------------------------------------+
| 64 | 2048 | 0.413 |
+------------+---------+-------------------------------------+
Ubuntu 18.04
Kernel: 4.15.0-generic
GCC: 7.4
NIC: Intel Corporation Ethernet Converged Network Adapter XL710-QDA2 40000 Mbps
Target: x86_64-native-linuxapp-gcc
Fail/Total: 0/2
Detail performance results:
+------------+---------+-------------------------------------+
| frame_size | txd/rxd | throughput difference from expected |
+============+=========+=====================================+
| 64 | 512 | -0.001 |
+------------+---------+-------------------------------------+
| 64 | 2048 | 0.274 |
+------------+---------+-------------------------------------+
https://lab.dpdk.org/results/dashboard/patchsets/8519/
UNH-IOL DPDK Performance Test Lab
To manage your email subscriptions visit:
https://lab.dpdk.org/results/dashboard/preferences/subscriptions/
^ permalink raw reply [flat|nested] 3+ messages in thread
end of thread, other threads:[~2019-11-19 0:12 UTC | newest]
Thread overview: 3+ messages (download: mbox.gz / follow: Atom feed)
-- links below jump to the message on this page --
2019-11-19 0:12 [dpdk-test-report] |SUCCESS| pw62939-62942 [PATCH] [v5, 1/4] net/ice: fix memzone reserve and release in FDIR dpdklab
-- strict thread matches above, loose matches on Subject: below --
2019-11-13 18:04 dpdklab
2019-11-13 17:48 dpdklab
This is a public inbox, see mirroring instructions
for how to clone and mirror all data and code used for this inbox;
as well as URLs for NNTP newsgroup(s).