* [dpdk-test-report] |SUCCESS| pw63150 [PATCH] net/mlx5: fix Rx queue release assertions
@ 2019-11-20 11:10 dpdklab
0 siblings, 0 replies; 4+ messages in thread
From: dpdklab @ 2019-11-20 11:10 UTC (permalink / raw)
To: Test Report; +Cc: dpdk-test-reports
[-- Attachment #1: Type: text/plain, Size: 1993 bytes --]
Test-Label: iol-intel-Performance
Test-Status: SUCCESS
http://dpdk.org/patch/63150
_Performance Testing PASS_
Submitter: Matan Azrad <matan@mellanox.com>
Date: Wednesday, November 20 2019 09:21:16
DPDK git baseline: Repo:dpdk
Branch: master
CommitID:3be76aa9294f3788b4f9c615642e6027f1b7948a
63150 --> performance testing pass
Test environment and result as below:
Ubuntu 18.04
Kernel: 4.15.0-generic
GCC: 7.4
NIC: Intel Corporation Ethernet Converged Network Adapter 82599ES 10000 Mbps
Target: x86_64-native-linuxapp-gcc
Fail/Total: 0/3
Detail performance results:
+------------+---------+-------------------------------------+
| frame_size | txd/rxd | throughput difference from expected |
+============+=========+=====================================+
| 64 | 128 | 0.010 |
+------------+---------+-------------------------------------+
| 64 | 512 | 0.146 |
+------------+---------+-------------------------------------+
| 64 | 2048 | -0.400 |
+------------+---------+-------------------------------------+
Ubuntu 18.04
Kernel: 4.15.0-generic
GCC: 7.4
NIC: Intel Corporation Ethernet Converged Network Adapter XL710-QDA2 40000 Mbps
Target: x86_64-native-linuxapp-gcc
Fail/Total: 0/2
Detail performance results:
+------------+---------+-------------------------------------+
| frame_size | txd/rxd | throughput difference from expected |
+============+=========+=====================================+
| 64 | 512 | 1.817 |
+------------+---------+-------------------------------------+
| 64 | 2048 | 0.258 |
+------------+---------+-------------------------------------+
https://lab.dpdk.org/results/dashboard/patchsets/8625/
UNH-IOL DPDK Performance Test Lab
To manage your email subscriptions visit:
https://lab.dpdk.org/results/dashboard/preferences/subscriptions/
^ permalink raw reply [flat|nested] 4+ messages in thread
* [dpdk-test-report] |SUCCESS| pw63150 [PATCH] net/mlx5: fix Rx queue release assertions
@ 2019-11-20 12:19 dpdklab
0 siblings, 0 replies; 4+ messages in thread
From: dpdklab @ 2019-11-20 12:19 UTC (permalink / raw)
To: Ali Alnubani, Test Report; +Cc: dpdk-test-reports
[-- Attachment #1: Type: text/plain, Size: 3908 bytes --]
Test-Label: iol-mellanox-Performance
Test-Status: SUCCESS
http://dpdk.org/patch/63150
_Performance Testing PASS_
Submitter: Matan Azrad <matan@mellanox.com>
Date: Wednesday, November 20 2019 09:21:16
DPDK git baseline: Repo:dpdk
Branch: master
CommitID:3be76aa9294f3788b4f9c615642e6027f1b7948a
63150 --> performance testing pass
Test environment and result as below:
Ubuntu 18.04
Kernel: 4.15.0-generic
GCC: 7.4
NIC: Mellanox ConnectX-5 100000 Mbps
Target: x86_64-native-linuxapp-gcc
Fail/Total: 0/6
Detail performance results:
+------------+---------+-------------------------------------+
| frame_size | txd/rxd | throughput difference from expected |
+============+=========+=====================================+
| 64 | 256 | -0.073 |
+------------+---------+-------------------------------------+
| 128 | 256 | -0.034 |
+------------+---------+-------------------------------------+
| 256 | 256 | 0.008 |
+------------+---------+-------------------------------------+
| 512 | 256 | 0.147 |
+------------+---------+-------------------------------------+
| 1024 | 256 | -0.038 |
+------------+---------+-------------------------------------+
| 1518 | 256 | 0.036 |
+------------+---------+-------------------------------------+
Ubuntu 18.04
Kernel: 4.15.0-generic
GCC: 7.4
NIC: Mellanox ConnectX-4 Lx 25000 Mbps
Target: x86_64-native-linuxapp-gcc
Fail/Total: 0/6
Detail performance results:
+------------+---------+-------------------------------------+
| frame_size | txd/rxd | throughput difference from expected |
+============+=========+=====================================+
| 64 | 256 | -0.038 |
+------------+---------+-------------------------------------+
| 128 | 256 | -0.157 |
+------------+---------+-------------------------------------+
| 256 | 256 | -0.003 |
+------------+---------+-------------------------------------+
| 512 | 256 | -0.002 |
+------------+---------+-------------------------------------+
| 1024 | 256 | 0.016 |
+------------+---------+-------------------------------------+
| 1518 | 256 | -0.017 |
+------------+---------+-------------------------------------+
Ubuntu 18.04
Kernel: 4.15.0-generic
GCC: 7.4
NIC: Mellanox ConnectX-4 Lx 40000 Mbps
Target: x86_64-native-linuxapp-gcc
Fail/Total: 0/6
Detail performance results:
+------------+---------+-------------------------------------+
| frame_size | txd/rxd | throughput difference from expected |
+============+=========+=====================================+
| 64 | 256 | -0.243 |
+------------+---------+-------------------------------------+
| 128 | 256 | -0.044 |
+------------+---------+-------------------------------------+
| 256 | 256 | 0.041 |
+------------+---------+-------------------------------------+
| 512 | 256 | -0.005 |
+------------+---------+-------------------------------------+
| 1024 | 256 | 0.002 |
+------------+---------+-------------------------------------+
| 1518 | 256 | -0.014 |
+------------+---------+-------------------------------------+
https://lab.dpdk.org/results/dashboard/patchsets/8625/
UNH-IOL DPDK Performance Test Lab
To manage your email subscriptions visit:
https://lab.dpdk.org/results/dashboard/preferences/subscriptions/
^ permalink raw reply [flat|nested] 4+ messages in thread
* [dpdk-test-report] |SUCCESS| pw63150 [PATCH] net/mlx5: fix Rx queue release assertions
@ 2019-11-20 11:12 dpdklab
0 siblings, 0 replies; 4+ messages in thread
From: dpdklab @ 2019-11-20 11:12 UTC (permalink / raw)
To: Test Report; +Cc: dpdk-test-reports
[-- Attachment #1: Type: text/plain, Size: 1328 bytes --]
Test-Label: iol-compilation
Test-Status: SUCCESS
http://dpdk.org/patch/63150
_Compile Testing PASS_
Submitter: Matan Azrad <matan@mellanox.com>
Date: Wednesday, November 20 2019 09:21:16
DPDK git baseline: Repo:dpdk
Branch: master
CommitID:3be76aa9294f3788b4f9c615642e6027f1b7948a
63150 --> compile testing pass
Test environment and result as below:
+--------------+-------------------+------------------+--------------+
| Environment | dpdk_compile_spdk | dpdk_compile_ovs | dpdk_compile |
+==============+===================+==================+==============+
| Ubuntu 18.04 | PASS | PASS | PASS |
+--------------+-------------------+------------------+--------------+
| FreeBSD 11.2 | PASS | SKIPPED | PASS |
+--------------+-------------------+------------------+--------------+
| CentOS 8 | SKIPPED | PASS | PASS |
+--------------+-------------------+------------------+--------------+
Ubuntu 18.04
Kernel: 4.15.0-generic
GCC: 7.4
FreeBSD 11.2
Kernel: 11.2
GCC: 8.3
CentOS 8
Kernel: 4.18.0.el8_0
GCC: 8.2
https://lab.dpdk.org/results/dashboard/patchsets/8625/
UNH-IOL DPDK Performance Test Lab
To manage your email subscriptions visit:
https://lab.dpdk.org/results/dashboard/preferences/subscriptions/
^ permalink raw reply [flat|nested] 4+ messages in thread
[parent not found: <1574241676-14807-1-git-send-email-matan@mellanox.com>]
end of thread, other threads:[~2019-11-20 12:19 UTC | newest]
Thread overview: 4+ messages (download: mbox.gz / follow: Atom feed)
-- links below jump to the message on this page --
2019-11-20 11:10 [dpdk-test-report] |SUCCESS| pw63150 [PATCH] net/mlx5: fix Rx queue release assertions dpdklab
-- strict thread matches above, loose matches on Subject: below --
2019-11-20 12:19 dpdklab
2019-11-20 11:12 dpdklab
[not found] <1574241676-14807-1-git-send-email-matan@mellanox.com>
2019-11-20 9:22 ` checkpatch
This is a public inbox, see mirroring instructions
for how to clone and mirror all data and code used for this inbox;
as well as URLs for NNTP newsgroup(s).