* [dpdk-test-report] |SUCCESS| [GIT MASTER] 1f1a9c85d5b86db17a4d9974c2be505db300fe70
@ 2019-11-21 1:29 dpdklab
0 siblings, 0 replies; 2+ messages in thread
From: dpdklab @ 2019-11-21 1:29 UTC (permalink / raw)
To: Ali Alnubani, Test Report; +Cc: dpdk-test-reports
[-- Attachment #1: Type: text/plain, Size: 3697 bytes --]
_Performance Testing PASS_
Branch: dpdk-next-net-intel
1f1a9c85d5b86db17a4d9974c2be505db300fe70 --> performance testing pass
Test environment and result as below:
Ubuntu 18.04
Kernel: 4.15.0-generic
GCC: 7.4
NIC: Mellanox ConnectX-4 Lx 40000 Mbps
Target: x86_64-native-linuxapp-gcc
Fail/Total: 0/6
Detail performance results:
+------------+---------+-------------------------------------+
| frame_size | txd/rxd | throughput difference from expected |
+============+=========+=====================================+
| 64 | 256 | 0.011 |
+------------+---------+-------------------------------------+
| 128 | 256 | -0.176 |
+------------+---------+-------------------------------------+
| 256 | 256 | -0.225 |
+------------+---------+-------------------------------------+
| 512 | 256 | 0.004 |
+------------+---------+-------------------------------------+
| 1024 | 256 | -0.010 |
+------------+---------+-------------------------------------+
| 1518 | 256 | -0.015 |
+------------+---------+-------------------------------------+
Ubuntu 18.04
Kernel: 4.15.0-generic
GCC: 7.4
NIC: Mellanox ConnectX-5 100000 Mbps
Target: x86_64-native-linuxapp-gcc
Fail/Total: 0/6
Detail performance results:
+------------+---------+-------------------------------------+
| frame_size | txd/rxd | throughput difference from expected |
+============+=========+=====================================+
| 64 | 256 | -0.006 |
+------------+---------+-------------------------------------+
| 128 | 256 | 0.137 |
+------------+---------+-------------------------------------+
| 256 | 256 | -0.022 |
+------------+---------+-------------------------------------+
| 512 | 256 | -0.047 |
+------------+---------+-------------------------------------+
| 1024 | 256 | -0.040 |
+------------+---------+-------------------------------------+
| 1518 | 256 | 0.002 |
+------------+---------+-------------------------------------+
Ubuntu 18.04
Kernel: 4.15.0-generic
GCC: 7.4
NIC: Mellanox ConnectX-4 Lx 25000 Mbps
Target: x86_64-native-linuxapp-gcc
Fail/Total: 0/6
Detail performance results:
+------------+---------+-------------------------------------+
| frame_size | txd/rxd | throughput difference from expected |
+============+=========+=====================================+
| 64 | 256 | 0.213 |
+------------+---------+-------------------------------------+
| 128 | 256 | -0.080 |
+------------+---------+-------------------------------------+
| 256 | 256 | 0.004 |
+------------+---------+-------------------------------------+
| 512 | 256 | -0.006 |
+------------+---------+-------------------------------------+
| 1024 | 256 | 0.010 |
+------------+---------+-------------------------------------+
| 1518 | 256 | -0.004 |
+------------+---------+-------------------------------------+
https://lab.dpdk.org/results/dashboard/tarballs/7210/
UNH-IOL DPDK Performance Test Lab
To manage your email subscriptions visit:
https://lab.dpdk.org/results/dashboard/preferences/subscriptions/
^ permalink raw reply [flat|nested] 2+ messages in thread
* [dpdk-test-report] |SUCCESS| [GIT MASTER] 1f1a9c85d5b86db17a4d9974c2be505db300fe70
@ 2019-11-21 0:35 dpdklab
0 siblings, 0 replies; 2+ messages in thread
From: dpdklab @ 2019-11-21 0:35 UTC (permalink / raw)
To: Test Report; +Cc: dpdk-test-reports
[-- Attachment #1: Type: text/plain, Size: 1297 bytes --]
_Compile Testing PASS_
Branch: dpdk-next-net-intel
1f1a9c85d5b86db17a4d9974c2be505db300fe70 --> compile testing pass
Test environment and result as below:
+--------------+--------------+----------------+---------------+---------------+
| Environment | dpdk_compile | dpdk_meson_com | dpdk_compile_ | dpdk_compile_ |
| | | pile | ovs | spdk |
+==============+==============+================+===============+===============+
| Ubuntu 18.04 | PASS | PASS | PASS | PASS |
+--------------+--------------+----------------+---------------+---------------+
| FreeBSD 11.2 | PASS | PASS | SKIPPED | PASS |
+--------------+--------------+----------------+---------------+---------------+
| CentOS 8 | PASS | PASS | PASS | SKIPPED |
+--------------+--------------+----------------+---------------+---------------+
Ubuntu 18.04
Kernel: 4.15.0-generic
GCC: 7.4
FreeBSD 11.2
Kernel: 11.2
GCC: 8.3
CentOS 8
Kernel: 4.18.0.el8_0
GCC: 8.2
https://lab.dpdk.org/results/dashboard/tarballs/7210/
UNH-IOL DPDK Performance Test Lab
To manage your email subscriptions visit:
https://lab.dpdk.org/results/dashboard/preferences/subscriptions/
^ permalink raw reply [flat|nested] 2+ messages in thread
end of thread, other threads:[~2019-11-21 1:30 UTC | newest]
Thread overview: 2+ messages (download: mbox.gz / follow: Atom feed)
-- links below jump to the message on this page --
2019-11-21 1:29 [dpdk-test-report] |SUCCESS| [GIT MASTER] 1f1a9c85d5b86db17a4d9974c2be505db300fe70 dpdklab
-- strict thread matches above, loose matches on Subject: below --
2019-11-21 0:35 dpdklab
This is a public inbox, see mirroring instructions
for how to clone and mirror all data and code used for this inbox;
as well as URLs for NNTP newsgroup(s).