* [dpdk-test-report] |SUCCESS| pw63259 [PATCH] net/octeontx2: fix ptype parsing disabled by default
[not found] <20191123085832.1730-1-pbhagavatula@marvell.com>
@ 2019-11-23 8:58 ` checkpatch
2019-11-23 22:08 ` [dpdk-test-report] |SUCCESS| pw63259 " 0-day Robot
1 sibling, 0 replies; 5+ messages in thread
From: checkpatch @ 2019-11-23 8:58 UTC (permalink / raw)
To: test-report
Test-Label: checkpatch
Test-Status: SUCCESS
http://dpdk.org/patch/63259
_coding style OK_
^ permalink raw reply [flat|nested] 5+ messages in thread
* [dpdk-test-report] |SUCCESS| pw63259 net/octeontx2: fix ptype parsing disabled by default
[not found] <20191123085832.1730-1-pbhagavatula@marvell.com>
2019-11-23 8:58 ` [dpdk-test-report] |SUCCESS| pw63259 [PATCH] net/octeontx2: fix ptype parsing disabled by default checkpatch
@ 2019-11-23 22:08 ` 0-day Robot
1 sibling, 0 replies; 5+ messages in thread
From: 0-day Robot @ 2019-11-23 22:08 UTC (permalink / raw)
To: test-report; +Cc: robot
From: robot@bytheb.org
Test-Label: travis-robot
Test-Status: SUCCESS
http://dpdk.org/patch/63259
_Travis build: passed_
Build URL: https://travis-ci.com/ovsrobot/dpdk/builds/137881370
^ permalink raw reply [flat|nested] 5+ messages in thread
* [dpdk-test-report] |SUCCESS| pw63259 [PATCH] net/octeontx2: fix ptype parsing disabled by default
@ 2019-11-23 10:07 dpdklab
0 siblings, 0 replies; 5+ messages in thread
From: dpdklab @ 2019-11-23 10:07 UTC (permalink / raw)
To: Ali Alnubani, Test Report; +Cc: dpdk-test-reports
[-- Attachment #1: Type: text/plain, Size: 3929 bytes --]
Test-Label: iol-mellanox-Performance
Test-Status: SUCCESS
http://dpdk.org/patch/63259
_Performance Testing PASS_
Submitter: Pavan Nikhilesh Bhagavatula <pbhagavatula@marvell.com>
Date: Saturday, November 23 2019 08:58:31
DPDK git baseline: Repo:dpdk
Branch: master
CommitID:e5d0ba08703099c12e4bb2eac650cbb047df1a13
63259 --> performance testing pass
Test environment and result as below:
Ubuntu 18.04
Kernel: 4.15.0-generic
GCC: 7.4
NIC: Mellanox ConnectX-5 100000 Mbps
Target: x86_64-native-linuxapp-gcc
Fail/Total: 0/6
Detail performance results:
+------------+---------+-------------------------------------+
| frame_size | txd/rxd | throughput difference from expected |
+============+=========+=====================================+
| 64 | 256 | -0.099 |
+------------+---------+-------------------------------------+
| 128 | 256 | -0.014 |
+------------+---------+-------------------------------------+
| 256 | 256 | -0.094 |
+------------+---------+-------------------------------------+
| 512 | 256 | 0.197 |
+------------+---------+-------------------------------------+
| 1024 | 256 | -0.021 |
+------------+---------+-------------------------------------+
| 1518 | 256 | -0.010 |
+------------+---------+-------------------------------------+
Ubuntu 18.04
Kernel: 4.15.0-generic
GCC: 7.4
NIC: Mellanox ConnectX-4 Lx 40000 Mbps
Target: x86_64-native-linuxapp-gcc
Fail/Total: 0/6
Detail performance results:
+------------+---------+-------------------------------------+
| frame_size | txd/rxd | throughput difference from expected |
+============+=========+=====================================+
| 64 | 256 | -0.004 |
+------------+---------+-------------------------------------+
| 128 | 256 | -0.040 |
+------------+---------+-------------------------------------+
| 256 | 256 | 0.037 |
+------------+---------+-------------------------------------+
| 512 | 256 | 0.032 |
+------------+---------+-------------------------------------+
| 1024 | 256 | 0.004 |
+------------+---------+-------------------------------------+
| 1518 | 256 | -0.009 |
+------------+---------+-------------------------------------+
Ubuntu 18.04
Kernel: 4.15.0-generic
GCC: 7.4
NIC: Mellanox ConnectX-4 Lx 25000 Mbps
Target: x86_64-native-linuxapp-gcc
Fail/Total: 0/6
Detail performance results:
+------------+---------+-------------------------------------+
| frame_size | txd/rxd | throughput difference from expected |
+============+=========+=====================================+
| 64 | 256 | 0.251 |
+------------+---------+-------------------------------------+
| 128 | 256 | 0.216 |
+------------+---------+-------------------------------------+
| 256 | 256 | 0.018 |
+------------+---------+-------------------------------------+
| 512 | 256 | 0.030 |
+------------+---------+-------------------------------------+
| 1024 | 256 | 0.016 |
+------------+---------+-------------------------------------+
| 1518 | 256 | 0.001 |
+------------+---------+-------------------------------------+
https://lab.dpdk.org/results/dashboard/patchsets/8679/
UNH-IOL DPDK Performance Test Lab
To manage your email subscriptions visit:
https://lab.dpdk.org/results/dashboard/preferences/subscriptions/
^ permalink raw reply [flat|nested] 5+ messages in thread
* [dpdk-test-report] |SUCCESS| pw63259 [PATCH] net/octeontx2: fix ptype parsing disabled by default
@ 2019-11-23 9:45 dpdklab
0 siblings, 0 replies; 5+ messages in thread
From: dpdklab @ 2019-11-23 9:45 UTC (permalink / raw)
To: Test Report; +Cc: dpdk-test-reports
[-- Attachment #1: Type: text/plain, Size: 1520 bytes --]
Test-Label: iol-compilation
Test-Status: SUCCESS
http://dpdk.org/patch/63259
_Compile Testing PASS_
Submitter: Pavan Nikhilesh Bhagavatula <pbhagavatula@marvell.com>
Date: Saturday, November 23 2019 08:58:31
DPDK git baseline: Repo:dpdk
Branch: master
CommitID:e5d0ba08703099c12e4bb2eac650cbb047df1a13
63259 --> compile testing pass
Test environment and result as below:
+--------------+----------------+--------------+---------------+---------------+
| Environment | dpdk_meson_com | dpdk_compile | dpdk_compile_ | dpdk_compile_ |
| | pile | | ovs | spdk |
+==============+================+==============+===============+===============+
| Ubuntu 18.04 | PASS | PASS | PASS | PASS |
+--------------+----------------+--------------+---------------+---------------+
| CentOS 8 | PASS | PASS | PASS | SKIPPED |
+--------------+----------------+--------------+---------------+---------------+
| FreeBSD 11.2 | PASS | PASS | SKIPPED | PASS |
+--------------+----------------+--------------+---------------+---------------+
Ubuntu 18.04
Kernel: 4.15.0-generic
GCC: 7.4
CentOS 8
Kernel: 4.18.0.el8_0
GCC: 8.2
FreeBSD 11.2
Kernel: 11.2
GCC: 8.3
https://lab.dpdk.org/results/dashboard/patchsets/8679/
UNH-IOL DPDK Performance Test Lab
To manage your email subscriptions visit:
https://lab.dpdk.org/results/dashboard/preferences/subscriptions/
^ permalink raw reply [flat|nested] 5+ messages in thread
* [dpdk-test-report] |SUCCESS| pw63259 [PATCH] net/octeontx2: fix ptype parsing disabled by default
@ 2019-11-23 9:40 dpdklab
0 siblings, 0 replies; 5+ messages in thread
From: dpdklab @ 2019-11-23 9:40 UTC (permalink / raw)
To: Test Report; +Cc: dpdk-test-reports
[-- Attachment #1: Type: text/plain, Size: 2014 bytes --]
Test-Label: iol-intel-Performance
Test-Status: SUCCESS
http://dpdk.org/patch/63259
_Performance Testing PASS_
Submitter: Pavan Nikhilesh Bhagavatula <pbhagavatula@marvell.com>
Date: Saturday, November 23 2019 08:58:31
DPDK git baseline: Repo:dpdk
Branch: master
CommitID:e5d0ba08703099c12e4bb2eac650cbb047df1a13
63259 --> performance testing pass
Test environment and result as below:
Ubuntu 18.04
Kernel: 4.15.0-generic
GCC: 7.4
NIC: Intel Corporation Ethernet Converged Network Adapter 82599ES 10000 Mbps
Target: x86_64-native-linuxapp-gcc
Fail/Total: 0/3
Detail performance results:
+------------+---------+-------------------------------------+
| frame_size | txd/rxd | throughput difference from expected |
+============+=========+=====================================+
| 64 | 128 | 0.038 |
+------------+---------+-------------------------------------+
| 64 | 512 | 0.243 |
+------------+---------+-------------------------------------+
| 64 | 2048 | 0.144 |
+------------+---------+-------------------------------------+
Ubuntu 18.04
Kernel: 4.15.0-generic
GCC: 7.4
NIC: Intel Corporation Ethernet Converged Network Adapter XL710-QDA2 40000 Mbps
Target: x86_64-native-linuxapp-gcc
Fail/Total: 0/2
Detail performance results:
+------------+---------+-------------------------------------+
| frame_size | txd/rxd | throughput difference from expected |
+============+=========+=====================================+
| 64 | 512 | 0.669 |
+------------+---------+-------------------------------------+
| 64 | 2048 | -0.310 |
+------------+---------+-------------------------------------+
https://lab.dpdk.org/results/dashboard/patchsets/8679/
UNH-IOL DPDK Performance Test Lab
To manage your email subscriptions visit:
https://lab.dpdk.org/results/dashboard/preferences/subscriptions/
^ permalink raw reply [flat|nested] 5+ messages in thread
end of thread, other threads:[~2019-11-23 22:10 UTC | newest]
Thread overview: 5+ messages (download: mbox.gz / follow: Atom feed)
-- links below jump to the message on this page --
[not found] <20191123085832.1730-1-pbhagavatula@marvell.com>
2019-11-23 8:58 ` [dpdk-test-report] |SUCCESS| pw63259 [PATCH] net/octeontx2: fix ptype parsing disabled by default checkpatch
2019-11-23 22:08 ` [dpdk-test-report] |SUCCESS| pw63259 " 0-day Robot
2019-11-23 10:07 [dpdk-test-report] |SUCCESS| pw63259 [PATCH] " dpdklab
-- strict thread matches above, loose matches on Subject: below --
2019-11-23 9:45 dpdklab
2019-11-23 9:40 dpdklab
This is a public inbox, see mirroring instructions
for how to clone and mirror all data and code used for this inbox;
as well as URLs for NNTP newsgroup(s).