* [dpdk-test-report] |SUCCESS| pw63288 [PATCH] examples/ioat: handle error when querying number of stats
@ 2019-11-25 16:22 dpdklab
0 siblings, 0 replies; 5+ messages in thread
From: dpdklab @ 2019-11-25 16:22 UTC (permalink / raw)
To: Ali Alnubani, Test Report; +Cc: dpdk-test-reports
[-- Attachment #1: Type: text/plain, Size: 3918 bytes --]
Test-Label: iol-mellanox-Performance
Test-Status: SUCCESS
http://dpdk.org/patch/63288
_Performance Testing PASS_
Submitter: Bruce Richardson <bruce.richardson@intel.com>
Date: Monday, November 25 2019 15:36:20
DPDK git baseline: Repo:dpdk
Branch: master
CommitID:e5d0ba08703099c12e4bb2eac650cbb047df1a13
63288 --> performance testing pass
Test environment and result as below:
Ubuntu 18.04
Kernel: 4.15.0-generic
GCC: 7.4
NIC: Mellanox ConnectX-4 Lx 40000 Mbps
Target: x86_64-native-linuxapp-gcc
Fail/Total: 0/6
Detail performance results:
+------------+---------+-------------------------------------+
| frame_size | txd/rxd | throughput difference from expected |
+============+=========+=====================================+
| 64 | 256 | 0.137 |
+------------+---------+-------------------------------------+
| 128 | 256 | 0.036 |
+------------+---------+-------------------------------------+
| 256 | 256 | 0.074 |
+------------+---------+-------------------------------------+
| 512 | 256 | 0.021 |
+------------+---------+-------------------------------------+
| 1024 | 256 | -0.008 |
+------------+---------+-------------------------------------+
| 1518 | 256 | 0.004 |
+------------+---------+-------------------------------------+
Ubuntu 18.04
Kernel: 4.15.0-generic
GCC: 7.4
NIC: Mellanox ConnectX-4 Lx 25000 Mbps
Target: x86_64-native-linuxapp-gcc
Fail/Total: 0/6
Detail performance results:
+------------+---------+-------------------------------------+
| frame_size | txd/rxd | throughput difference from expected |
+============+=========+=====================================+
| 64 | 256 | 0.269 |
+------------+---------+-------------------------------------+
| 128 | 256 | 0.070 |
+------------+---------+-------------------------------------+
| 256 | 256 | 0.058 |
+------------+---------+-------------------------------------+
| 512 | 256 | 0 |
+------------+---------+-------------------------------------+
| 1024 | 256 | 0.003 |
+------------+---------+-------------------------------------+
| 1518 | 256 | 0.006 |
+------------+---------+-------------------------------------+
Ubuntu 18.04
Kernel: 4.15.0-generic
GCC: 7.4
NIC: Mellanox ConnectX-5 100000 Mbps
Target: x86_64-native-linuxapp-gcc
Fail/Total: 0/6
Detail performance results:
+------------+---------+-------------------------------------+
| frame_size | txd/rxd | throughput difference from expected |
+============+=========+=====================================+
| 64 | 256 | -0.183 |
+------------+---------+-------------------------------------+
| 128 | 256 | 0.160 |
+------------+---------+-------------------------------------+
| 256 | 256 | -0.121 |
+------------+---------+-------------------------------------+
| 512 | 256 | 0.139 |
+------------+---------+-------------------------------------+
| 1024 | 256 | -0.055 |
+------------+---------+-------------------------------------+
| 1518 | 256 | 0.010 |
+------------+---------+-------------------------------------+
https://lab.dpdk.org/results/dashboard/patchsets/8694/
UNH-IOL DPDK Performance Test Lab
To manage your email subscriptions visit:
https://lab.dpdk.org/results/dashboard/preferences/subscriptions/
^ permalink raw reply [flat|nested] 5+ messages in thread
* [dpdk-test-report] |SUCCESS| pw63288 [PATCH] examples/ioat: handle error when querying number of stats
@ 2019-11-25 16:00 dpdklab
0 siblings, 0 replies; 5+ messages in thread
From: dpdklab @ 2019-11-25 16:00 UTC (permalink / raw)
To: Test Report; +Cc: dpdk-test-reports
[-- Attachment #1: Type: text/plain, Size: 1509 bytes --]
Test-Label: iol-compilation
Test-Status: SUCCESS
http://dpdk.org/patch/63288
_Compile Testing PASS_
Submitter: Bruce Richardson <bruce.richardson@intel.com>
Date: Monday, November 25 2019 15:36:20
DPDK git baseline: Repo:dpdk
Branch: master
CommitID:e5d0ba08703099c12e4bb2eac650cbb047df1a13
63288 --> compile testing pass
Test environment and result as below:
+--------------+----------------+--------------+---------------+---------------+
| Environment | dpdk_compile_o | dpdk_compile | dpdk_compile_ | dpdk_meson_co |
| | vs | | spdk | mpile |
+==============+================+==============+===============+===============+
| Ubuntu 18.04 | PASS | PASS | PASS | PASS |
+--------------+----------------+--------------+---------------+---------------+
| CentOS 8 | PASS | PASS | SKIPPED | PASS |
+--------------+----------------+--------------+---------------+---------------+
| FreeBSD 11.2 | SKIPPED | PASS | PASS | PASS |
+--------------+----------------+--------------+---------------+---------------+
Ubuntu 18.04
Kernel: 4.15.0-generic
GCC: 7.4
CentOS 8
Kernel: 4.18.0.el8_0
GCC: 8.2
FreeBSD 11.2
Kernel: 11.2
GCC: 8.3
https://lab.dpdk.org/results/dashboard/patchsets/8694/
UNH-IOL DPDK Performance Test Lab
To manage your email subscriptions visit:
https://lab.dpdk.org/results/dashboard/preferences/subscriptions/
^ permalink raw reply [flat|nested] 5+ messages in thread
* [dpdk-test-report] |SUCCESS| pw63288 [PATCH] examples/ioat: handle error when querying number of stats
@ 2019-11-25 15:56 dpdklab
0 siblings, 0 replies; 5+ messages in thread
From: dpdklab @ 2019-11-25 15:56 UTC (permalink / raw)
To: Test Report; +Cc: dpdk-test-reports
[-- Attachment #1: Type: text/plain, Size: 2003 bytes --]
Test-Label: iol-intel-Performance
Test-Status: SUCCESS
http://dpdk.org/patch/63288
_Performance Testing PASS_
Submitter: Bruce Richardson <bruce.richardson@intel.com>
Date: Monday, November 25 2019 15:36:20
DPDK git baseline: Repo:dpdk
Branch: master
CommitID:e5d0ba08703099c12e4bb2eac650cbb047df1a13
63288 --> performance testing pass
Test environment and result as below:
Ubuntu 18.04
Kernel: 4.15.0-generic
GCC: 7.4
NIC: Intel Corporation Ethernet Converged Network Adapter 82599ES 10000 Mbps
Target: x86_64-native-linuxapp-gcc
Fail/Total: 0/3
Detail performance results:
+------------+---------+-------------------------------------+
| frame_size | txd/rxd | throughput difference from expected |
+============+=========+=====================================+
| 64 | 128 | -0.180 |
+------------+---------+-------------------------------------+
| 64 | 512 | 0.137 |
+------------+---------+-------------------------------------+
| 64 | 2048 | 0.266 |
+------------+---------+-------------------------------------+
Ubuntu 18.04
Kernel: 4.15.0-generic
GCC: 7.4
NIC: Intel Corporation Ethernet Converged Network Adapter XL710-QDA2 40000 Mbps
Target: x86_64-native-linuxapp-gcc
Fail/Total: 0/2
Detail performance results:
+------------+---------+-------------------------------------+
| frame_size | txd/rxd | throughput difference from expected |
+============+=========+=====================================+
| 64 | 512 | 0.720 |
+------------+---------+-------------------------------------+
| 64 | 2048 | 0.267 |
+------------+---------+-------------------------------------+
https://lab.dpdk.org/results/dashboard/patchsets/8694/
UNH-IOL DPDK Performance Test Lab
To manage your email subscriptions visit:
https://lab.dpdk.org/results/dashboard/preferences/subscriptions/
^ permalink raw reply [flat|nested] 5+ messages in thread
end of thread, other threads:[~2019-11-25 23:11 UTC | newest]
Thread overview: 5+ messages (download: mbox.gz / follow: Atom feed)
-- links below jump to the message on this page --
[not found] <20191125153620.69358-1-bruce.richardson@intel.com>
2019-11-25 15:38 ` [dpdk-test-report] |SUCCESS| pw63288 [PATCH] examples/ioat: handle error when querying number of stats checkpatch
2019-11-25 23:10 ` [dpdk-test-report] |SUCCESS| pw63288 " 0-day Robot
2019-11-25 16:22 [dpdk-test-report] |SUCCESS| pw63288 [PATCH] " dpdklab
-- strict thread matches above, loose matches on Subject: below --
2019-11-25 16:00 dpdklab
2019-11-25 15:56 dpdklab
This is a public inbox, see mirroring instructions
for how to clone and mirror all data and code used for this inbox;
as well as URLs for NNTP newsgroup(s).