* [dpdk-test-report] |SUCCESS| [GIT MASTER] fa8163adc484b2d0b991a704ece33d72f61553a1
@ 2019-11-25 19:53 dpdklab
0 siblings, 0 replies; 3+ messages in thread
From: dpdklab @ 2019-11-25 19:53 UTC (permalink / raw)
To: Ali Alnubani, Test Report; +Cc: dpdk-test-reports
[-- Attachment #1: Type: text/plain, Size: 3691 bytes --]
_Performance Testing PASS_
Branch: dpdk-next-net
fa8163adc484b2d0b991a704ece33d72f61553a1 --> performance testing pass
Test environment and result as below:
Ubuntu 18.04
Kernel: 4.15.0-generic
GCC: 7.4
NIC: Mellanox ConnectX-5 100000 Mbps
Target: x86_64-native-linuxapp-gcc
Fail/Total: 0/6
Detail performance results:
+------------+---------+-------------------------------------+
| frame_size | txd/rxd | throughput difference from expected |
+============+=========+=====================================+
| 64 | 256 | 0.028 |
+------------+---------+-------------------------------------+
| 128 | 256 | 0.389 |
+------------+---------+-------------------------------------+
| 256 | 256 | 0.034 |
+------------+---------+-------------------------------------+
| 512 | 256 | 0.123 |
+------------+---------+-------------------------------------+
| 1024 | 256 | 0.028 |
+------------+---------+-------------------------------------+
| 1518 | 256 | -0.028 |
+------------+---------+-------------------------------------+
Ubuntu 18.04
Kernel: 4.15.0-generic
GCC: 7.4
NIC: Mellanox ConnectX-4 Lx 25000 Mbps
Target: x86_64-native-linuxapp-gcc
Fail/Total: 0/6
Detail performance results:
+------------+---------+-------------------------------------+
| frame_size | txd/rxd | throughput difference from expected |
+============+=========+=====================================+
| 64 | 256 | 0.408 |
+------------+---------+-------------------------------------+
| 128 | 256 | 0.085 |
+------------+---------+-------------------------------------+
| 256 | 256 | -0.028 |
+------------+---------+-------------------------------------+
| 512 | 256 | -0.012 |
+------------+---------+-------------------------------------+
| 1024 | 256 | 0.002 |
+------------+---------+-------------------------------------+
| 1518 | 256 | 0 |
+------------+---------+-------------------------------------+
Ubuntu 18.04
Kernel: 4.15.0-generic
GCC: 7.4
NIC: Mellanox ConnectX-4 Lx 40000 Mbps
Target: x86_64-native-linuxapp-gcc
Fail/Total: 0/6
Detail performance results:
+------------+---------+-------------------------------------+
| frame_size | txd/rxd | throughput difference from expected |
+============+=========+=====================================+
| 64 | 256 | 0.007 |
+------------+---------+-------------------------------------+
| 128 | 256 | 0.148 |
+------------+---------+-------------------------------------+
| 256 | 256 | 0.007 |
+------------+---------+-------------------------------------+
| 512 | 256 | 0.040 |
+------------+---------+-------------------------------------+
| 1024 | 256 | -0.010 |
+------------+---------+-------------------------------------+
| 1518 | 256 | -0.012 |
+------------+---------+-------------------------------------+
https://lab.dpdk.org/results/dashboard/tarballs/7268/
UNH-IOL DPDK Performance Test Lab
To manage your email subscriptions visit:
https://lab.dpdk.org/results/dashboard/preferences/subscriptions/
^ permalink raw reply [flat|nested] 3+ messages in thread
* [dpdk-test-report] |SUCCESS| [GIT MASTER] fa8163adc484b2d0b991a704ece33d72f61553a1
@ 2019-11-25 19:31 dpdklab
0 siblings, 0 replies; 3+ messages in thread
From: dpdklab @ 2019-11-25 19:31 UTC (permalink / raw)
To: Test Report; +Cc: dpdk-test-reports
[-- Attachment #1: Type: text/plain, Size: 1291 bytes --]
_Compile Testing PASS_
Branch: dpdk-next-net
fa8163adc484b2d0b991a704ece33d72f61553a1 --> compile testing pass
Test environment and result as below:
+--------------+----------------+--------------+---------------+---------------+
| Environment | dpdk_compile_o | dpdk_compile | dpdk_meson_co | dpdk_compile_ |
| | vs | | mpile | spdk |
+==============+================+==============+===============+===============+
| Ubuntu 18.04 | PASS | PASS | PASS | PASS |
+--------------+----------------+--------------+---------------+---------------+
| CentOS 8 | PASS | PASS | PASS | SKIPPED |
+--------------+----------------+--------------+---------------+---------------+
| FreeBSD 11.2 | SKIPPED | PASS | PASS | PASS |
+--------------+----------------+--------------+---------------+---------------+
Ubuntu 18.04
Kernel: 4.15.0-generic
GCC: 7.4
CentOS 8
Kernel: 4.18.0.el8_0
GCC: 8.2
FreeBSD 11.2
Kernel: 11.2
GCC: 8.3
https://lab.dpdk.org/results/dashboard/tarballs/7268/
UNH-IOL DPDK Performance Test Lab
To manage your email subscriptions visit:
https://lab.dpdk.org/results/dashboard/preferences/subscriptions/
^ permalink raw reply [flat|nested] 3+ messages in thread
* [dpdk-test-report] |SUCCESS| [GIT MASTER] fa8163adc484b2d0b991a704ece33d72f61553a1
@ 2019-11-25 19:28 dpdklab
0 siblings, 0 replies; 3+ messages in thread
From: dpdklab @ 2019-11-25 19:28 UTC (permalink / raw)
To: Test Report; +Cc: dpdk-test-reports
[-- Attachment #1: Type: text/plain, Size: 1779 bytes --]
_Performance Testing PASS_
Branch: dpdk-next-net
fa8163adc484b2d0b991a704ece33d72f61553a1 --> performance testing pass
Test environment and result as below:
Ubuntu 18.04
Kernel: 4.15.0-generic
GCC: 7.4
NIC: Intel Corporation Ethernet Converged Network Adapter 82599ES 10000 Mbps
Target: x86_64-native-linuxapp-gcc
Fail/Total: 0/3
Detail performance results:
+------------+---------+-------------------------------------+
| frame_size | txd/rxd | throughput difference from expected |
+============+=========+=====================================+
| 64 | 128 | -0.140 |
+------------+---------+-------------------------------------+
| 64 | 512 | 0.410 |
+------------+---------+-------------------------------------+
| 64 | 2048 | -0.210 |
+------------+---------+-------------------------------------+
Ubuntu 18.04
Kernel: 4.15.0-generic
GCC: 7.4
NIC: Intel Corporation Ethernet Converged Network Adapter XL710-QDA2 40000 Mbps
Target: x86_64-native-linuxapp-gcc
Fail/Total: 0/2
Detail performance results:
+------------+---------+-------------------------------------+
| frame_size | txd/rxd | throughput difference from expected |
+============+=========+=====================================+
| 64 | 512 | 0.496 |
+------------+---------+-------------------------------------+
| 64 | 2048 | 0.249 |
+------------+---------+-------------------------------------+
https://lab.dpdk.org/results/dashboard/tarballs/7268/
UNH-IOL DPDK Performance Test Lab
To manage your email subscriptions visit:
https://lab.dpdk.org/results/dashboard/preferences/subscriptions/
^ permalink raw reply [flat|nested] 3+ messages in thread
end of thread, other threads:[~2019-11-25 19:53 UTC | newest]
Thread overview: 3+ messages (download: mbox.gz / follow: Atom feed)
-- links below jump to the message on this page --
2019-11-25 19:53 [dpdk-test-report] |SUCCESS| [GIT MASTER] fa8163adc484b2d0b991a704ece33d72f61553a1 dpdklab
-- strict thread matches above, loose matches on Subject: below --
2019-11-25 19:31 dpdklab
2019-11-25 19:28 dpdklab
This is a public inbox, see mirroring instructions
for how to clone and mirror all data and code used for this inbox;
as well as URLs for NNTP newsgroup(s).