* [dpdk-test-report] |SUCCESS| [GIT MASTER] 076e2aeed453cead5f521b5e19366d43a70019b6
@ 2019-11-25 21:59 dpdklab
0 siblings, 0 replies; 3+ messages in thread
From: dpdklab @ 2019-11-25 21:59 UTC (permalink / raw)
To: Test Report; +Cc: dpdk-test-reports
[-- Attachment #1: Type: text/plain, Size: 1296 bytes --]
_Compile Testing PASS_
Branch: dpdk-next-net-mrvl
076e2aeed453cead5f521b5e19366d43a70019b6 --> compile testing pass
Test environment and result as below:
+--------------+----------------+---------------+--------------+---------------+
| Environment | dpdk_meson_com | dpdk_compile_ | dpdk_compile | dpdk_compile_ |
| | pile | spdk | | ovs |
+==============+================+===============+==============+===============+
| Ubuntu 18.04 | PASS | PASS | PASS | PASS |
+--------------+----------------+---------------+--------------+---------------+
| FreeBSD 11.2 | PASS | PASS | PASS | SKIPPED |
+--------------+----------------+---------------+--------------+---------------+
| CentOS 8 | PASS | SKIPPED | PASS | PASS |
+--------------+----------------+---------------+--------------+---------------+
Ubuntu 18.04
Kernel: 4.15.0-generic
GCC: 7.4
FreeBSD 11.2
Kernel: 11.2
GCC: 8.3
CentOS 8
Kernel: 4.18.0.el8_0
GCC: 8.2
https://lab.dpdk.org/results/dashboard/tarballs/7269/
UNH-IOL DPDK Performance Test Lab
To manage your email subscriptions visit:
https://lab.dpdk.org/results/dashboard/preferences/subscriptions/
^ permalink raw reply [flat|nested] 3+ messages in thread
* [dpdk-test-report] |SUCCESS| [GIT MASTER] 076e2aeed453cead5f521b5e19366d43a70019b6
@ 2019-11-25 22:21 dpdklab
0 siblings, 0 replies; 3+ messages in thread
From: dpdklab @ 2019-11-25 22:21 UTC (permalink / raw)
To: Ali Alnubani, Test Report; +Cc: dpdk-test-reports
[-- Attachment #1: Type: text/plain, Size: 3696 bytes --]
_Performance Testing PASS_
Branch: dpdk-next-net-mrvl
076e2aeed453cead5f521b5e19366d43a70019b6 --> performance testing pass
Test environment and result as below:
Ubuntu 18.04
Kernel: 4.15.0-generic
GCC: 7.4
NIC: Mellanox ConnectX-5 100000 Mbps
Target: x86_64-native-linuxapp-gcc
Fail/Total: 0/6
Detail performance results:
+------------+---------+-------------------------------------+
| frame_size | txd/rxd | throughput difference from expected |
+============+=========+=====================================+
| 64 | 256 | 0.148 |
+------------+---------+-------------------------------------+
| 128 | 256 | 0.106 |
+------------+---------+-------------------------------------+
| 256 | 256 | 0.074 |
+------------+---------+-------------------------------------+
| 512 | 256 | 0.150 |
+------------+---------+-------------------------------------+
| 1024 | 256 | -0.092 |
+------------+---------+-------------------------------------+
| 1518 | 256 | -0.021 |
+------------+---------+-------------------------------------+
Ubuntu 18.04
Kernel: 4.15.0-generic
GCC: 7.4
NIC: Mellanox ConnectX-4 Lx 40000 Mbps
Target: x86_64-native-linuxapp-gcc
Fail/Total: 0/6
Detail performance results:
+------------+---------+-------------------------------------+
| frame_size | txd/rxd | throughput difference from expected |
+============+=========+=====================================+
| 64 | 256 | 0.376 |
+------------+---------+-------------------------------------+
| 128 | 256 | 0.046 |
+------------+---------+-------------------------------------+
| 256 | 256 | 0.017 |
+------------+---------+-------------------------------------+
| 512 | 256 | 0.011 |
+------------+---------+-------------------------------------+
| 1024 | 256 | 0.006 |
+------------+---------+-------------------------------------+
| 1518 | 256 | -0.010 |
+------------+---------+-------------------------------------+
Ubuntu 18.04
Kernel: 4.15.0-generic
GCC: 7.4
NIC: Mellanox ConnectX-4 Lx 25000 Mbps
Target: x86_64-native-linuxapp-gcc
Fail/Total: 0/6
Detail performance results:
+------------+---------+-------------------------------------+
| frame_size | txd/rxd | throughput difference from expected |
+============+=========+=====================================+
| 64 | 256 | 0.261 |
+------------+---------+-------------------------------------+
| 128 | 256 | 0.177 |
+------------+---------+-------------------------------------+
| 256 | 256 | 0.001 |
+------------+---------+-------------------------------------+
| 512 | 256 | 0.025 |
+------------+---------+-------------------------------------+
| 1024 | 256 | 0.001 |
+------------+---------+-------------------------------------+
| 1518 | 256 | 0.013 |
+------------+---------+-------------------------------------+
https://lab.dpdk.org/results/dashboard/tarballs/7269/
UNH-IOL DPDK Performance Test Lab
To manage your email subscriptions visit:
https://lab.dpdk.org/results/dashboard/preferences/subscriptions/
^ permalink raw reply [flat|nested] 3+ messages in thread
* [dpdk-test-report] |SUCCESS| [GIT MASTER] 076e2aeed453cead5f521b5e19366d43a70019b6
@ 2019-11-25 21:55 dpdklab
0 siblings, 0 replies; 3+ messages in thread
From: dpdklab @ 2019-11-25 21:55 UTC (permalink / raw)
To: Test Report; +Cc: dpdk-test-reports
[-- Attachment #1: Type: text/plain, Size: 1784 bytes --]
_Performance Testing PASS_
Branch: dpdk-next-net-mrvl
076e2aeed453cead5f521b5e19366d43a70019b6 --> performance testing pass
Test environment and result as below:
Ubuntu 18.04
Kernel: 4.15.0-generic
GCC: 7.4
NIC: Intel Corporation Ethernet Converged Network Adapter 82599ES 10000 Mbps
Target: x86_64-native-linuxapp-gcc
Fail/Total: 0/3
Detail performance results:
+------------+---------+-------------------------------------+
| frame_size | txd/rxd | throughput difference from expected |
+============+=========+=====================================+
| 64 | 128 | 0.011 |
+------------+---------+-------------------------------------+
| 64 | 512 | 0.453 |
+------------+---------+-------------------------------------+
| 64 | 2048 | -0.351 |
+------------+---------+-------------------------------------+
Ubuntu 18.04
Kernel: 4.15.0-generic
GCC: 7.4
NIC: Intel Corporation Ethernet Converged Network Adapter XL710-QDA2 40000 Mbps
Target: x86_64-native-linuxapp-gcc
Fail/Total: 0/2
Detail performance results:
+------------+---------+-------------------------------------+
| frame_size | txd/rxd | throughput difference from expected |
+============+=========+=====================================+
| 64 | 512 | 0.237 |
+------------+---------+-------------------------------------+
| 64 | 2048 | -0.536 |
+------------+---------+-------------------------------------+
https://lab.dpdk.org/results/dashboard/tarballs/7269/
UNH-IOL DPDK Performance Test Lab
To manage your email subscriptions visit:
https://lab.dpdk.org/results/dashboard/preferences/subscriptions/
^ permalink raw reply [flat|nested] 3+ messages in thread
end of thread, other threads:[~2019-11-25 22:21 UTC | newest]
Thread overview: 3+ messages (download: mbox.gz / follow: Atom feed)
-- links below jump to the message on this page --
2019-11-25 21:59 [dpdk-test-report] |SUCCESS| [GIT MASTER] 076e2aeed453cead5f521b5e19366d43a70019b6 dpdklab
-- strict thread matches above, loose matches on Subject: below --
2019-11-25 22:21 dpdklab
2019-11-25 21:55 dpdklab
This is a public inbox, see mirroring instructions
for how to clone and mirror all data and code used for this inbox;
as well as URLs for NNTP newsgroup(s).