* [dpdk-test-report] |SUCCESS| pw63292 [PATCH] net/netvsc: disable before changing RSS parameters
@ 2019-11-26 3:23 dpdklab
0 siblings, 0 replies; 4+ messages in thread
From: dpdklab @ 2019-11-26 3:23 UTC (permalink / raw)
To: Ali Alnubani, Test Report; +Cc: dpdk-test-reports
[-- Attachment #1: Type: text/plain, Size: 3919 bytes --]
Test-Label: iol-mellanox-Performance
Test-Status: SUCCESS
http://dpdk.org/patch/63292
_Performance Testing PASS_
Submitter: Stephen Hemminger <stephen@networkplumber.org>
Date: Monday, November 25 2019 17:13:00
DPDK git baseline: Repo:dpdk
Branch: master
CommitID:39a19ae03d8fe6210f3e7919b29378bd3223621c
63292 --> performance testing pass
Test environment and result as below:
Ubuntu 18.04
Kernel: 4.15.0-generic
GCC: 7.4
NIC: Mellanox ConnectX-4 Lx 25000 Mbps
Target: x86_64-native-linuxapp-gcc
Fail/Total: 0/6
Detail performance results:
+------------+---------+-------------------------------------+
| frame_size | txd/rxd | throughput difference from expected |
+============+=========+=====================================+
| 64 | 256 | -0.421 |
+------------+---------+-------------------------------------+
| 128 | 256 | -0.123 |
+------------+---------+-------------------------------------+
| 256 | 256 | 0.025 |
+------------+---------+-------------------------------------+
| 512 | 256 | -0.025 |
+------------+---------+-------------------------------------+
| 1024 | 256 | -0.001 |
+------------+---------+-------------------------------------+
| 1518 | 256 | 0.006 |
+------------+---------+-------------------------------------+
Ubuntu 18.04
Kernel: 4.15.0-generic
GCC: 7.4
NIC: Mellanox ConnectX-4 Lx 40000 Mbps
Target: x86_64-native-linuxapp-gcc
Fail/Total: 0/6
Detail performance results:
+------------+---------+-------------------------------------+
| frame_size | txd/rxd | throughput difference from expected |
+============+=========+=====================================+
| 64 | 256 | 0.030 |
+------------+---------+-------------------------------------+
| 128 | 256 | -0.143 |
+------------+---------+-------------------------------------+
| 256 | 256 | 0.100 |
+------------+---------+-------------------------------------+
| 512 | 256 | 0.036 |
+------------+---------+-------------------------------------+
| 1024 | 256 | -0.017 |
+------------+---------+-------------------------------------+
| 1518 | 256 | 0.006 |
+------------+---------+-------------------------------------+
Ubuntu 18.04
Kernel: 4.15.0-generic
GCC: 7.4
NIC: Mellanox ConnectX-5 100000 Mbps
Target: x86_64-native-linuxapp-gcc
Fail/Total: 0/6
Detail performance results:
+------------+---------+-------------------------------------+
| frame_size | txd/rxd | throughput difference from expected |
+============+=========+=====================================+
| 64 | 256 | 0.086 |
+------------+---------+-------------------------------------+
| 128 | 256 | -0.098 |
+------------+---------+-------------------------------------+
| 256 | 256 | -0.065 |
+------------+---------+-------------------------------------+
| 512 | 256 | -0.146 |
+------------+---------+-------------------------------------+
| 1024 | 256 | -0.033 |
+------------+---------+-------------------------------------+
| 1518 | 256 | -0.002 |
+------------+---------+-------------------------------------+
https://lab.dpdk.org/results/dashboard/patchsets/8698/
UNH-IOL DPDK Performance Test Lab
To manage your email subscriptions visit:
https://lab.dpdk.org/results/dashboard/preferences/subscriptions/
^ permalink raw reply [flat|nested] 4+ messages in thread
* [dpdk-test-report] |SUCCESS| pw63292 [PATCH] net/netvsc: disable before changing RSS parameters
@ 2019-11-26 3:00 dpdklab
0 siblings, 0 replies; 4+ messages in thread
From: dpdklab @ 2019-11-26 3:00 UTC (permalink / raw)
To: Test Report; +Cc: dpdk-test-reports
[-- Attachment #1: Type: text/plain, Size: 1510 bytes --]
Test-Label: iol-compilation
Test-Status: SUCCESS
http://dpdk.org/patch/63292
_Compile Testing PASS_
Submitter: Stephen Hemminger <stephen@networkplumber.org>
Date: Monday, November 25 2019 17:13:00
DPDK git baseline: Repo:dpdk
Branch: master
CommitID:39a19ae03d8fe6210f3e7919b29378bd3223621c
63292 --> compile testing pass
Test environment and result as below:
+--------------+----------------+---------------+--------------+---------------+
| Environment | dpdk_compile_s | dpdk_meson_co | dpdk_compile | dpdk_compile_ |
| | pdk | mpile | | ovs |
+==============+================+===============+==============+===============+
| Ubuntu 18.04 | PASS | PASS | PASS | PASS |
+--------------+----------------+---------------+--------------+---------------+
| FreeBSD 11.2 | PASS | PASS | PASS | SKIPPED |
+--------------+----------------+---------------+--------------+---------------+
| CentOS 8 | SKIPPED | PASS | PASS | PASS |
+--------------+----------------+---------------+--------------+---------------+
Ubuntu 18.04
Kernel: 4.15.0-generic
GCC: 7.4
FreeBSD 11.2
Kernel: 11.2
GCC: 8.3
CentOS 8
Kernel: 4.18.0.el8_0
GCC: 8.2
https://lab.dpdk.org/results/dashboard/patchsets/8698/
UNH-IOL DPDK Performance Test Lab
To manage your email subscriptions visit:
https://lab.dpdk.org/results/dashboard/preferences/subscriptions/
^ permalink raw reply [flat|nested] 4+ messages in thread
* [dpdk-test-report] |SUCCESS| pw63292 [PATCH] net/netvsc: disable before changing RSS parameters
@ 2019-11-26 2:56 dpdklab
0 siblings, 0 replies; 4+ messages in thread
From: dpdklab @ 2019-11-26 2:56 UTC (permalink / raw)
To: Test Report; +Cc: dpdk-test-reports
[-- Attachment #1: Type: text/plain, Size: 2004 bytes --]
Test-Label: iol-intel-Performance
Test-Status: SUCCESS
http://dpdk.org/patch/63292
_Performance Testing PASS_
Submitter: Stephen Hemminger <stephen@networkplumber.org>
Date: Monday, November 25 2019 17:13:00
DPDK git baseline: Repo:dpdk
Branch: master
CommitID:39a19ae03d8fe6210f3e7919b29378bd3223621c
63292 --> performance testing pass
Test environment and result as below:
Ubuntu 18.04
Kernel: 4.15.0-generic
GCC: 7.4
NIC: Intel Corporation Ethernet Converged Network Adapter 82599ES 10000 Mbps
Target: x86_64-native-linuxapp-gcc
Fail/Total: 0/3
Detail performance results:
+------------+---------+-------------------------------------+
| frame_size | txd/rxd | throughput difference from expected |
+============+=========+=====================================+
| 64 | 128 | -0.260 |
+------------+---------+-------------------------------------+
| 64 | 512 | -0.039 |
+------------+---------+-------------------------------------+
| 64 | 2048 | 0.086 |
+------------+---------+-------------------------------------+
Ubuntu 18.04
Kernel: 4.15.0-generic
GCC: 7.4
NIC: Intel Corporation Ethernet Converged Network Adapter XL710-QDA2 40000 Mbps
Target: x86_64-native-linuxapp-gcc
Fail/Total: 0/2
Detail performance results:
+------------+---------+-------------------------------------+
| frame_size | txd/rxd | throughput difference from expected |
+============+=========+=====================================+
| 64 | 512 | -0.794 |
+------------+---------+-------------------------------------+
| 64 | 2048 | 0.425 |
+------------+---------+-------------------------------------+
https://lab.dpdk.org/results/dashboard/patchsets/8698/
UNH-IOL DPDK Performance Test Lab
To manage your email subscriptions visit:
https://lab.dpdk.org/results/dashboard/preferences/subscriptions/
^ permalink raw reply [flat|nested] 4+ messages in thread
* [dpdk-test-report] |SUCCESS| pw63292 [PATCH] net/netvsc: disable before changing RSS parameters
[not found] <20191125171300.3284-1-stephen@networkplumber.org>
@ 2019-11-25 17:13 ` checkpatch
0 siblings, 0 replies; 4+ messages in thread
From: checkpatch @ 2019-11-25 17:13 UTC (permalink / raw)
To: test-report
Test-Label: checkpatch
Test-Status: SUCCESS
http://dpdk.org/patch/63292
_coding style OK_
^ permalink raw reply [flat|nested] 4+ messages in thread
end of thread, other threads:[~2019-11-26 3:23 UTC | newest]
Thread overview: 4+ messages (download: mbox.gz / follow: Atom feed)
-- links below jump to the message on this page --
2019-11-26 3:23 [dpdk-test-report] |SUCCESS| pw63292 [PATCH] net/netvsc: disable before changing RSS parameters dpdklab
-- strict thread matches above, loose matches on Subject: below --
2019-11-26 3:00 dpdklab
2019-11-26 2:56 dpdklab
[not found] <20191125171300.3284-1-stephen@networkplumber.org>
2019-11-25 17:13 ` checkpatch
This is a public inbox, see mirroring instructions
for how to clone and mirror all data and code used for this inbox;
as well as URLs for NNTP newsgroup(s).