* [dpdk-test-report] |SUCCESS| pw63315 [PATCH] net/kni: fix crash caused by double stop
[not found] <20191126105007.62289-1-ferruh.yigit@intel.com>
@ 2019-11-26 10:50 ` checkpatch
2019-11-27 3:09 ` [dpdk-test-report] |SUCCESS| pw63315 " 0-day Robot
1 sibling, 0 replies; 4+ messages in thread
From: checkpatch @ 2019-11-26 10:50 UTC (permalink / raw)
To: test-report
Test-Label: checkpatch
Test-Status: SUCCESS
http://dpdk.org/patch/63315
_coding style OK_
^ permalink raw reply [flat|nested] 4+ messages in thread
* [dpdk-test-report] |SUCCESS| pw63315 net/kni: fix crash caused by double stop
[not found] <20191126105007.62289-1-ferruh.yigit@intel.com>
2019-11-26 10:50 ` [dpdk-test-report] |SUCCESS| pw63315 [PATCH] net/kni: fix crash caused by double stop checkpatch
@ 2019-11-27 3:09 ` 0-day Robot
1 sibling, 0 replies; 4+ messages in thread
From: 0-day Robot @ 2019-11-27 3:09 UTC (permalink / raw)
To: test-report; +Cc: robot
From: robot@bytheb.org
Test-Label: travis-robot
Test-Status: SUCCESS
http://dpdk.org/patch/63315
_Travis build: passed_
Build URL: https://travis-ci.com/ovsrobot/dpdk/builds/138212663
^ permalink raw reply [flat|nested] 4+ messages in thread
* [dpdk-test-report] |SUCCESS| pw63315 [PATCH] net/kni: fix crash caused by double stop
@ 2019-11-26 16:38 dpdklab
0 siblings, 0 replies; 4+ messages in thread
From: dpdklab @ 2019-11-26 16:38 UTC (permalink / raw)
To: Ali Alnubani, Test Report; +Cc: dpdk-test-reports
[-- Attachment #1: Type: text/plain, Size: 3911 bytes --]
Test-Label: iol-mellanox-Performance
Test-Status: SUCCESS
http://dpdk.org/patch/63315
_Performance Testing PASS_
Submitter: Ferruh Yigit <ferruh.yigit@intel.com>
Date: Tuesday, November 26 2019 10:50:07
DPDK git baseline: Repo:dpdk
Branch: master
CommitID:39a19ae03d8fe6210f3e7919b29378bd3223621c
63315 --> performance testing pass
Test environment and result as below:
Ubuntu 18.04
Kernel: 4.15.0-generic
GCC: 7.4
NIC: Mellanox ConnectX-4 Lx 40000 Mbps
Target: x86_64-native-linuxapp-gcc
Fail/Total: 0/6
Detail performance results:
+------------+---------+-------------------------------------+
| frame_size | txd/rxd | throughput difference from expected |
+============+=========+=====================================+
| 64 | 256 | -0.471 |
+------------+---------+-------------------------------------+
| 128 | 256 | -0.003 |
+------------+---------+-------------------------------------+
| 256 | 256 | 0.023 |
+------------+---------+-------------------------------------+
| 512 | 256 | -0.002 |
+------------+---------+-------------------------------------+
| 1024 | 256 | -0.001 |
+------------+---------+-------------------------------------+
| 1518 | 256 | 0.001 |
+------------+---------+-------------------------------------+
Ubuntu 18.04
Kernel: 4.15.0-generic
GCC: 7.4
NIC: Mellanox ConnectX-4 Lx 25000 Mbps
Target: x86_64-native-linuxapp-gcc
Fail/Total: 0/6
Detail performance results:
+------------+---------+-------------------------------------+
| frame_size | txd/rxd | throughput difference from expected |
+============+=========+=====================================+
| 64 | 256 | -0.660 |
+------------+---------+-------------------------------------+
| 128 | 256 | -0.114 |
+------------+---------+-------------------------------------+
| 256 | 256 | 0.021 |
+------------+---------+-------------------------------------+
| 512 | 256 | -0.036 |
+------------+---------+-------------------------------------+
| 1024 | 256 | 0.001 |
+------------+---------+-------------------------------------+
| 1518 | 256 | 0.006 |
+------------+---------+-------------------------------------+
Ubuntu 18.04
Kernel: 4.15.0-generic
GCC: 7.4
NIC: Mellanox ConnectX-5 100000 Mbps
Target: x86_64-native-linuxapp-gcc
Fail/Total: 0/6
Detail performance results:
+------------+---------+-------------------------------------+
| frame_size | txd/rxd | throughput difference from expected |
+============+=========+=====================================+
| 64 | 256 | -0.832 |
+------------+---------+-------------------------------------+
| 128 | 256 | -0.199 |
+------------+---------+-------------------------------------+
| 256 | 256 | -0.124 |
+------------+---------+-------------------------------------+
| 512 | 256 | -0.088 |
+------------+---------+-------------------------------------+
| 1024 | 256 | -0.049 |
+------------+---------+-------------------------------------+
| 1518 | 256 | -0.004 |
+------------+---------+-------------------------------------+
https://lab.dpdk.org/results/dashboard/patchsets/8719/
UNH-IOL DPDK Performance Test Lab
To manage your email subscriptions visit:
https://lab.dpdk.org/results/dashboard/preferences/subscriptions/
^ permalink raw reply [flat|nested] 4+ messages in thread
* [dpdk-test-report] |SUCCESS| pw63315 [PATCH] net/kni: fix crash caused by double stop
@ 2019-11-26 15:16 dpdklab
0 siblings, 0 replies; 4+ messages in thread
From: dpdklab @ 2019-11-26 15:16 UTC (permalink / raw)
To: Test Report; +Cc: dpdk-test-reports
[-- Attachment #1: Type: text/plain, Size: 1502 bytes --]
Test-Label: iol-compilation
Test-Status: SUCCESS
http://dpdk.org/patch/63315
_Compile Testing PASS_
Submitter: Ferruh Yigit <ferruh.yigit@intel.com>
Date: Tuesday, November 26 2019 10:50:07
DPDK git baseline: Repo:dpdk
Branch: master
CommitID:39a19ae03d8fe6210f3e7919b29378bd3223621c
63315 --> compile testing pass
Test environment and result as below:
+--------------+--------------+----------------+---------------+---------------+
| Environment | dpdk_compile | dpdk_meson_com | dpdk_compile_ | dpdk_compile_ |
| | | pile | spdk | ovs |
+==============+==============+================+===============+===============+
| Ubuntu 18.04 | PASS | PASS | PASS | PASS |
+--------------+--------------+----------------+---------------+---------------+
| FreeBSD 11.2 | PASS | PASS | PASS | SKIPPED |
+--------------+--------------+----------------+---------------+---------------+
| CentOS 8 | PASS | PASS | SKIPPED | PASS |
+--------------+--------------+----------------+---------------+---------------+
Ubuntu 18.04
Kernel: 4.15.0-generic
GCC: 7.4
FreeBSD 11.2
Kernel: 11.2
GCC: 8.3
CentOS 8
Kernel: 4.18.0.el8_0
GCC: 8.2
https://lab.dpdk.org/results/dashboard/patchsets/8719/
UNH-IOL DPDK Performance Test Lab
To manage your email subscriptions visit:
https://lab.dpdk.org/results/dashboard/preferences/subscriptions/
^ permalink raw reply [flat|nested] 4+ messages in thread
end of thread, other threads:[~2019-11-27 3:11 UTC | newest]
Thread overview: 4+ messages (download: mbox.gz / follow: Atom feed)
-- links below jump to the message on this page --
[not found] <20191126105007.62289-1-ferruh.yigit@intel.com>
2019-11-26 10:50 ` [dpdk-test-report] |SUCCESS| pw63315 [PATCH] net/kni: fix crash caused by double stop checkpatch
2019-11-27 3:09 ` [dpdk-test-report] |SUCCESS| pw63315 " 0-day Robot
2019-11-26 15:16 [dpdk-test-report] |SUCCESS| pw63315 [PATCH] " dpdklab
2019-11-26 16:38 dpdklab
This is a public inbox, see mirroring instructions
for how to clone and mirror all data and code used for this inbox;
as well as URLs for NNTP newsgroup(s).