* [dpdk-test-report] |SUCCESS| pw63322 [PATCH] net/mlx5: add GENEVE in tunnel offloads cap query
[not found] <1574777165-10517-1-git-send-email-suanmingm@mellanox.com>
@ 2019-11-26 14:07 ` checkpatch
2019-11-27 10:11 ` [dpdk-test-report] |WARNING| pw63322 " 0-day Robot
1 sibling, 0 replies; 5+ messages in thread
From: checkpatch @ 2019-11-26 14:07 UTC (permalink / raw)
To: test-report
Test-Label: checkpatch
Test-Status: SUCCESS
http://dpdk.org/patch/63322
_coding style OK_
^ permalink raw reply [flat|nested] 5+ messages in thread
* [dpdk-test-report] |WARNING| pw63322 net/mlx5: add GENEVE in tunnel offloads cap query
[not found] <1574777165-10517-1-git-send-email-suanmingm@mellanox.com>
2019-11-26 14:07 ` [dpdk-test-report] |SUCCESS| pw63322 [PATCH] net/mlx5: add GENEVE in tunnel offloads cap query checkpatch
@ 2019-11-27 10:11 ` 0-day Robot
1 sibling, 0 replies; 5+ messages in thread
From: 0-day Robot @ 2019-11-27 10:11 UTC (permalink / raw)
To: test-report; +Cc: suanmingm, robot
From: robot@bytheb.org
Test-Label: travis-robot
Test-Status: WARNING
http://dpdk.org/patch/63322
_Travis build: failed_
Build URL: https://travis-ci.com/ovsrobot/dpdk/builds/138257494
^ permalink raw reply [flat|nested] 5+ messages in thread
* [dpdk-test-report] |SUCCESS| pw63322 [PATCH] net/mlx5: add GENEVE in tunnel offloads cap query
@ 2019-11-26 22:23 dpdklab
0 siblings, 0 replies; 5+ messages in thread
From: dpdklab @ 2019-11-26 22:23 UTC (permalink / raw)
To: Ali Alnubani, Test Report; +Cc: dpdk-test-reports
[-- Attachment #1: Type: text/plain, Size: 3911 bytes --]
Test-Label: iol-mellanox-Performance
Test-Status: SUCCESS
http://dpdk.org/patch/63322
_Performance Testing PASS_
Submitter: Suanming Mou <suanmingm@mellanox.com>
Date: Tuesday, November 26 2019 14:06:05
DPDK git baseline: Repo:dpdk
Branch: master
CommitID:39a19ae03d8fe6210f3e7919b29378bd3223621c
63322 --> performance testing pass
Test environment and result as below:
Ubuntu 18.04
Kernel: 4.15.0-generic
GCC: 7.4
NIC: Mellanox ConnectX-5 100000 Mbps
Target: x86_64-native-linuxapp-gcc
Fail/Total: 0/6
Detail performance results:
+------------+---------+-------------------------------------+
| frame_size | txd/rxd | throughput difference from expected |
+============+=========+=====================================+
| 64 | 256 | -0.586 |
+------------+---------+-------------------------------------+
| 128 | 256 | 0.020 |
+------------+---------+-------------------------------------+
| 256 | 256 | -0.031 |
+------------+---------+-------------------------------------+
| 512 | 256 | -0.158 |
+------------+---------+-------------------------------------+
| 1024 | 256 | -0.061 |
+------------+---------+-------------------------------------+
| 1518 | 256 | 0.010 |
+------------+---------+-------------------------------------+
Ubuntu 18.04
Kernel: 4.15.0-generic
GCC: 7.4
NIC: Mellanox ConnectX-4 Lx 25000 Mbps
Target: x86_64-native-linuxapp-gcc
Fail/Total: 0/6
Detail performance results:
+------------+---------+-------------------------------------+
| frame_size | txd/rxd | throughput difference from expected |
+============+=========+=====================================+
| 64 | 256 | -0.608 |
+------------+---------+-------------------------------------+
| 128 | 256 | 0.072 |
+------------+---------+-------------------------------------+
| 256 | 256 | 0.008 |
+------------+---------+-------------------------------------+
| 512 | 256 | -0.027 |
+------------+---------+-------------------------------------+
| 1024 | 256 | -0.002 |
+------------+---------+-------------------------------------+
| 1518 | 256 | 0.005 |
+------------+---------+-------------------------------------+
Ubuntu 18.04
Kernel: 4.15.0-generic
GCC: 7.4
NIC: Mellanox ConnectX-4 Lx 40000 Mbps
Target: x86_64-native-linuxapp-gcc
Fail/Total: 0/6
Detail performance results:
+------------+---------+-------------------------------------+
| frame_size | txd/rxd | throughput difference from expected |
+============+=========+=====================================+
| 64 | 256 | -0.366 |
+------------+---------+-------------------------------------+
| 128 | 256 | -0.003 |
+------------+---------+-------------------------------------+
| 256 | 256 | 0.012 |
+------------+---------+-------------------------------------+
| 512 | 256 | -0.012 |
+------------+---------+-------------------------------------+
| 1024 | 256 | -0.012 |
+------------+---------+-------------------------------------+
| 1518 | 256 | -0.002 |
+------------+---------+-------------------------------------+
https://lab.dpdk.org/results/dashboard/patchsets/8724/
UNH-IOL DPDK Performance Test Lab
To manage your email subscriptions visit:
https://lab.dpdk.org/results/dashboard/preferences/subscriptions/
^ permalink raw reply [flat|nested] 5+ messages in thread
* [dpdk-test-report] |SUCCESS| pw63322 [PATCH] net/mlx5: add GENEVE in tunnel offloads cap query
@ 2019-11-26 19:57 dpdklab
0 siblings, 0 replies; 5+ messages in thread
From: dpdklab @ 2019-11-26 19:57 UTC (permalink / raw)
To: Test Report; +Cc: dpdk-test-reports
[-- Attachment #1: Type: text/plain, Size: 1331 bytes --]
Test-Label: iol-compilation
Test-Status: SUCCESS
http://dpdk.org/patch/63322
_Compile Testing PASS_
Submitter: Suanming Mou <suanmingm@mellanox.com>
Date: Tuesday, November 26 2019 14:06:05
DPDK git baseline: Repo:dpdk
Branch: master
CommitID:39a19ae03d8fe6210f3e7919b29378bd3223621c
63322 --> compile testing pass
Test environment and result as below:
+--------------+--------------+------------------+-------------------+
| Environment | dpdk_compile | dpdk_compile_ovs | dpdk_compile_spdk |
+==============+==============+==================+===================+
| Ubuntu 18.04 | PASS | PASS | PASS |
+--------------+--------------+------------------+-------------------+
| FreeBSD 11.2 | PASS | SKIPPED | PASS |
+--------------+--------------+------------------+-------------------+
| CentOS 8 | PASS | PASS | SKIPPED |
+--------------+--------------+------------------+-------------------+
Ubuntu 18.04
Kernel: 4.15.0-generic
GCC: 7.4
FreeBSD 11.2
Kernel: 11.2
GCC: 8.3
CentOS 8
Kernel: 4.18.0.el8_0
GCC: 8.2
https://lab.dpdk.org/results/dashboard/patchsets/8724/
UNH-IOL DPDK Performance Test Lab
To manage your email subscriptions visit:
https://lab.dpdk.org/results/dashboard/preferences/subscriptions/
^ permalink raw reply [flat|nested] 5+ messages in thread
* [dpdk-test-report] |SUCCESS| pw63322 [PATCH] net/mlx5: add GENEVE in tunnel offloads cap query
@ 2019-11-26 19:55 dpdklab
0 siblings, 0 replies; 5+ messages in thread
From: dpdklab @ 2019-11-26 19:55 UTC (permalink / raw)
To: Test Report; +Cc: dpdk-test-reports
[-- Attachment #1: Type: text/plain, Size: 1996 bytes --]
Test-Label: iol-intel-Performance
Test-Status: SUCCESS
http://dpdk.org/patch/63322
_Performance Testing PASS_
Submitter: Suanming Mou <suanmingm@mellanox.com>
Date: Tuesday, November 26 2019 14:06:05
DPDK git baseline: Repo:dpdk
Branch: master
CommitID:39a19ae03d8fe6210f3e7919b29378bd3223621c
63322 --> performance testing pass
Test environment and result as below:
Ubuntu 18.04
Kernel: 4.15.0-generic
GCC: 7.4
NIC: Intel Corporation Ethernet Converged Network Adapter 82599ES 10000 Mbps
Target: x86_64-native-linuxapp-gcc
Fail/Total: 0/3
Detail performance results:
+------------+---------+-------------------------------------+
| frame_size | txd/rxd | throughput difference from expected |
+============+=========+=====================================+
| 64 | 128 | -0.323 |
+------------+---------+-------------------------------------+
| 64 | 512 | -0.218 |
+------------+---------+-------------------------------------+
| 64 | 2048 | 0.105 |
+------------+---------+-------------------------------------+
Ubuntu 18.04
Kernel: 4.15.0-generic
GCC: 7.4
NIC: Intel Corporation Ethernet Converged Network Adapter XL710-QDA2 40000 Mbps
Target: x86_64-native-linuxapp-gcc
Fail/Total: 0/2
Detail performance results:
+------------+---------+-------------------------------------+
| frame_size | txd/rxd | throughput difference from expected |
+============+=========+=====================================+
| 64 | 512 | 0.151 |
+------------+---------+-------------------------------------+
| 64 | 2048 | 0.127 |
+------------+---------+-------------------------------------+
https://lab.dpdk.org/results/dashboard/patchsets/8724/
UNH-IOL DPDK Performance Test Lab
To manage your email subscriptions visit:
https://lab.dpdk.org/results/dashboard/preferences/subscriptions/
^ permalink raw reply [flat|nested] 5+ messages in thread
end of thread, other threads:[~2019-11-27 10:13 UTC | newest]
Thread overview: 5+ messages (download: mbox.gz / follow: Atom feed)
-- links below jump to the message on this page --
[not found] <1574777165-10517-1-git-send-email-suanmingm@mellanox.com>
2019-11-26 14:07 ` [dpdk-test-report] |SUCCESS| pw63322 [PATCH] net/mlx5: add GENEVE in tunnel offloads cap query checkpatch
2019-11-27 10:11 ` [dpdk-test-report] |WARNING| pw63322 " 0-day Robot
2019-11-26 19:55 [dpdk-test-report] |SUCCESS| pw63322 [PATCH] " dpdklab
2019-11-26 19:57 dpdklab
2019-11-26 22:23 dpdklab
This is a public inbox, see mirroring instructions
for how to clone and mirror all data and code used for this inbox;
as well as URLs for NNTP newsgroup(s).