* [dpdk-test-report] |SUCCESS| pw63325 [PATCH] service: don't walk out of bounds when checking services
@ 2019-11-26 20:26 dpdklab
0 siblings, 0 replies; 4+ messages in thread
From: dpdklab @ 2019-11-26 20:26 UTC (permalink / raw)
To: Ali Alnubani, Test Report; +Cc: dpdk-test-reports
[-- Attachment #1: Type: text/plain, Size: 3907 bytes --]
Test-Label: iol-mellanox-Performance
Test-Status: SUCCESS
http://dpdk.org/patch/63325
_Performance Testing PASS_
Submitter: Aaron Conole <aconole@redhat.com>
Date: Tuesday, November 26 2019 14:56:06
DPDK git baseline: Repo:dpdk
Branch: master
CommitID:39a19ae03d8fe6210f3e7919b29378bd3223621c
63325 --> performance testing pass
Test environment and result as below:
Ubuntu 18.04
Kernel: 4.15.0-generic
GCC: 7.4
NIC: Mellanox ConnectX-4 Lx 25000 Mbps
Target: x86_64-native-linuxapp-gcc
Fail/Total: 0/6
Detail performance results:
+------------+---------+-------------------------------------+
| frame_size | txd/rxd | throughput difference from expected |
+============+=========+=====================================+
| 64 | 256 | -0.568 |
+------------+---------+-------------------------------------+
| 128 | 256 | -0.081 |
+------------+---------+-------------------------------------+
| 256 | 256 | 0.002 |
+------------+---------+-------------------------------------+
| 512 | 256 | 0.006 |
+------------+---------+-------------------------------------+
| 1024 | 256 | 0.007 |
+------------+---------+-------------------------------------+
| 1518 | 256 | 0.001 |
+------------+---------+-------------------------------------+
Ubuntu 18.04
Kernel: 4.15.0-generic
GCC: 7.4
NIC: Mellanox ConnectX-5 100000 Mbps
Target: x86_64-native-linuxapp-gcc
Fail/Total: 0/6
Detail performance results:
+------------+---------+-------------------------------------+
| frame_size | txd/rxd | throughput difference from expected |
+============+=========+=====================================+
| 64 | 256 | -0.376 |
+------------+---------+-------------------------------------+
| 128 | 256 | -0.213 |
+------------+---------+-------------------------------------+
| 256 | 256 | -0.142 |
+------------+---------+-------------------------------------+
| 512 | 256 | -0.153 |
+------------+---------+-------------------------------------+
| 1024 | 256 | 0.025 |
+------------+---------+-------------------------------------+
| 1518 | 256 | -0.017 |
+------------+---------+-------------------------------------+
Ubuntu 18.04
Kernel: 4.15.0-generic
GCC: 7.4
NIC: Mellanox ConnectX-4 Lx 40000 Mbps
Target: x86_64-native-linuxapp-gcc
Fail/Total: 0/6
Detail performance results:
+------------+---------+-------------------------------------+
| frame_size | txd/rxd | throughput difference from expected |
+============+=========+=====================================+
| 64 | 256 | -0.589 |
+------------+---------+-------------------------------------+
| 128 | 256 | 0.019 |
+------------+---------+-------------------------------------+
| 256 | 256 | -0.050 |
+------------+---------+-------------------------------------+
| 512 | 256 | -0.006 |
+------------+---------+-------------------------------------+
| 1024 | 256 | -0.012 |
+------------+---------+-------------------------------------+
| 1518 | 256 | 0.007 |
+------------+---------+-------------------------------------+
https://lab.dpdk.org/results/dashboard/patchsets/8727/
UNH-IOL DPDK Performance Test Lab
To manage your email subscriptions visit:
https://lab.dpdk.org/results/dashboard/preferences/subscriptions/
^ permalink raw reply [flat|nested] 4+ messages in thread
* [dpdk-test-report] |SUCCESS| pw63325 [PATCH] service: don't walk out of bounds when checking services
@ 2019-11-26 19:17 dpdklab
0 siblings, 0 replies; 4+ messages in thread
From: dpdklab @ 2019-11-26 19:17 UTC (permalink / raw)
To: Test Report; +Cc: dpdk-test-reports
[-- Attachment #1: Type: text/plain, Size: 1992 bytes --]
Test-Label: iol-intel-Performance
Test-Status: SUCCESS
http://dpdk.org/patch/63325
_Performance Testing PASS_
Submitter: Aaron Conole <aconole@redhat.com>
Date: Tuesday, November 26 2019 14:56:06
DPDK git baseline: Repo:dpdk
Branch: master
CommitID:39a19ae03d8fe6210f3e7919b29378bd3223621c
63325 --> performance testing pass
Test environment and result as below:
Ubuntu 18.04
Kernel: 4.15.0-generic
GCC: 7.4
NIC: Intel Corporation Ethernet Converged Network Adapter 82599ES 10000 Mbps
Target: x86_64-native-linuxapp-gcc
Fail/Total: 0/3
Detail performance results:
+------------+---------+-------------------------------------+
| frame_size | txd/rxd | throughput difference from expected |
+============+=========+=====================================+
| 64 | 128 | -0.189 |
+------------+---------+-------------------------------------+
| 64 | 512 | -0.262 |
+------------+---------+-------------------------------------+
| 64 | 2048 | -0.012 |
+------------+---------+-------------------------------------+
Ubuntu 18.04
Kernel: 4.15.0-generic
GCC: 7.4
NIC: Intel Corporation Ethernet Converged Network Adapter XL710-QDA2 40000 Mbps
Target: x86_64-native-linuxapp-gcc
Fail/Total: 0/2
Detail performance results:
+------------+---------+-------------------------------------+
| frame_size | txd/rxd | throughput difference from expected |
+============+=========+=====================================+
| 64 | 512 | -0.391 |
+------------+---------+-------------------------------------+
| 64 | 2048 | 0.259 |
+------------+---------+-------------------------------------+
https://lab.dpdk.org/results/dashboard/patchsets/8727/
UNH-IOL DPDK Performance Test Lab
To manage your email subscriptions visit:
https://lab.dpdk.org/results/dashboard/preferences/subscriptions/
^ permalink raw reply [flat|nested] 4+ messages in thread
* [dpdk-test-report] |SUCCESS| pw63325 [PATCH] service: don't walk out of bounds when checking services
@ 2019-11-26 19:12 dpdklab
0 siblings, 0 replies; 4+ messages in thread
From: dpdklab @ 2019-11-26 19:12 UTC (permalink / raw)
To: Test Report; +Cc: dpdk-test-reports
[-- Attachment #1: Type: text/plain, Size: 1327 bytes --]
Test-Label: iol-compilation
Test-Status: SUCCESS
http://dpdk.org/patch/63325
_Compile Testing PASS_
Submitter: Aaron Conole <aconole@redhat.com>
Date: Tuesday, November 26 2019 14:56:06
DPDK git baseline: Repo:dpdk
Branch: master
CommitID:39a19ae03d8fe6210f3e7919b29378bd3223621c
63325 --> compile testing pass
Test environment and result as below:
+--------------+------------------+-------------------+--------------+
| Environment | dpdk_compile_ovs | dpdk_compile_spdk | dpdk_compile |
+==============+==================+===================+==============+
| Ubuntu 18.04 | PASS | PASS | PASS |
+--------------+------------------+-------------------+--------------+
| CentOS 8 | PASS | SKIPPED | PASS |
+--------------+------------------+-------------------+--------------+
| FreeBSD 11.2 | SKIPPED | PASS | PASS |
+--------------+------------------+-------------------+--------------+
Ubuntu 18.04
Kernel: 4.15.0-generic
GCC: 7.4
CentOS 8
Kernel: 4.18.0.el8_0
GCC: 8.2
FreeBSD 11.2
Kernel: 11.2
GCC: 8.3
https://lab.dpdk.org/results/dashboard/patchsets/8727/
UNH-IOL DPDK Performance Test Lab
To manage your email subscriptions visit:
https://lab.dpdk.org/results/dashboard/preferences/subscriptions/
^ permalink raw reply [flat|nested] 4+ messages in thread
* [dpdk-test-report] |SUCCESS| pw63325 [PATCH] service: don't walk out of bounds when checking services
[not found] <20191126145606.13626-1-aconole@redhat.com>
@ 2019-11-26 14:57 ` checkpatch
0 siblings, 0 replies; 4+ messages in thread
From: checkpatch @ 2019-11-26 14:57 UTC (permalink / raw)
To: test-report
Test-Label: checkpatch
Test-Status: SUCCESS
http://dpdk.org/patch/63325
_coding style OK_
^ permalink raw reply [flat|nested] 4+ messages in thread
end of thread, other threads:[~2019-11-26 20:26 UTC | newest]
Thread overview: 4+ messages (download: mbox.gz / follow: Atom feed)
-- links below jump to the message on this page --
2019-11-26 20:26 [dpdk-test-report] |SUCCESS| pw63325 [PATCH] service: don't walk out of bounds when checking services dpdklab
-- strict thread matches above, loose matches on Subject: below --
2019-11-26 19:17 dpdklab
2019-11-26 19:12 dpdklab
[not found] <20191126145606.13626-1-aconole@redhat.com>
2019-11-26 14:57 ` checkpatch
This is a public inbox, see mirroring instructions
for how to clone and mirror all data and code used for this inbox;
as well as URLs for NNTP newsgroup(s).