* [dpdk-test-report] |SUCCESS| pw63329 [PATCH] examples/fips_validation: fix incorrect structure used for AES-GCM
@ 2019-11-27 20:12 dpdklab
0 siblings, 0 replies; 5+ messages in thread
From: dpdklab @ 2019-11-27 20:12 UTC (permalink / raw)
To: Ali Alnubani, Test Report; +Cc: dpdk-test-reports
[-- Attachment #1: Type: text/plain, Size: 3909 bytes --]
Test-Label: iol-mellanox-Performance
Test-Status: SUCCESS
http://dpdk.org/patch/63329
_Performance Testing PASS_
Submitter: Anoob Joseph <anoobj@marvell.com>
Date: Wednesday, November 27 2019 05:00:48
DPDK git baseline: Repo:dpdk
Branch: master
CommitID:ebf9c7b1db2fbc09f87eed4cf8486239786fcad1
63329 --> performance testing pass
Test environment and result as below:
Ubuntu 18.04
Kernel: 4.15.0-generic
GCC: 7.4
NIC: Mellanox ConnectX-5 100000 Mbps
Target: x86_64-native-linuxapp-gcc
Fail/Total: 0/6
Detail performance results:
+------------+---------+-------------------------------------+
| frame_size | txd/rxd | throughput difference from expected |
+============+=========+=====================================+
| 64 | 256 | -0.152 |
+------------+---------+-------------------------------------+
| 128 | 256 | 0.029 |
+------------+---------+-------------------------------------+
| 256 | 256 | -0.041 |
+------------+---------+-------------------------------------+
| 512 | 256 | 0.013 |
+------------+---------+-------------------------------------+
| 1024 | 256 | 0.003 |
+------------+---------+-------------------------------------+
| 1518 | 256 | -0.013 |
+------------+---------+-------------------------------------+
Ubuntu 18.04
Kernel: 4.15.0-generic
GCC: 7.4
NIC: Mellanox ConnectX-4 Lx 40000 Mbps
Target: x86_64-native-linuxapp-gcc
Fail/Total: 0/6
Detail performance results:
+------------+---------+-------------------------------------+
| frame_size | txd/rxd | throughput difference from expected |
+============+=========+=====================================+
| 64 | 256 | 0.075 |
+------------+---------+-------------------------------------+
| 128 | 256 | -0.034 |
+------------+---------+-------------------------------------+
| 256 | 256 | 0.029 |
+------------+---------+-------------------------------------+
| 512 | 256 | 0.002 |
+------------+---------+-------------------------------------+
| 1024 | 256 | 0.003 |
+------------+---------+-------------------------------------+
| 1518 | 256 | 0.007 |
+------------+---------+-------------------------------------+
Ubuntu 18.04
Kernel: 4.15.0-generic
GCC: 7.4
NIC: Mellanox ConnectX-4 Lx 25000 Mbps
Target: x86_64-native-linuxapp-gcc
Fail/Total: 0/6
Detail performance results:
+------------+---------+-------------------------------------+
| frame_size | txd/rxd | throughput difference from expected |
+============+=========+=====================================+
| 64 | 256 | -0.155 |
+------------+---------+-------------------------------------+
| 128 | 256 | 0.232 |
+------------+---------+-------------------------------------+
| 256 | 256 | -0.015 |
+------------+---------+-------------------------------------+
| 512 | 256 | -0.002 |
+------------+---------+-------------------------------------+
| 1024 | 256 | 0.001 |
+------------+---------+-------------------------------------+
| 1518 | 256 | -0.009 |
+------------+---------+-------------------------------------+
https://lab.dpdk.org/results/dashboard/patchsets/8731/
UNH-IOL DPDK Performance Test Lab
To manage your email subscriptions visit:
https://lab.dpdk.org/results/dashboard/preferences/subscriptions/
^ permalink raw reply [flat|nested] 5+ messages in thread
* [dpdk-test-report] |SUCCESS| pw63329 [PATCH] examples/fips_validation: fix incorrect structure used for AES-GCM
@ 2019-11-27 16:56 dpdklab
0 siblings, 0 replies; 5+ messages in thread
From: dpdklab @ 2019-11-27 16:56 UTC (permalink / raw)
To: Test Report; +Cc: dpdk-test-reports
[-- Attachment #1: Type: text/plain, Size: 1329 bytes --]
Test-Label: iol-compilation
Test-Status: SUCCESS
http://dpdk.org/patch/63329
_Compile Testing PASS_
Submitter: Anoob Joseph <anoobj@marvell.com>
Date: Wednesday, November 27 2019 05:00:48
DPDK git baseline: Repo:dpdk
Branch: master
CommitID:ebf9c7b1db2fbc09f87eed4cf8486239786fcad1
63329 --> compile testing pass
Test environment and result as below:
+--------------+-------------------+--------------+------------------+
| Environment | dpdk_compile_spdk | dpdk_compile | dpdk_compile_ovs |
+==============+===================+==============+==================+
| Ubuntu 18.04 | PASS | PASS | PASS |
+--------------+-------------------+--------------+------------------+
| FreeBSD 11.2 | PASS | PASS | SKIPPED |
+--------------+-------------------+--------------+------------------+
| CentOS 8 | SKIPPED | PASS | PASS |
+--------------+-------------------+--------------+------------------+
Ubuntu 18.04
Kernel: 4.15.0-generic
GCC: 7.4
FreeBSD 11.2
Kernel: 11.2
GCC: 8.3
CentOS 8
Kernel: 4.18.0.el8_0
GCC: 8.2
https://lab.dpdk.org/results/dashboard/patchsets/8731/
UNH-IOL DPDK Performance Test Lab
To manage your email subscriptions visit:
https://lab.dpdk.org/results/dashboard/preferences/subscriptions/
^ permalink raw reply [flat|nested] 5+ messages in thread
* [dpdk-test-report] |SUCCESS| pw63329 [PATCH] examples/fips_validation: fix incorrect structure used for AES-GCM
@ 2019-11-27 16:55 dpdklab
0 siblings, 0 replies; 5+ messages in thread
From: dpdklab @ 2019-11-27 16:55 UTC (permalink / raw)
To: Test Report; +Cc: dpdk-test-reports
[-- Attachment #1: Type: text/plain, Size: 1994 bytes --]
Test-Label: iol-intel-Performance
Test-Status: SUCCESS
http://dpdk.org/patch/63329
_Performance Testing PASS_
Submitter: Anoob Joseph <anoobj@marvell.com>
Date: Wednesday, November 27 2019 05:00:48
DPDK git baseline: Repo:dpdk
Branch: master
CommitID:ebf9c7b1db2fbc09f87eed4cf8486239786fcad1
63329 --> performance testing pass
Test environment and result as below:
Ubuntu 18.04
Kernel: 4.15.0-generic
GCC: 7.4
NIC: Intel Corporation Ethernet Converged Network Adapter 82599ES 10000 Mbps
Target: x86_64-native-linuxapp-gcc
Fail/Total: 0/3
Detail performance results:
+------------+---------+-------------------------------------+
| frame_size | txd/rxd | throughput difference from expected |
+============+=========+=====================================+
| 64 | 128 | 0.023 |
+------------+---------+-------------------------------------+
| 64 | 512 | -0.427 |
+------------+---------+-------------------------------------+
| 64 | 2048 | 0.033 |
+------------+---------+-------------------------------------+
Ubuntu 18.04
Kernel: 4.15.0-generic
GCC: 7.4
NIC: Intel Corporation Ethernet Converged Network Adapter XL710-QDA2 40000 Mbps
Target: x86_64-native-linuxapp-gcc
Fail/Total: 0/2
Detail performance results:
+------------+---------+-------------------------------------+
| frame_size | txd/rxd | throughput difference from expected |
+============+=========+=====================================+
| 64 | 512 | 0.308 |
+------------+---------+-------------------------------------+
| 64 | 2048 | 0.398 |
+------------+---------+-------------------------------------+
https://lab.dpdk.org/results/dashboard/patchsets/8731/
UNH-IOL DPDK Performance Test Lab
To manage your email subscriptions visit:
https://lab.dpdk.org/results/dashboard/preferences/subscriptions/
^ permalink raw reply [flat|nested] 5+ messages in thread
end of thread, other threads:[~2019-11-27 20:12 UTC | newest]
Thread overview: 5+ messages (download: mbox.gz / follow: Atom feed)
-- links below jump to the message on this page --
[not found] <1574830848-19137-1-git-send-email-anoobj@marvell.com>
2019-11-27 5:02 ` [dpdk-test-report] |SUCCESS| pw63329 [PATCH] examples/fips_validation: fix incorrect structure used for AES-GCM checkpatch
2019-11-27 17:11 ` [dpdk-test-report] |SUCCESS| pw63329 " 0-day Robot
2019-11-27 20:12 [dpdk-test-report] |SUCCESS| pw63329 [PATCH] " dpdklab
-- strict thread matches above, loose matches on Subject: below --
2019-11-27 16:56 dpdklab
2019-11-27 16:55 dpdklab
This is a public inbox, see mirroring instructions
for how to clone and mirror all data and code used for this inbox;
as well as URLs for NNTP newsgroup(s).