* [dpdk-test-report] |SUCCESS| pw63333 [PATCH v2] MAINTAINERS: update armv8 crypto PMD maintainership
[not found] <20191127084708.200678-1-ruifeng.wang@arm.com>
@ 2019-11-27 8:48 ` checkpatch
2019-11-27 21:10 ` [dpdk-test-report] |SUCCESS| pw63333 " 0-day Robot
1 sibling, 0 replies; 5+ messages in thread
From: checkpatch @ 2019-11-27 8:48 UTC (permalink / raw)
To: test-report
Test-Label: checkpatch
Test-Status: SUCCESS
http://dpdk.org/patch/63333
_coding style OK_
^ permalink raw reply [flat|nested] 5+ messages in thread
* [dpdk-test-report] |SUCCESS| pw63333 MAINTAINERS: update armv8 crypto PMD maintainership
[not found] <20191127084708.200678-1-ruifeng.wang@arm.com>
2019-11-27 8:48 ` [dpdk-test-report] |SUCCESS| pw63333 [PATCH v2] MAINTAINERS: update armv8 crypto PMD maintainership checkpatch
@ 2019-11-27 21:10 ` 0-day Robot
1 sibling, 0 replies; 5+ messages in thread
From: 0-day Robot @ 2019-11-27 21:10 UTC (permalink / raw)
To: test-report; +Cc: robot
From: robot@bytheb.org
Test-Label: travis-robot
Test-Status: SUCCESS
http://dpdk.org/patch/63333
_Travis build: passed_
Build URL: https://travis-ci.com/ovsrobot/dpdk/builds/138369520
^ permalink raw reply [flat|nested] 5+ messages in thread
* [dpdk-test-report] |SUCCESS| pw63333 [PATCH] [v2] MAINTAINERS: update armv8 crypto PMD maintainership
@ 2019-11-27 19:33 dpdklab
0 siblings, 0 replies; 5+ messages in thread
From: dpdklab @ 2019-11-27 19:33 UTC (permalink / raw)
To: Ali Alnubani, Test Report; +Cc: dpdk-test-reports
[-- Attachment #1: Type: text/plain, Size: 3934 bytes --]
Test-Label: iol-mellanox-Performance
Test-Status: SUCCESS
http://dpdk.org/patch/63333
_Performance Testing PASS_
Submitter: Ruifeng Wang (Arm Technology China) <ruifeng.wang@arm.com>
Date: Wednesday, November 27 2019 08:47:08
DPDK git baseline: Repo:dpdk
Branch: master
CommitID:ebf9c7b1db2fbc09f87eed4cf8486239786fcad1
63333 --> performance testing pass
Test environment and result as below:
Ubuntu 18.04
Kernel: 4.15.0-generic
GCC: 7.4
NIC: Mellanox ConnectX-5 100000 Mbps
Target: x86_64-native-linuxapp-gcc
Fail/Total: 0/6
Detail performance results:
+------------+---------+-------------------------------------+
| frame_size | txd/rxd | throughput difference from expected |
+============+=========+=====================================+
| 64 | 256 | -0.186 |
+------------+---------+-------------------------------------+
| 128 | 256 | 0.081 |
+------------+---------+-------------------------------------+
| 256 | 256 | -0.029 |
+------------+---------+-------------------------------------+
| 512 | 256 | 0.176 |
+------------+---------+-------------------------------------+
| 1024 | 256 | 0.047 |
+------------+---------+-------------------------------------+
| 1518 | 256 | -0.005 |
+------------+---------+-------------------------------------+
Ubuntu 18.04
Kernel: 4.15.0-generic
GCC: 7.4
NIC: Mellanox ConnectX-4 Lx 25000 Mbps
Target: x86_64-native-linuxapp-gcc
Fail/Total: 0/6
Detail performance results:
+------------+---------+-------------------------------------+
| frame_size | txd/rxd | throughput difference from expected |
+============+=========+=====================================+
| 64 | 256 | -0.160 |
+------------+---------+-------------------------------------+
| 128 | 256 | 0.167 |
+------------+---------+-------------------------------------+
| 256 | 256 | -0.010 |
+------------+---------+-------------------------------------+
| 512 | 256 | 0.004 |
+------------+---------+-------------------------------------+
| 1024 | 256 | 0.001 |
+------------+---------+-------------------------------------+
| 1518 | 256 | -0.011 |
+------------+---------+-------------------------------------+
Ubuntu 18.04
Kernel: 4.15.0-generic
GCC: 7.4
NIC: Mellanox ConnectX-4 Lx 40000 Mbps
Target: x86_64-native-linuxapp-gcc
Fail/Total: 0/6
Detail performance results:
+------------+---------+-------------------------------------+
| frame_size | txd/rxd | throughput difference from expected |
+============+=========+=====================================+
| 64 | 256 | -0.123 |
+------------+---------+-------------------------------------+
| 128 | 256 | -0.084 |
+------------+---------+-------------------------------------+
| 256 | 256 | -0.045 |
+------------+---------+-------------------------------------+
| 512 | 256 | 0.050 |
+------------+---------+-------------------------------------+
| 1024 | 256 | 0.002 |
+------------+---------+-------------------------------------+
| 1518 | 256 | -0.002 |
+------------+---------+-------------------------------------+
https://lab.dpdk.org/results/dashboard/patchsets/8735/
UNH-IOL DPDK Performance Test Lab
To manage your email subscriptions visit:
https://lab.dpdk.org/results/dashboard/preferences/subscriptions/
^ permalink raw reply [flat|nested] 5+ messages in thread
* [dpdk-test-report] |SUCCESS| pw63333 [PATCH] [v2] MAINTAINERS: update armv8 crypto PMD maintainership
@ 2019-11-27 16:42 dpdklab
0 siblings, 0 replies; 5+ messages in thread
From: dpdklab @ 2019-11-27 16:42 UTC (permalink / raw)
To: Test Report; +Cc: dpdk-test-reports
[-- Attachment #1: Type: text/plain, Size: 1354 bytes --]
Test-Label: iol-compilation
Test-Status: SUCCESS
http://dpdk.org/patch/63333
_Compile Testing PASS_
Submitter: Ruifeng Wang (Arm Technology China) <ruifeng.wang@arm.com>
Date: Wednesday, November 27 2019 08:47:08
DPDK git baseline: Repo:dpdk
Branch: master
CommitID:ebf9c7b1db2fbc09f87eed4cf8486239786fcad1
63333 --> compile testing pass
Test environment and result as below:
+--------------+--------------+-------------------+------------------+
| Environment | dpdk_compile | dpdk_compile_spdk | dpdk_compile_ovs |
+==============+==============+===================+==================+
| Ubuntu 18.04 | PASS | PASS | PASS |
+--------------+--------------+-------------------+------------------+
| FreeBSD 11.2 | PASS | PASS | SKIPPED |
+--------------+--------------+-------------------+------------------+
| CentOS 8 | PASS | SKIPPED | PASS |
+--------------+--------------+-------------------+------------------+
Ubuntu 18.04
Kernel: 4.15.0-generic
GCC: 7.4
FreeBSD 11.2
Kernel: 11.2
GCC: 8.3
CentOS 8
Kernel: 4.18.0.el8_0
GCC: 8.2
https://lab.dpdk.org/results/dashboard/patchsets/8735/
UNH-IOL DPDK Performance Test Lab
To manage your email subscriptions visit:
https://lab.dpdk.org/results/dashboard/preferences/subscriptions/
^ permalink raw reply [flat|nested] 5+ messages in thread
* [dpdk-test-report] |SUCCESS| pw63333 [PATCH] [v2] MAINTAINERS: update armv8 crypto PMD maintainership
@ 2019-11-27 16:40 dpdklab
0 siblings, 0 replies; 5+ messages in thread
From: dpdklab @ 2019-11-27 16:40 UTC (permalink / raw)
To: Test Report; +Cc: dpdk-test-reports
[-- Attachment #1: Type: text/plain, Size: 2019 bytes --]
Test-Label: iol-intel-Performance
Test-Status: SUCCESS
http://dpdk.org/patch/63333
_Performance Testing PASS_
Submitter: Ruifeng Wang (Arm Technology China) <ruifeng.wang@arm.com>
Date: Wednesday, November 27 2019 08:47:08
DPDK git baseline: Repo:dpdk
Branch: master
CommitID:ebf9c7b1db2fbc09f87eed4cf8486239786fcad1
63333 --> performance testing pass
Test environment and result as below:
Ubuntu 18.04
Kernel: 4.15.0-generic
GCC: 7.4
NIC: Intel Corporation Ethernet Converged Network Adapter 82599ES 10000 Mbps
Target: x86_64-native-linuxapp-gcc
Fail/Total: 0/3
Detail performance results:
+------------+---------+-------------------------------------+
| frame_size | txd/rxd | throughput difference from expected |
+============+=========+=====================================+
| 64 | 128 | -0.003 |
+------------+---------+-------------------------------------+
| 64 | 512 | -0.454 |
+------------+---------+-------------------------------------+
| 64 | 2048 | 0.182 |
+------------+---------+-------------------------------------+
Ubuntu 18.04
Kernel: 4.15.0-generic
GCC: 7.4
NIC: Intel Corporation Ethernet Converged Network Adapter XL710-QDA2 40000 Mbps
Target: x86_64-native-linuxapp-gcc
Fail/Total: 0/2
Detail performance results:
+------------+---------+-------------------------------------+
| frame_size | txd/rxd | throughput difference from expected |
+============+=========+=====================================+
| 64 | 512 | 0.492 |
+------------+---------+-------------------------------------+
| 64 | 2048 | 0.577 |
+------------+---------+-------------------------------------+
https://lab.dpdk.org/results/dashboard/patchsets/8735/
UNH-IOL DPDK Performance Test Lab
To manage your email subscriptions visit:
https://lab.dpdk.org/results/dashboard/preferences/subscriptions/
^ permalink raw reply [flat|nested] 5+ messages in thread
end of thread, other threads:[~2019-11-27 21:12 UTC | newest]
Thread overview: 5+ messages (download: mbox.gz / follow: Atom feed)
-- links below jump to the message on this page --
[not found] <20191127084708.200678-1-ruifeng.wang@arm.com>
2019-11-27 8:48 ` [dpdk-test-report] |SUCCESS| pw63333 [PATCH v2] MAINTAINERS: update armv8 crypto PMD maintainership checkpatch
2019-11-27 21:10 ` [dpdk-test-report] |SUCCESS| pw63333 " 0-day Robot
2019-11-27 19:33 [dpdk-test-report] |SUCCESS| pw63333 [PATCH] [v2] " dpdklab
-- strict thread matches above, loose matches on Subject: below --
2019-11-27 16:42 dpdklab
2019-11-27 16:40 dpdklab
This is a public inbox, see mirroring instructions
for how to clone and mirror all data and code used for this inbox;
as well as URLs for NNTP newsgroup(s).