* [dpdk-test-report] |SUCCESS| pw63349 [PATCH] [v2] net/mlx5: fix default mark copy flow
@ 2019-11-27 14:25 dpdklab
0 siblings, 0 replies; 5+ messages in thread
From: dpdklab @ 2019-11-27 14:25 UTC (permalink / raw)
To: Ali Alnubani, Test Report; +Cc: dpdk-test-reports
[-- Attachment #1: Type: text/plain, Size: 3923 bytes --]
Test-Label: iol-mellanox-Performance
Test-Status: SUCCESS
http://dpdk.org/patch/63349
_Performance Testing PASS_
Submitter: Viacheslav Ovsiienko <viacheslavo@mellanox.com>
Date: Wednesday, November 27 2019 13:36:43
DPDK git baseline: Repo:dpdk
Branch: master
CommitID:ebf9c7b1db2fbc09f87eed4cf8486239786fcad1
63349 --> performance testing pass
Test environment and result as below:
Ubuntu 18.04
Kernel: 4.15.0-generic
GCC: 7.4
NIC: Mellanox ConnectX-4 Lx 40000 Mbps
Target: x86_64-native-linuxapp-gcc
Fail/Total: 0/6
Detail performance results:
+------------+---------+-------------------------------------+
| frame_size | txd/rxd | throughput difference from expected |
+============+=========+=====================================+
| 64 | 256 | 0.070 |
+------------+---------+-------------------------------------+
| 128 | 256 | -0.115 |
+------------+---------+-------------------------------------+
| 256 | 256 | -0.072 |
+------------+---------+-------------------------------------+
| 512 | 256 | 0.027 |
+------------+---------+-------------------------------------+
| 1024 | 256 | 0.003 |
+------------+---------+-------------------------------------+
| 1518 | 256 | 0.017 |
+------------+---------+-------------------------------------+
Ubuntu 18.04
Kernel: 4.15.0-generic
GCC: 7.4
NIC: Mellanox ConnectX-4 Lx 25000 Mbps
Target: x86_64-native-linuxapp-gcc
Fail/Total: 0/6
Detail performance results:
+------------+---------+-------------------------------------+
| frame_size | txd/rxd | throughput difference from expected |
+============+=========+=====================================+
| 64 | 256 | -0.152 |
+------------+---------+-------------------------------------+
| 128 | 256 | 0.050 |
+------------+---------+-------------------------------------+
| 256 | 256 | -0.008 |
+------------+---------+-------------------------------------+
| 512 | 256 | -0.011 |
+------------+---------+-------------------------------------+
| 1024 | 256 | 0.004 |
+------------+---------+-------------------------------------+
| 1518 | 256 | -0.012 |
+------------+---------+-------------------------------------+
Ubuntu 18.04
Kernel: 4.15.0-generic
GCC: 7.4
NIC: Mellanox ConnectX-5 100000 Mbps
Target: x86_64-native-linuxapp-gcc
Fail/Total: 0/6
Detail performance results:
+------------+---------+-------------------------------------+
| frame_size | txd/rxd | throughput difference from expected |
+============+=========+=====================================+
| 64 | 256 | -0.242 |
+------------+---------+-------------------------------------+
| 128 | 256 | 0.152 |
+------------+---------+-------------------------------------+
| 256 | 256 | 0.082 |
+------------+---------+-------------------------------------+
| 512 | 256 | 0.113 |
+------------+---------+-------------------------------------+
| 1024 | 256 | 0.064 |
+------------+---------+-------------------------------------+
| 1518 | 256 | 0.007 |
+------------+---------+-------------------------------------+
https://lab.dpdk.org/results/dashboard/patchsets/8747/
UNH-IOL DPDK Performance Test Lab
To manage your email subscriptions visit:
https://lab.dpdk.org/results/dashboard/preferences/subscriptions/
^ permalink raw reply [flat|nested] 5+ messages in thread
* [dpdk-test-report] |SUCCESS| pw63349 [PATCH] [v2] net/mlx5: fix default mark copy flow
@ 2019-11-27 13:57 dpdklab
0 siblings, 0 replies; 5+ messages in thread
From: dpdklab @ 2019-11-27 13:57 UTC (permalink / raw)
To: Test Report; +Cc: dpdk-test-reports
[-- Attachment #1: Type: text/plain, Size: 1343 bytes --]
Test-Label: iol-compilation
Test-Status: SUCCESS
http://dpdk.org/patch/63349
_Compile Testing PASS_
Submitter: Viacheslav Ovsiienko <viacheslavo@mellanox.com>
Date: Wednesday, November 27 2019 13:36:43
DPDK git baseline: Repo:dpdk
Branch: master
CommitID:ebf9c7b1db2fbc09f87eed4cf8486239786fcad1
63349 --> compile testing pass
Test environment and result as below:
+--------------+--------------+-------------------+------------------+
| Environment | dpdk_compile | dpdk_compile_spdk | dpdk_compile_ovs |
+==============+==============+===================+==================+
| Ubuntu 18.04 | PASS | PASS | PASS |
+--------------+--------------+-------------------+------------------+
| FreeBSD 11.2 | PASS | PASS | SKIPPED |
+--------------+--------------+-------------------+------------------+
| CentOS 8 | PASS | SKIPPED | PASS |
+--------------+--------------+-------------------+------------------+
Ubuntu 18.04
Kernel: 4.15.0-generic
GCC: 7.4
FreeBSD 11.2
Kernel: 11.2
GCC: 8.3
CentOS 8
Kernel: 4.18.0.el8_0
GCC: 8.2
https://lab.dpdk.org/results/dashboard/patchsets/8747/
UNH-IOL DPDK Performance Test Lab
To manage your email subscriptions visit:
https://lab.dpdk.org/results/dashboard/preferences/subscriptions/
^ permalink raw reply [flat|nested] 5+ messages in thread
* [dpdk-test-report] |SUCCESS| pw63349 [PATCH] [v2] net/mlx5: fix default mark copy flow
@ 2019-11-27 13:55 dpdklab
0 siblings, 0 replies; 5+ messages in thread
From: dpdklab @ 2019-11-27 13:55 UTC (permalink / raw)
To: Test Report; +Cc: dpdk-test-reports
[-- Attachment #1: Type: text/plain, Size: 2008 bytes --]
Test-Label: iol-intel-Performance
Test-Status: SUCCESS
http://dpdk.org/patch/63349
_Performance Testing PASS_
Submitter: Viacheslav Ovsiienko <viacheslavo@mellanox.com>
Date: Wednesday, November 27 2019 13:36:43
DPDK git baseline: Repo:dpdk
Branch: master
CommitID:ebf9c7b1db2fbc09f87eed4cf8486239786fcad1
63349 --> performance testing pass
Test environment and result as below:
Ubuntu 18.04
Kernel: 4.15.0-generic
GCC: 7.4
NIC: Intel Corporation Ethernet Converged Network Adapter 82599ES 10000 Mbps
Target: x86_64-native-linuxapp-gcc
Fail/Total: 0/3
Detail performance results:
+------------+---------+-------------------------------------+
| frame_size | txd/rxd | throughput difference from expected |
+============+=========+=====================================+
| 64 | 128 | -0.556 |
+------------+---------+-------------------------------------+
| 64 | 512 | -0.547 |
+------------+---------+-------------------------------------+
| 64 | 2048 | 0.247 |
+------------+---------+-------------------------------------+
Ubuntu 18.04
Kernel: 4.15.0-generic
GCC: 7.4
NIC: Intel Corporation Ethernet Converged Network Adapter XL710-QDA2 40000 Mbps
Target: x86_64-native-linuxapp-gcc
Fail/Total: 0/2
Detail performance results:
+------------+---------+-------------------------------------+
| frame_size | txd/rxd | throughput difference from expected |
+============+=========+=====================================+
| 64 | 512 | 0.436 |
+------------+---------+-------------------------------------+
| 64 | 2048 | 0.164 |
+------------+---------+-------------------------------------+
https://lab.dpdk.org/results/dashboard/patchsets/8747/
UNH-IOL DPDK Performance Test Lab
To manage your email subscriptions visit:
https://lab.dpdk.org/results/dashboard/preferences/subscriptions/
^ permalink raw reply [flat|nested] 5+ messages in thread
end of thread, other threads:[~2019-11-28 7:11 UTC | newest]
Thread overview: 5+ messages (download: mbox.gz / follow: Atom feed)
-- links below jump to the message on this page --
[not found] <1574861803-13397-1-git-send-email-viacheslavo@mellanox.com>
2019-11-27 13:37 ` [dpdk-test-report] |SUCCESS| pw63349 [PATCH v2] net/mlx5: fix default mark copy flow checkpatch
2019-11-28 7:09 ` [dpdk-test-report] |SUCCESS| pw63349 " 0-day Robot
2019-11-27 14:25 [dpdk-test-report] |SUCCESS| pw63349 [PATCH] [v2] " dpdklab
-- strict thread matches above, loose matches on Subject: below --
2019-11-27 13:57 dpdklab
2019-11-27 13:55 dpdklab
This is a public inbox, see mirroring instructions
for how to clone and mirror all data and code used for this inbox;
as well as URLs for NNTP newsgroup(s).