* [dpdk-test-report] |SUCCESS| [GIT MASTER] e511e96d591693f3a5ed516b74770112b9dc2217
@ 2019-11-27 19:28 dpdklab
0 siblings, 0 replies; 3+ messages in thread
From: dpdklab @ 2019-11-27 19:28 UTC (permalink / raw)
To: Test Report; +Cc: dpdk-test-reports
[-- Attachment #1: Type: text/plain, Size: 1120 bytes --]
_Compile Testing PASS_
Branch: dpdk-next-net
e511e96d591693f3a5ed516b74770112b9dc2217 --> compile testing pass
Test environment and result as below:
+--------------+--------------+-------------------+------------------+
| Environment | dpdk_compile | dpdk_compile_spdk | dpdk_compile_ovs |
+==============+==============+===================+==================+
| Ubuntu 18.04 | PASS | PASS | PASS |
+--------------+--------------+-------------------+------------------+
| FreeBSD 11.2 | PASS | PASS | SKIPPED |
+--------------+--------------+-------------------+------------------+
| CentOS 8 | PASS | SKIPPED | PASS |
+--------------+--------------+-------------------+------------------+
Ubuntu 18.04
Kernel: 4.15.0-generic
GCC: 7.4
FreeBSD 11.2
Kernel: 11.2
GCC: 8.3
CentOS 8
Kernel: 4.18.0.el8_0
GCC: 8.2
https://lab.dpdk.org/results/dashboard/tarballs/7319/
UNH-IOL DPDK Performance Test Lab
To manage your email subscriptions visit:
https://lab.dpdk.org/results/dashboard/preferences/subscriptions/
^ permalink raw reply [flat|nested] 3+ messages in thread
* [dpdk-test-report] |SUCCESS| [GIT MASTER] e511e96d591693f3a5ed516b74770112b9dc2217
@ 2019-11-27 22:07 dpdklab
0 siblings, 0 replies; 3+ messages in thread
From: dpdklab @ 2019-11-27 22:07 UTC (permalink / raw)
To: Ali Alnubani, Test Report; +Cc: dpdk-test-reports
[-- Attachment #1: Type: text/plain, Size: 3691 bytes --]
_Performance Testing PASS_
Branch: dpdk-next-net
e511e96d591693f3a5ed516b74770112b9dc2217 --> performance testing pass
Test environment and result as below:
Ubuntu 18.04
Kernel: 4.15.0-generic
GCC: 7.4
NIC: Mellanox ConnectX-5 100000 Mbps
Target: x86_64-native-linuxapp-gcc
Fail/Total: 0/6
Detail performance results:
+------------+---------+-------------------------------------+
| frame_size | txd/rxd | throughput difference from expected |
+============+=========+=====================================+
| 64 | 256 | -0.475 |
+------------+---------+-------------------------------------+
| 128 | 256 | 0.113 |
+------------+---------+-------------------------------------+
| 256 | 256 | 0.078 |
+------------+---------+-------------------------------------+
| 512 | 256 | 0.158 |
+------------+---------+-------------------------------------+
| 1024 | 256 | 0.019 |
+------------+---------+-------------------------------------+
| 1518 | 256 | -0.012 |
+------------+---------+-------------------------------------+
Ubuntu 18.04
Kernel: 4.15.0-generic
GCC: 7.4
NIC: Mellanox ConnectX-4 Lx 40000 Mbps
Target: x86_64-native-linuxapp-gcc
Fail/Total: 0/6
Detail performance results:
+------------+---------+-------------------------------------+
| frame_size | txd/rxd | throughput difference from expected |
+============+=========+=====================================+
| 64 | 256 | -0.110 |
+------------+---------+-------------------------------------+
| 128 | 256 | -0.123 |
+------------+---------+-------------------------------------+
| 256 | 256 | -0.041 |
+------------+---------+-------------------------------------+
| 512 | 256 | 0.043 |
+------------+---------+-------------------------------------+
| 1024 | 256 | 0.005 |
+------------+---------+-------------------------------------+
| 1518 | 256 | -0.002 |
+------------+---------+-------------------------------------+
Ubuntu 18.04
Kernel: 4.15.0-generic
GCC: 7.4
NIC: Mellanox ConnectX-4 Lx 25000 Mbps
Target: x86_64-native-linuxapp-gcc
Fail/Total: 0/6
Detail performance results:
+------------+---------+-------------------------------------+
| frame_size | txd/rxd | throughput difference from expected |
+============+=========+=====================================+
| 64 | 256 | -0.256 |
+------------+---------+-------------------------------------+
| 128 | 256 | 0.096 |
+------------+---------+-------------------------------------+
| 256 | 256 | 0.027 |
+------------+---------+-------------------------------------+
| 512 | 256 | -0.003 |
+------------+---------+-------------------------------------+
| 1024 | 256 | -0.001 |
+------------+---------+-------------------------------------+
| 1518 | 256 | -0.011 |
+------------+---------+-------------------------------------+
https://lab.dpdk.org/results/dashboard/tarballs/7319/
UNH-IOL DPDK Performance Test Lab
To manage your email subscriptions visit:
https://lab.dpdk.org/results/dashboard/preferences/subscriptions/
^ permalink raw reply [flat|nested] 3+ messages in thread
* [dpdk-test-report] |SUCCESS| [GIT MASTER] e511e96d591693f3a5ed516b74770112b9dc2217
@ 2019-11-27 19:28 dpdklab
0 siblings, 0 replies; 3+ messages in thread
From: dpdklab @ 2019-11-27 19:28 UTC (permalink / raw)
To: Test Report; +Cc: dpdk-test-reports
[-- Attachment #1: Type: text/plain, Size: 1779 bytes --]
_Performance Testing PASS_
Branch: dpdk-next-net
e511e96d591693f3a5ed516b74770112b9dc2217 --> performance testing pass
Test environment and result as below:
Ubuntu 18.04
Kernel: 4.15.0-generic
GCC: 7.4
NIC: Intel Corporation Ethernet Converged Network Adapter 82599ES 10000 Mbps
Target: x86_64-native-linuxapp-gcc
Fail/Total: 0/3
Detail performance results:
+------------+---------+-------------------------------------+
| frame_size | txd/rxd | throughput difference from expected |
+============+=========+=====================================+
| 64 | 128 | 0.178 |
+------------+---------+-------------------------------------+
| 64 | 512 | -0.613 |
+------------+---------+-------------------------------------+
| 64 | 2048 | -0.328 |
+------------+---------+-------------------------------------+
Ubuntu 18.04
Kernel: 4.15.0-generic
GCC: 7.4
NIC: Intel Corporation Ethernet Converged Network Adapter XL710-QDA2 40000 Mbps
Target: x86_64-native-linuxapp-gcc
Fail/Total: 0/2
Detail performance results:
+------------+---------+-------------------------------------+
| frame_size | txd/rxd | throughput difference from expected |
+============+=========+=====================================+
| 64 | 512 | 0.846 |
+------------+---------+-------------------------------------+
| 64 | 2048 | 0.306 |
+------------+---------+-------------------------------------+
https://lab.dpdk.org/results/dashboard/tarballs/7319/
UNH-IOL DPDK Performance Test Lab
To manage your email subscriptions visit:
https://lab.dpdk.org/results/dashboard/preferences/subscriptions/
^ permalink raw reply [flat|nested] 3+ messages in thread
end of thread, other threads:[~2019-11-27 22:07 UTC | newest]
Thread overview: 3+ messages (download: mbox.gz / follow: Atom feed)
-- links below jump to the message on this page --
2019-11-27 19:28 [dpdk-test-report] |SUCCESS| [GIT MASTER] e511e96d591693f3a5ed516b74770112b9dc2217 dpdklab
-- strict thread matches above, loose matches on Subject: below --
2019-11-27 22:07 dpdklab
2019-11-27 19:28 dpdklab
This is a public inbox, see mirroring instructions
for how to clone and mirror all data and code used for this inbox;
as well as URLs for NNTP newsgroup(s).