* [dpdk-test-report] |SUCCESS| pw63368 [PATCH] [v2] add top level SPDX license identifier.
@ 2019-11-28 8:31 dpdklab
0 siblings, 0 replies; 4+ messages in thread
From: dpdklab @ 2019-11-28 8:31 UTC (permalink / raw)
To: Ali Alnubani, Test Report; +Cc: dpdk-test-reports
[-- Attachment #1: Type: text/plain, Size: 3914 bytes --]
Test-Label: iol-mellanox-Performance
Test-Status: SUCCESS
http://dpdk.org/patch/63368
_Performance Testing PASS_
Submitter: Hemant Agrawal <hemant.agrawal@nxp.com>
Date: Thursday, November 28 2019 07:05:38
DPDK git baseline: Repo:dpdk
Branch: master
CommitID:808b3fce7ed76572b16b699d2845c3e83d9f59e7
63368 --> performance testing pass
Test environment and result as below:
Ubuntu 18.04
Kernel: 4.15.0-generic
GCC: 7.4
NIC: Mellanox ConnectX-4 Lx 25000 Mbps
Target: x86_64-native-linuxapp-gcc
Fail/Total: 0/6
Detail performance results:
+------------+---------+-------------------------------------+
| frame_size | txd/rxd | throughput difference from expected |
+============+=========+=====================================+
| 64 | 256 | 0.124 |
+------------+---------+-------------------------------------+
| 128 | 256 | 0.078 |
+------------+---------+-------------------------------------+
| 256 | 256 | 0.007 |
+------------+---------+-------------------------------------+
| 512 | 256 | 0 |
+------------+---------+-------------------------------------+
| 1024 | 256 | -0.016 |
+------------+---------+-------------------------------------+
| 1518 | 256 | -0.002 |
+------------+---------+-------------------------------------+
Ubuntu 18.04
Kernel: 4.15.0-generic
GCC: 7.4
NIC: Mellanox ConnectX-4 Lx 40000 Mbps
Target: x86_64-native-linuxapp-gcc
Fail/Total: 0/6
Detail performance results:
+------------+---------+-------------------------------------+
| frame_size | txd/rxd | throughput difference from expected |
+============+=========+=====================================+
| 64 | 256 | -0.133 |
+------------+---------+-------------------------------------+
| 128 | 256 | 0.078 |
+------------+---------+-------------------------------------+
| 256 | 256 | 0.026 |
+------------+---------+-------------------------------------+
| 512 | 256 | 0.002 |
+------------+---------+-------------------------------------+
| 1024 | 256 | -0.027 |
+------------+---------+-------------------------------------+
| 1518 | 256 | -0.001 |
+------------+---------+-------------------------------------+
Ubuntu 18.04
Kernel: 4.15.0-generic
GCC: 7.4
NIC: Mellanox ConnectX-5 100000 Mbps
Target: x86_64-native-linuxapp-gcc
Fail/Total: 0/6
Detail performance results:
+------------+---------+-------------------------------------+
| frame_size | txd/rxd | throughput difference from expected |
+============+=========+=====================================+
| 64 | 256 | -0.317 |
+------------+---------+-------------------------------------+
| 128 | 256 | -0.028 |
+------------+---------+-------------------------------------+
| 256 | 256 | 0.020 |
+------------+---------+-------------------------------------+
| 512 | 256 | 0.068 |
+------------+---------+-------------------------------------+
| 1024 | 256 | 0.063 |
+------------+---------+-------------------------------------+
| 1518 | 256 | 0.009 |
+------------+---------+-------------------------------------+
https://lab.dpdk.org/results/dashboard/patchsets/8758/
UNH-IOL DPDK Performance Test Lab
To manage your email subscriptions visit:
https://lab.dpdk.org/results/dashboard/preferences/subscriptions/
^ permalink raw reply [flat|nested] 4+ messages in thread
* [dpdk-test-report] |SUCCESS| pw63368 [PATCH] [v2] add top level SPDX license identifier.
@ 2019-11-28 7:42 dpdklab
0 siblings, 0 replies; 4+ messages in thread
From: dpdklab @ 2019-11-28 7:42 UTC (permalink / raw)
To: Test Report; +Cc: dpdk-test-reports
[-- Attachment #1: Type: text/plain, Size: 1334 bytes --]
Test-Label: iol-compilation
Test-Status: SUCCESS
http://dpdk.org/patch/63368
_Compile Testing PASS_
Submitter: Hemant Agrawal <hemant.agrawal@nxp.com>
Date: Thursday, November 28 2019 07:05:38
DPDK git baseline: Repo:dpdk
Branch: master
CommitID:808b3fce7ed76572b16b699d2845c3e83d9f59e7
63368 --> compile testing pass
Test environment and result as below:
+--------------+--------------+-------------------+------------------+
| Environment | dpdk_compile | dpdk_compile_spdk | dpdk_compile_ovs |
+==============+==============+===================+==================+
| Ubuntu 18.04 | PASS | PASS | PASS |
+--------------+--------------+-------------------+------------------+
| FreeBSD 11.2 | PASS | PASS | SKIPPED |
+--------------+--------------+-------------------+------------------+
| CentOS 8 | PASS | SKIPPED | PASS |
+--------------+--------------+-------------------+------------------+
Ubuntu 18.04
Kernel: 4.15.0-generic
GCC: 7.4
FreeBSD 11.2
Kernel: 11.2
GCC: 8.3
CentOS 8
Kernel: 4.18.0.el8_0
GCC: 8.2
https://lab.dpdk.org/results/dashboard/patchsets/8758/
UNH-IOL DPDK Performance Test Lab
To manage your email subscriptions visit:
https://lab.dpdk.org/results/dashboard/preferences/subscriptions/
^ permalink raw reply [flat|nested] 4+ messages in thread
* [dpdk-test-report] |SUCCESS| pw63368 [PATCH] [v2] add top level SPDX license identifier.
@ 2019-11-28 7:40 dpdklab
0 siblings, 0 replies; 4+ messages in thread
From: dpdklab @ 2019-11-28 7:40 UTC (permalink / raw)
To: Test Report; +Cc: dpdk-test-reports
[-- Attachment #1: Type: text/plain, Size: 1999 bytes --]
Test-Label: iol-intel-Performance
Test-Status: SUCCESS
http://dpdk.org/patch/63368
_Performance Testing PASS_
Submitter: Hemant Agrawal <hemant.agrawal@nxp.com>
Date: Thursday, November 28 2019 07:05:38
DPDK git baseline: Repo:dpdk
Branch: master
CommitID:808b3fce7ed76572b16b699d2845c3e83d9f59e7
63368 --> performance testing pass
Test environment and result as below:
Ubuntu 18.04
Kernel: 4.15.0-generic
GCC: 7.4
NIC: Intel Corporation Ethernet Converged Network Adapter 82599ES 10000 Mbps
Target: x86_64-native-linuxapp-gcc
Fail/Total: 0/3
Detail performance results:
+------------+---------+-------------------------------------+
| frame_size | txd/rxd | throughput difference from expected |
+============+=========+=====================================+
| 64 | 128 | -0.205 |
+------------+---------+-------------------------------------+
| 64 | 512 | 0.020 |
+------------+---------+-------------------------------------+
| 64 | 2048 | 0.103 |
+------------+---------+-------------------------------------+
Ubuntu 18.04
Kernel: 4.15.0-generic
GCC: 7.4
NIC: Intel Corporation Ethernet Converged Network Adapter XL710-QDA2 40000 Mbps
Target: x86_64-native-linuxapp-gcc
Fail/Total: 0/2
Detail performance results:
+------------+---------+-------------------------------------+
| frame_size | txd/rxd | throughput difference from expected |
+============+=========+=====================================+
| 64 | 512 | -0.014 |
+------------+---------+-------------------------------------+
| 64 | 2048 | 0.057 |
+------------+---------+-------------------------------------+
https://lab.dpdk.org/results/dashboard/patchsets/8758/
UNH-IOL DPDK Performance Test Lab
To manage your email subscriptions visit:
https://lab.dpdk.org/results/dashboard/preferences/subscriptions/
^ permalink raw reply [flat|nested] 4+ messages in thread
[parent not found: <20191128070538.27724-1-hemant.agrawal@nxp.com>]
end of thread, other threads:[~2019-11-28 8:31 UTC | newest]
Thread overview: 4+ messages (download: mbox.gz / follow: Atom feed)
-- links below jump to the message on this page --
2019-11-28 8:31 [dpdk-test-report] |SUCCESS| pw63368 [PATCH] [v2] add top level SPDX license identifier dpdklab
-- strict thread matches above, loose matches on Subject: below --
2019-11-28 7:42 dpdklab
2019-11-28 7:40 dpdklab
[not found] <20191128070538.27724-1-hemant.agrawal@nxp.com>
2019-11-28 7:10 ` [dpdk-test-report] |SUCCESS| pw63368 [PATCH v2] " checkpatch
This is a public inbox, see mirroring instructions
for how to clone and mirror all data and code used for this inbox;
as well as URLs for NNTP newsgroup(s).