* [dpdk-test-report] |SUCCESS| [GIT MASTER] aef1d0733179afb56916e95058a4f1398b81af04
@ 2019-12-05 16:03 dpdklab
0 siblings, 0 replies; 7+ messages in thread
From: dpdklab @ 2019-12-05 16:03 UTC (permalink / raw)
To: Ali Alnubani, Test Report; +Cc: dpdk-test-reports
[-- Attachment #1: Type: text/plain, Size: 3695 bytes --]
_Performance Testing PASS_
Branch: dpdk-next-net-mlx
aef1d0733179afb56916e95058a4f1398b81af04 --> performance testing pass
Test environment and result as below:
Ubuntu 18.04
Kernel: 4.15.0-generic
GCC: 7.4
NIC: Mellanox ConnectX-5 100000 Mbps
Target: x86_64-native-linuxapp-gcc
Fail/Total: 0/6
Detail performance results:
+------------+---------+-------------------------------------+
| frame_size | txd/rxd | throughput difference from expected |
+============+=========+=====================================+
| 64 | 256 | 0.103 |
+------------+---------+-------------------------------------+
| 128 | 256 | -0.041 |
+------------+---------+-------------------------------------+
| 256 | 256 | 0.066 |
+------------+---------+-------------------------------------+
| 512 | 256 | 0.092 |
+------------+---------+-------------------------------------+
| 1024 | 256 | 0.002 |
+------------+---------+-------------------------------------+
| 1518 | 256 | 0.001 |
+------------+---------+-------------------------------------+
Ubuntu 18.04
Kernel: 4.15.0-generic
GCC: 7.4
NIC: Mellanox ConnectX-4 Lx 25000 Mbps
Target: x86_64-native-linuxapp-gcc
Fail/Total: 0/6
Detail performance results:
+------------+---------+-------------------------------------+
| frame_size | txd/rxd | throughput difference from expected |
+============+=========+=====================================+
| 64 | 256 | 0.207 |
+------------+---------+-------------------------------------+
| 128 | 256 | -0.086 |
+------------+---------+-------------------------------------+
| 256 | 256 | -0.003 |
+------------+---------+-------------------------------------+
| 512 | 256 | 0.013 |
+------------+---------+-------------------------------------+
| 1024 | 256 | 0 |
+------------+---------+-------------------------------------+
| 1518 | 256 | -0.010 |
+------------+---------+-------------------------------------+
Ubuntu 18.04
Kernel: 4.15.0-generic
GCC: 7.4
NIC: Mellanox ConnectX-4 Lx 40000 Mbps
Target: x86_64-native-linuxapp-gcc
Fail/Total: 0/6
Detail performance results:
+------------+---------+-------------------------------------+
| frame_size | txd/rxd | throughput difference from expected |
+============+=========+=====================================+
| 64 | 256 | -0.241 |
+------------+---------+-------------------------------------+
| 128 | 256 | 0.051 |
+------------+---------+-------------------------------------+
| 256 | 256 | 0.143 |
+------------+---------+-------------------------------------+
| 512 | 256 | 0.029 |
+------------+---------+-------------------------------------+
| 1024 | 256 | -0.002 |
+------------+---------+-------------------------------------+
| 1518 | 256 | 0.004 |
+------------+---------+-------------------------------------+
https://lab.dpdk.org/results/dashboard/tarballs/7390/
UNH-IOL DPDK Performance Test Lab
To manage your email subscriptions visit:
https://lab.dpdk.org/results/dashboard/preferences/subscriptions/
^ permalink raw reply [flat|nested] 7+ messages in thread
* [dpdk-test-report] |SUCCESS| [GIT MASTER] aef1d0733179afb56916e95058a4f1398b81af04
@ 2019-12-09 17:12 dpdklab
0 siblings, 0 replies; 7+ messages in thread
From: dpdklab @ 2019-12-09 17:12 UTC (permalink / raw)
To: Ali Alnubani, Test Report; +Cc: dpdk-test-reports
[-- Attachment #1: Type: text/plain, Size: 3694 bytes --]
_Performance Testing PASS_
Branch: dpdk-next-crypto
aef1d0733179afb56916e95058a4f1398b81af04 --> performance testing pass
Test environment and result as below:
Ubuntu 18.04
Kernel: 4.15.0-generic
GCC: 7.4
NIC: Mellanox ConnectX-5 100000 Mbps
Target: x86_64-native-linuxapp-gcc
Fail/Total: 0/6
Detail performance results:
+------------+---------+-------------------------------------+
| frame_size | txd/rxd | throughput difference from expected |
+============+=========+=====================================+
| 64 | 256 | -0.357 |
+------------+---------+-------------------------------------+
| 128 | 256 | 0.033 |
+------------+---------+-------------------------------------+
| 256 | 256 | -0.046 |
+------------+---------+-------------------------------------+
| 512 | 256 | 0.077 |
+------------+---------+-------------------------------------+
| 1024 | 256 | -0.051 |
+------------+---------+-------------------------------------+
| 1518 | 256 | -0.031 |
+------------+---------+-------------------------------------+
Ubuntu 18.04
Kernel: 4.15.0-generic
GCC: 7.4
NIC: Mellanox ConnectX-4 Lx 40000 Mbps
Target: x86_64-native-linuxapp-gcc
Fail/Total: 0/6
Detail performance results:
+------------+---------+-------------------------------------+
| frame_size | txd/rxd | throughput difference from expected |
+============+=========+=====================================+
| 64 | 256 | -0.301 |
+------------+---------+-------------------------------------+
| 128 | 256 | -0.189 |
+------------+---------+-------------------------------------+
| 256 | 256 | -0.069 |
+------------+---------+-------------------------------------+
| 512 | 256 | 0.066 |
+------------+---------+-------------------------------------+
| 1024 | 256 | -0.002 |
+------------+---------+-------------------------------------+
| 1518 | 256 | -0.009 |
+------------+---------+-------------------------------------+
Ubuntu 18.04
Kernel: 4.15.0-generic
GCC: 7.4
NIC: Mellanox ConnectX-4 Lx 25000 Mbps
Target: x86_64-native-linuxapp-gcc
Fail/Total: 0/6
Detail performance results:
+------------+---------+-------------------------------------+
| frame_size | txd/rxd | throughput difference from expected |
+============+=========+=====================================+
| 64 | 256 | 0.128 |
+------------+---------+-------------------------------------+
| 128 | 256 | 0.202 |
+------------+---------+-------------------------------------+
| 256 | 256 | -0.030 |
+------------+---------+-------------------------------------+
| 512 | 256 | 0.002 |
+------------+---------+-------------------------------------+
| 1024 | 256 | 0.021 |
+------------+---------+-------------------------------------+
| 1518 | 256 | 0 |
+------------+---------+-------------------------------------+
https://lab.dpdk.org/results/dashboard/tarballs/7405/
UNH-IOL DPDK Performance Test Lab
To manage your email subscriptions visit:
https://lab.dpdk.org/results/dashboard/preferences/subscriptions/
^ permalink raw reply [flat|nested] 7+ messages in thread
* [dpdk-test-report] |SUCCESS| [GIT MASTER] aef1d0733179afb56916e95058a4f1398b81af04
@ 2019-12-09 16:49 dpdklab
0 siblings, 0 replies; 7+ messages in thread
From: dpdklab @ 2019-12-09 16:49 UTC (permalink / raw)
To: Test Report; +Cc: dpdk-test-reports
[-- Attachment #1: Type: text/plain, Size: 1449 bytes --]
_Testing PASS_
Branch: dpdk-next-crypto
aef1d0733179afb56916e95058a4f1398b81af04 --> testing pass
Test environment and result as below:
+--------------+--------------------+--------------+-------------------+----------------+------------------+
| Environment | dpdk_meson_compile | dpdk_compile | dpdk_compile_spdk | dpdk_unit_test | dpdk_compile_ovs |
+==============+====================+==============+===================+================+==================+
| Ubuntu 18.04 | PASS | PASS | PASS | PASS | PASS |
+--------------+--------------------+--------------+-------------------+----------------+------------------+
| FreeBSD 11.2 | PASS | PASS | PASS | SKIPPED | SKIPPED |
+--------------+--------------------+--------------+-------------------+----------------+------------------+
| CentOS 8 | PASS | PASS | SKIPPED | SKIPPED | PASS |
+--------------+--------------------+--------------+-------------------+----------------+------------------+
Ubuntu 18.04
Kernel: 4.15.0-generic
GCC: 7.4
FreeBSD 11.2
Kernel: 11.2
GCC: 8.3
CentOS 8
Kernel: 4.18.0.el8_0
GCC: 8.2
https://lab.dpdk.org/results/dashboard/tarballs/7405/
UNH-IOL DPDK Performance Test Lab
To manage your email subscriptions visit:
https://lab.dpdk.org/results/dashboard/preferences/subscriptions/
^ permalink raw reply [flat|nested] 7+ messages in thread
* [dpdk-test-report] |SUCCESS| [GIT MASTER] aef1d0733179afb56916e95058a4f1398b81af04
@ 2019-12-05 15:41 dpdklab
0 siblings, 0 replies; 7+ messages in thread
From: dpdklab @ 2019-12-05 15:41 UTC (permalink / raw)
To: Test Report; +Cc: dpdk-test-reports
[-- Attachment #1: Type: text/plain, Size: 1450 bytes --]
_Testing PASS_
Branch: dpdk-next-net-mlx
aef1d0733179afb56916e95058a4f1398b81af04 --> testing pass
Test environment and result as below:
+--------------+------------------+-------------------+--------------------+--------------+----------------+
| Environment | dpdk_compile_ovs | dpdk_compile_spdk | dpdk_meson_compile | dpdk_compile | dpdk_unit_test |
+==============+==================+===================+====================+==============+================+
| Ubuntu 18.04 | PASS | PASS | PASS | PASS | PASS |
+--------------+------------------+-------------------+--------------------+--------------+----------------+
| CentOS 8 | PASS | SKIPPED | PASS | PASS | SKIPPED |
+--------------+------------------+-------------------+--------------------+--------------+----------------+
| FreeBSD 11.2 | SKIPPED | PASS | PASS | PASS | SKIPPED |
+--------------+------------------+-------------------+--------------------+--------------+----------------+
Ubuntu 18.04
Kernel: 4.15.0-generic
GCC: 7.4
CentOS 8
Kernel: 4.18.0.el8_0
GCC: 8.2
FreeBSD 11.2
Kernel: 11.2
GCC: 8.3
https://lab.dpdk.org/results/dashboard/tarballs/7390/
UNH-IOL DPDK Performance Test Lab
To manage your email subscriptions visit:
https://lab.dpdk.org/results/dashboard/preferences/subscriptions/
^ permalink raw reply [flat|nested] 7+ messages in thread
* [dpdk-test-report] |SUCCESS| [GIT MASTER] aef1d0733179afb56916e95058a4f1398b81af04
@ 2019-12-05 2:48 dpdklab
0 siblings, 0 replies; 7+ messages in thread
From: dpdklab @ 2019-12-05 2:48 UTC (permalink / raw)
To: Ali Alnubani, Test Report; +Cc: dpdk-test-reports
[-- Attachment #1: Type: text/plain, Size: 3682 bytes --]
_Performance Testing PASS_
Branch: dpdk
aef1d0733179afb56916e95058a4f1398b81af04 --> performance testing pass
Test environment and result as below:
Ubuntu 18.04
Kernel: 4.15.0-generic
GCC: 7.4
NIC: Mellanox ConnectX-5 100000 Mbps
Target: x86_64-native-linuxapp-gcc
Fail/Total: 0/6
Detail performance results:
+------------+---------+-------------------------------------+
| frame_size | txd/rxd | throughput difference from expected |
+============+=========+=====================================+
| 64 | 256 | 0.130 |
+------------+---------+-------------------------------------+
| 128 | 256 | 0.022 |
+------------+---------+-------------------------------------+
| 256 | 256 | -0.008 |
+------------+---------+-------------------------------------+
| 512 | 256 | -0.230 |
+------------+---------+-------------------------------------+
| 1024 | 256 | -0.017 |
+------------+---------+-------------------------------------+
| 1518 | 256 | 0.014 |
+------------+---------+-------------------------------------+
Ubuntu 18.04
Kernel: 4.15.0-generic
GCC: 7.4
NIC: Mellanox ConnectX-4 Lx 25000 Mbps
Target: x86_64-native-linuxapp-gcc
Fail/Total: 0/6
Detail performance results:
+------------+---------+-------------------------------------+
| frame_size | txd/rxd | throughput difference from expected |
+============+=========+=====================================+
| 64 | 256 | -0.301 |
+------------+---------+-------------------------------------+
| 128 | 256 | -0.035 |
+------------+---------+-------------------------------------+
| 256 | 256 | 0.003 |
+------------+---------+-------------------------------------+
| 512 | 256 | -0.006 |
+------------+---------+-------------------------------------+
| 1024 | 256 | -0.010 |
+------------+---------+-------------------------------------+
| 1518 | 256 | 0.014 |
+------------+---------+-------------------------------------+
Ubuntu 18.04
Kernel: 4.15.0-generic
GCC: 7.4
NIC: Mellanox ConnectX-4 Lx 40000 Mbps
Target: x86_64-native-linuxapp-gcc
Fail/Total: 0/6
Detail performance results:
+------------+---------+-------------------------------------+
| frame_size | txd/rxd | throughput difference from expected |
+============+=========+=====================================+
| 64 | 256 | 0.100 |
+------------+---------+-------------------------------------+
| 128 | 256 | 0.004 |
+------------+---------+-------------------------------------+
| 256 | 256 | -0.201 |
+------------+---------+-------------------------------------+
| 512 | 256 | -0.015 |
+------------+---------+-------------------------------------+
| 1024 | 256 | -0.007 |
+------------+---------+-------------------------------------+
| 1518 | 256 | -0.008 |
+------------+---------+-------------------------------------+
https://lab.dpdk.org/results/dashboard/tarballs/7384/
UNH-IOL DPDK Performance Test Lab
To manage your email subscriptions visit:
https://lab.dpdk.org/results/dashboard/preferences/subscriptions/
^ permalink raw reply [flat|nested] 7+ messages in thread
* [dpdk-test-report] |SUCCESS| [GIT MASTER] aef1d0733179afb56916e95058a4f1398b81af04
@ 2019-12-04 23:02 dpdklab
0 siblings, 0 replies; 7+ messages in thread
From: dpdklab @ 2019-12-04 23:02 UTC (permalink / raw)
To: Test Report; +Cc: dpdk-test-reports
[-- Attachment #1: Type: text/plain, Size: 1437 bytes --]
_Testing PASS_
Branch: dpdk
aef1d0733179afb56916e95058a4f1398b81af04 --> testing pass
Test environment and result as below:
+--------------+------------------+-------------------+----------------+--------------+--------------------+
| Environment | dpdk_compile_ovs | dpdk_compile_spdk | dpdk_unit_test | dpdk_compile | dpdk_meson_compile |
+==============+==================+===================+================+==============+====================+
| Ubuntu 18.04 | PASS | PASS | PASS | PASS | PASS |
+--------------+------------------+-------------------+----------------+--------------+--------------------+
| CentOS 8 | PASS | SKIPPED | SKIPPED | PASS | PASS |
+--------------+------------------+-------------------+----------------+--------------+--------------------+
| FreeBSD 11.2 | SKIPPED | PASS | SKIPPED | PASS | PASS |
+--------------+------------------+-------------------+----------------+--------------+--------------------+
Ubuntu 18.04
Kernel: 4.15.0-generic
GCC: 7.4
CentOS 8
Kernel: 4.18.0.el8_0
GCC: 8.2
FreeBSD 11.2
Kernel: 11.2
GCC: 8.3
https://lab.dpdk.org/results/dashboard/tarballs/7384/
UNH-IOL DPDK Performance Test Lab
To manage your email subscriptions visit:
https://lab.dpdk.org/results/dashboard/preferences/subscriptions/
^ permalink raw reply [flat|nested] 7+ messages in thread
* [dpdk-test-report] |SUCCESS| [GIT MASTER] aef1d0733179afb56916e95058a4f1398b81af04
@ 2019-12-04 23:00 dpdklab
0 siblings, 0 replies; 7+ messages in thread
From: dpdklab @ 2019-12-04 23:00 UTC (permalink / raw)
To: Test Report; +Cc: dpdk-test-reports
[-- Attachment #1: Type: text/plain, Size: 1770 bytes --]
_Performance Testing PASS_
Branch: dpdk
aef1d0733179afb56916e95058a4f1398b81af04 --> performance testing pass
Test environment and result as below:
Ubuntu 18.04
Kernel: 4.15.0-generic
GCC: 7.4
NIC: Intel Corporation Ethernet Converged Network Adapter 82599ES 10000 Mbps
Target: x86_64-native-linuxapp-gcc
Fail/Total: 0/3
Detail performance results:
+------------+---------+-------------------------------------+
| frame_size | txd/rxd | throughput difference from expected |
+============+=========+=====================================+
| 64 | 128 | 0.147 |
+------------+---------+-------------------------------------+
| 64 | 512 | 0.023 |
+------------+---------+-------------------------------------+
| 64 | 2048 | -0.215 |
+------------+---------+-------------------------------------+
Ubuntu 18.04
Kernel: 4.15.0-generic
GCC: 7.4
NIC: Intel Corporation Ethernet Converged Network Adapter XL710-QDA2 40000 Mbps
Target: x86_64-native-linuxapp-gcc
Fail/Total: 0/2
Detail performance results:
+------------+---------+-------------------------------------+
| frame_size | txd/rxd | throughput difference from expected |
+============+=========+=====================================+
| 64 | 512 | -0.119 |
+------------+---------+-------------------------------------+
| 64 | 2048 | -0.273 |
+------------+---------+-------------------------------------+
https://lab.dpdk.org/results/dashboard/tarballs/7384/
UNH-IOL DPDK Performance Test Lab
To manage your email subscriptions visit:
https://lab.dpdk.org/results/dashboard/preferences/subscriptions/
^ permalink raw reply [flat|nested] 7+ messages in thread
end of thread, other threads:[~2019-12-09 17:12 UTC | newest]
Thread overview: 7+ messages (download: mbox.gz / follow: Atom feed)
-- links below jump to the message on this page --
2019-12-05 16:03 [dpdk-test-report] |SUCCESS| [GIT MASTER] aef1d0733179afb56916e95058a4f1398b81af04 dpdklab
-- strict thread matches above, loose matches on Subject: below --
2019-12-09 17:12 dpdklab
2019-12-09 16:49 dpdklab
2019-12-05 15:41 dpdklab
2019-12-05 2:48 dpdklab
2019-12-04 23:02 dpdklab
2019-12-04 23:00 dpdklab
This is a public inbox, see mirroring instructions
for how to clone and mirror all data and code used for this inbox;
as well as URLs for NNTP newsgroup(s).