Test-Label: checkpatch Test-Status: SUCCESS http://dpdk.org/patch/63601 _coding style OK_
[-- Attachment #1: Type: text/plain, Size: 1656 bytes --] Test-Label: iol-testing Test-Status: SUCCESS http://dpdk.org/patch/63601 _Testing PASS_ Submitter: Reshma Pattan <reshma.pattan@intel.com> Date: Thursday, December 05 2019 17:18:11 DPDK git baseline: Repo:dpdk Branch: master CommitID:aef1d0733179afb56916e95058a4f1398b81af04 63601 --> testing pass Test environment and result as below: +--------------+--------------+------------------+--------------------+----------------+-------------------+ | Environment | dpdk_compile | dpdk_compile_ovs | dpdk_meson_compile | dpdk_unit_test | dpdk_compile_spdk | +==============+==============+==================+====================+================+===================+ | FreeBSD 11.2 | PASS | SKIPPED | PASS | SKIPPED | PASS | +--------------+--------------+------------------+--------------------+----------------+-------------------+ | Ubuntu 18.04 | PASS | PASS | PASS | PASS | PASS | +--------------+--------------+------------------+--------------------+----------------+-------------------+ | CentOS 8 | PASS | PASS | PASS | SKIPPED | SKIPPED | +--------------+--------------+------------------+--------------------+----------------+-------------------+ FreeBSD 11.2 Kernel: 11.2 GCC: 8.3 Ubuntu 18.04 Kernel: 4.15.0-generic GCC: 7.4 CentOS 8 Kernel: 4.18.0.el8_0 GCC: 8.2 https://lab.dpdk.org/results/dashboard/patchsets/8821/ UNH-IOL DPDK Performance Test Lab To manage your email subscriptions visit: https://lab.dpdk.org/results/dashboard/preferences/subscriptions/
[-- Attachment #1: Type: text/plain, Size: 1999 bytes --] Test-Label: iol-intel-Performance Test-Status: SUCCESS http://dpdk.org/patch/63601 _Performance Testing PASS_ Submitter: Reshma Pattan <reshma.pattan@intel.com> Date: Thursday, December 05 2019 17:18:11 DPDK git baseline: Repo:dpdk Branch: master CommitID:aef1d0733179afb56916e95058a4f1398b81af04 63601 --> performance testing pass Test environment and result as below: Ubuntu 18.04 Kernel: 4.15.0-generic GCC: 7.4 NIC: Intel Corporation Ethernet Converged Network Adapter 82599ES 10000 Mbps Target: x86_64-native-linuxapp-gcc Fail/Total: 0/3 Detail performance results: +------------+---------+-------------------------------------+ | frame_size | txd/rxd | throughput difference from expected | +============+=========+=====================================+ | 64 | 128 | -0.309 | +------------+---------+-------------------------------------+ | 64 | 512 | -0.037 | +------------+---------+-------------------------------------+ | 64 | 2048 | -0.035 | +------------+---------+-------------------------------------+ Ubuntu 18.04 Kernel: 4.15.0-generic GCC: 7.4 NIC: Intel Corporation Ethernet Converged Network Adapter XL710-QDA2 40000 Mbps Target: x86_64-native-linuxapp-gcc Fail/Total: 0/2 Detail performance results: +------------+---------+-------------------------------------+ | frame_size | txd/rxd | throughput difference from expected | +============+=========+=====================================+ | 64 | 512 | 0.262 | +------------+---------+-------------------------------------+ | 64 | 2048 | -0.153 | +------------+---------+-------------------------------------+ https://lab.dpdk.org/results/dashboard/patchsets/8821/ UNH-IOL DPDK Performance Test Lab To manage your email subscriptions visit: https://lab.dpdk.org/results/dashboard/preferences/subscriptions/
[-- Attachment #1: Type: text/plain, Size: 1692 bytes --] Test-Label: iol-mellanox-Performance Test-Status: SUCCESS http://dpdk.org/patch/63601 _Performance Testing PASS_ Submitter: Reshma Pattan <reshma.pattan@intel.com> Date: Thursday, December 05 2019 17:18:11 DPDK git baseline: Repo:dpdk Branch: master CommitID:aef1d0733179afb56916e95058a4f1398b81af04 63601 --> performance testing pass Test environment and result as below: Ubuntu 18.04 Kernel: 4.15.0-generic GCC: 7.4 NIC: Mellanox ConnectX-5 100000 Mbps Target: x86_64-native-linuxapp-gcc Fail/Total: 0/6 Detail performance results: +------------+---------+-------------------------------------+ | frame_size | txd/rxd | throughput difference from expected | +============+=========+=====================================+ | 64 | 256 | 0.015 | +------------+---------+-------------------------------------+ | 128 | 256 | -0.143 | +------------+---------+-------------------------------------+ | 256 | 256 | 0.083 | +------------+---------+-------------------------------------+ | 512 | 256 | 0.191 | +------------+---------+-------------------------------------+ | 1024 | 256 | -0.006 | +------------+---------+-------------------------------------+ | 1518 | 256 | -0.012 | +------------+---------+-------------------------------------+ https://lab.dpdk.org/results/dashboard/patchsets/8821/ UNH-IOL DPDK Performance Test Lab To manage your email subscriptions visit: https://lab.dpdk.org/results/dashboard/preferences/subscriptions/
[-- Attachment #1: Type: text/plain, Size: 2805 bytes --] Test-Label: iol-mellanox-Performance Test-Status: SUCCESS http://dpdk.org/patch/63601 _Performance Testing PASS_ Submitter: Reshma Pattan <reshma.pattan@intel.com> Date: Thursday, December 05 2019 17:18:11 DPDK git baseline: Repo:dpdk Branch: master CommitID:aef1d0733179afb56916e95058a4f1398b81af04 63601 --> performance testing pass Test environment and result as below: Ubuntu 18.04 Kernel: 4.15.0-generic GCC: 7.4 NIC: Mellanox ConnectX-4 Lx 40000 Mbps Target: x86_64-native-linuxapp-gcc Fail/Total: 0/6 Detail performance results: +------------+---------+-------------------------------------+ | frame_size | txd/rxd | throughput difference from expected | +============+=========+=====================================+ | 64 | 256 | -0.233 | +------------+---------+-------------------------------------+ | 128 | 256 | -0.234 | +------------+---------+-------------------------------------+ | 256 | 256 | 0.148 | +------------+---------+-------------------------------------+ | 512 | 256 | 0.020 | +------------+---------+-------------------------------------+ | 1024 | 256 | -0.002 | +------------+---------+-------------------------------------+ | 1518 | 256 | -0.001 | +------------+---------+-------------------------------------+ Ubuntu 18.04 Kernel: 4.15.0-generic GCC: 7.4 NIC: Mellanox ConnectX-4 Lx 25000 Mbps Target: x86_64-native-linuxapp-gcc Fail/Total: 0/6 Detail performance results: +------------+---------+-------------------------------------+ | frame_size | txd/rxd | throughput difference from expected | +============+=========+=====================================+ | 64 | 256 | 0.148 | +------------+---------+-------------------------------------+ | 128 | 256 | 0.070 | +------------+---------+-------------------------------------+ | 256 | 256 | 0.046 | +------------+---------+-------------------------------------+ | 512 | 256 | -0.003 | +------------+---------+-------------------------------------+ | 1024 | 256 | 0.002 | +------------+---------+-------------------------------------+ | 1518 | 256 | -0.013 | +------------+---------+-------------------------------------+ https://lab.dpdk.org/results/dashboard/patchsets/8821/ UNH-IOL DPDK Performance Test Lab To manage your email subscriptions visit: https://lab.dpdk.org/results/dashboard/preferences/subscriptions/