* [dpdk-test-report] |SUCCESS| pw63610 [PATCH] [v2] cryptodev: add chacha20-poly1305 aead algorithm
@ 2019-12-06 19:22 dpdklab
0 siblings, 0 replies; 2+ messages in thread
From: dpdklab @ 2019-12-06 19:22 UTC (permalink / raw)
To: Ali Alnubani, Test Report; +Cc: dpdk-test-reports
[-- Attachment #1: Type: text/plain, Size: 3916 bytes --]
Test-Label: iol-mellanox-Performance
Test-Status: SUCCESS
http://dpdk.org/patch/63610
_Performance Testing PASS_
Submitter: Arek Kusztal <arkadiuszx.kusztal@intel.com>
Date: Friday, December 06 2019 18:02:02
DPDK git baseline: Repo:dpdk
Branch: master
CommitID:aef1d0733179afb56916e95058a4f1398b81af04
63610 --> performance testing pass
Test environment and result as below:
Ubuntu 18.04
Kernel: 4.15.0-generic
GCC: 7.4
NIC: Mellanox ConnectX-5 100000 Mbps
Target: x86_64-native-linuxapp-gcc
Fail/Total: 0/6
Detail performance results:
+------------+---------+-------------------------------------+
| frame_size | txd/rxd | throughput difference from expected |
+============+=========+=====================================+
| 64 | 256 | -0.416 |
+------------+---------+-------------------------------------+
| 128 | 256 | 0.138 |
+------------+---------+-------------------------------------+
| 256 | 256 | 0.017 |
+------------+---------+-------------------------------------+
| 512 | 256 | 0.210 |
+------------+---------+-------------------------------------+
| 1024 | 256 | 0.005 |
+------------+---------+-------------------------------------+
| 1518 | 256 | 0.009 |
+------------+---------+-------------------------------------+
Ubuntu 18.04
Kernel: 4.15.0-generic
GCC: 7.4
NIC: Mellanox ConnectX-4 Lx 25000 Mbps
Target: x86_64-native-linuxapp-gcc
Fail/Total: 0/6
Detail performance results:
+------------+---------+-------------------------------------+
| frame_size | txd/rxd | throughput difference from expected |
+============+=========+=====================================+
| 64 | 256 | 0.327 |
+------------+---------+-------------------------------------+
| 128 | 256 | -0.133 |
+------------+---------+-------------------------------------+
| 256 | 256 | -0.013 |
+------------+---------+-------------------------------------+
| 512 | 256 | 0.008 |
+------------+---------+-------------------------------------+
| 1024 | 256 | 0.003 |
+------------+---------+-------------------------------------+
| 1518 | 256 | 0.013 |
+------------+---------+-------------------------------------+
Ubuntu 18.04
Kernel: 4.15.0-generic
GCC: 7.4
NIC: Mellanox ConnectX-4 Lx 40000 Mbps
Target: x86_64-native-linuxapp-gcc
Fail/Total: 0/6
Detail performance results:
+------------+---------+-------------------------------------+
| frame_size | txd/rxd | throughput difference from expected |
+============+=========+=====================================+
| 64 | 256 | 0.239 |
+------------+---------+-------------------------------------+
| 128 | 256 | -0.008 |
+------------+---------+-------------------------------------+
| 256 | 256 | -0.111 |
+------------+---------+-------------------------------------+
| 512 | 256 | 0.020 |
+------------+---------+-------------------------------------+
| 1024 | 256 | -0.005 |
+------------+---------+-------------------------------------+
| 1518 | 256 | -0.015 |
+------------+---------+-------------------------------------+
https://lab.dpdk.org/results/dashboard/patchsets/8824/
UNH-IOL DPDK Performance Test Lab
To manage your email subscriptions visit:
https://lab.dpdk.org/results/dashboard/preferences/subscriptions/
^ permalink raw reply [flat|nested] 2+ messages in thread
* [dpdk-test-report] |SUCCESS| pw63610 [PATCH] [v2] cryptodev: add chacha20-poly1305 aead algorithm
@ 2019-12-06 18:59 dpdklab
0 siblings, 0 replies; 2+ messages in thread
From: dpdklab @ 2019-12-06 18:59 UTC (permalink / raw)
To: Test Report; +Cc: dpdk-test-reports
[-- Attachment #1: Type: text/plain, Size: 1658 bytes --]
Test-Label: iol-testing
Test-Status: SUCCESS
http://dpdk.org/patch/63610
_Testing PASS_
Submitter: Arek Kusztal <arkadiuszx.kusztal@intel.com>
Date: Friday, December 06 2019 18:02:02
DPDK git baseline: Repo:dpdk
Branch: master
CommitID:aef1d0733179afb56916e95058a4f1398b81af04
63610 --> testing pass
Test environment and result as below:
+--------------+------------------+-------------------+--------------+----------------+--------------------+
| Environment | dpdk_compile_ovs | dpdk_compile_spdk | dpdk_compile | dpdk_unit_test | dpdk_meson_compile |
+==============+==================+===================+==============+================+====================+
| Ubuntu 18.04 | PASS | PASS | PASS | PASS | PASS |
+--------------+------------------+-------------------+--------------+----------------+--------------------+
| CentOS 8 | PASS | SKIPPED | PASS | SKIPPED | PASS |
+--------------+------------------+-------------------+--------------+----------------+--------------------+
| FreeBSD 11.2 | SKIPPED | PASS | PASS | SKIPPED | PASS |
+--------------+------------------+-------------------+--------------+----------------+--------------------+
Ubuntu 18.04
Kernel: 4.15.0-generic
GCC: 7.4
CentOS 8
Kernel: 4.18.0.el8_0
GCC: 8.2
FreeBSD 11.2
Kernel: 11.2
GCC: 8.3
https://lab.dpdk.org/results/dashboard/patchsets/8824/
UNH-IOL DPDK Performance Test Lab
To manage your email subscriptions visit:
https://lab.dpdk.org/results/dashboard/preferences/subscriptions/
^ permalink raw reply [flat|nested] 2+ messages in thread
end of thread, other threads:[~2019-12-06 19:22 UTC | newest]
Thread overview: 2+ messages (download: mbox.gz / follow: Atom feed)
-- links below jump to the message on this page --
2019-12-06 19:22 [dpdk-test-report] |SUCCESS| pw63610 [PATCH] [v2] cryptodev: add chacha20-poly1305 aead algorithm dpdklab
-- strict thread matches above, loose matches on Subject: below --
2019-12-06 18:59 dpdklab
This is a public inbox, see mirroring instructions
for how to clone and mirror all data and code used for this inbox;
as well as URLs for NNTP newsgroup(s).