* [dpdk-test-report] |SUCCESS| [GIT MASTER] 53d40bbaa0428239094cb3da4f82cb1bc8c0303d
@ 2019-12-10 22:17 dpdklab
0 siblings, 0 replies; 5+ messages in thread
From: dpdklab @ 2019-12-10 22:17 UTC (permalink / raw)
To: Ali Alnubani, Test Report; +Cc: dpdk-test-reports
[-- Attachment #1: Type: text/plain, Size: 3684 bytes --]
_Performance Testing PASS_
Branch: dpdk-next-net
53d40bbaa0428239094cb3da4f82cb1bc8c0303d --> performance testing pass
Test environment and result as below:
Ubuntu 18.04
Kernel: 4.15.0-generic
GCC: 7.4
NIC: Mellanox ConnectX-5 100000 Mbps
Target: x86_64-native-linuxapp-gcc
Fail/Total: 0/6
Detail performance results:
+------------+---------+-------------------------------------+
| frame_size | txd/rxd | throughput difference from expected |
+============+=========+=====================================+
| 64 | 256 | -0.629 |
+------------+---------+-------------------------------------+
| 128 | 256 | 0.210 |
+------------+---------+-------------------------------------+
| 256 | 256 | -0.070 |
+------------+---------+-------------------------------------+
| 512 | 256 | 0.187 |
+------------+---------+-------------------------------------+
| 1024 | 256 | -0.119 |
+------------+---------+-------------------------------------+
| 1518 | 256 | -0.022 |
+------------+---------+-------------------------------------+
Ubuntu 18.04
Kernel: 4.15.0-generic
GCC: 7.4
NIC: Mellanox ConnectX-4 Lx 25000 Mbps
Target: x86_64-native-linuxapp-gcc
Fail/Total: 0/6
Detail performance results:
+------------+---------+-------------------------------------+
| frame_size | txd/rxd | throughput difference from expected |
+============+=========+=====================================+
| 64 | 256 | 0.307 |
+------------+---------+-------------------------------------+
| 128 | 256 | -0.227 |
+------------+---------+-------------------------------------+
| 256 | 256 | -0.024 |
+------------+---------+-------------------------------------+
| 512 | 256 | -0.002 |
+------------+---------+-------------------------------------+
| 1024 | 256 | 0.001 |
+------------+---------+-------------------------------------+
| 1518 | 256 | 0.006 |
+------------+---------+-------------------------------------+
Ubuntu 18.04
Kernel: 4.15.0-generic
GCC: 7.4
NIC: Mellanox ConnectX-4 Lx 40000 Mbps
Target: x86_64-native-linuxapp-gcc
Fail/Total: 0/6
Detail performance results:
+------------+---------+-------------------------------------+
| frame_size | txd/rxd | throughput difference from expected |
+============+=========+=====================================+
| 64 | 256 | -0.256 |
+------------+---------+-------------------------------------+
| 128 | 256 | -0.027 |
+------------+---------+-------------------------------------+
| 256 | 256 | -0.048 |
+------------+---------+-------------------------------------+
| 512 | 256 | 0.041 |
+------------+---------+-------------------------------------+
| 1024 | 256 | -0.005 |
+------------+---------+-------------------------------------+
| 1518 | 256 | -0.009 |
+------------+---------+-------------------------------------+
https://lab.dpdk.org/results/dashboard/tarballs/7422/
UNH-IOL DPDK Community Lab
To manage your email subscriptions visit:
https://lab.dpdk.org/results/dashboard/preferences/subscriptions/
^ permalink raw reply [flat|nested] 5+ messages in thread
* [dpdk-test-report] |SUCCESS| [GIT MASTER] 53d40bbaa0428239094cb3da4f82cb1bc8c0303d
@ 2019-12-12 2:34 dpdklab
0 siblings, 0 replies; 5+ messages in thread
From: dpdklab @ 2019-12-12 2:34 UTC (permalink / raw)
To: Ali Alnubani, Test Report; +Cc: dpdk-test-reports
[-- Attachment #1: Type: text/plain, Size: 3689 bytes --]
_Performance Testing PASS_
Branch: dpdk-next-net-brcm
53d40bbaa0428239094cb3da4f82cb1bc8c0303d --> performance testing pass
Test environment and result as below:
Ubuntu 18.04
Kernel: 4.15.0-generic
GCC: 7.4
NIC: Mellanox ConnectX-4 Lx 25000 Mbps
Target: x86_64-native-linuxapp-gcc
Fail/Total: 0/6
Detail performance results:
+------------+---------+-------------------------------------+
| frame_size | txd/rxd | throughput difference from expected |
+============+=========+=====================================+
| 64 | 256 | 0.331 |
+------------+---------+-------------------------------------+
| 128 | 256 | -0.059 |
+------------+---------+-------------------------------------+
| 256 | 256 | -0.024 |
+------------+---------+-------------------------------------+
| 512 | 256 | -0.006 |
+------------+---------+-------------------------------------+
| 1024 | 256 | 0.010 |
+------------+---------+-------------------------------------+
| 1518 | 256 | 0.002 |
+------------+---------+-------------------------------------+
Ubuntu 18.04
Kernel: 4.15.0-generic
GCC: 7.4
NIC: Mellanox ConnectX-4 Lx 40000 Mbps
Target: x86_64-native-linuxapp-gcc
Fail/Total: 0/6
Detail performance results:
+------------+---------+-------------------------------------+
| frame_size | txd/rxd | throughput difference from expected |
+============+=========+=====================================+
| 64 | 256 | -0.610 |
+------------+---------+-------------------------------------+
| 128 | 256 | 0.104 |
+------------+---------+-------------------------------------+
| 256 | 256 | -0.077 |
+------------+---------+-------------------------------------+
| 512 | 256 | 0.024 |
+------------+---------+-------------------------------------+
| 1024 | 256 | -0.017 |
+------------+---------+-------------------------------------+
| 1518 | 256 | -0.009 |
+------------+---------+-------------------------------------+
Ubuntu 18.04
Kernel: 4.15.0-generic
GCC: 7.4
NIC: Mellanox ConnectX-5 100000 Mbps
Target: x86_64-native-linuxapp-gcc
Fail/Total: 0/6
Detail performance results:
+------------+---------+-------------------------------------+
| frame_size | txd/rxd | throughput difference from expected |
+============+=========+=====================================+
| 64 | 256 | -0.436 |
+------------+---------+-------------------------------------+
| 128 | 256 | 0.147 |
+------------+---------+-------------------------------------+
| 256 | 256 | -0.042 |
+------------+---------+-------------------------------------+
| 512 | 256 | 0.059 |
+------------+---------+-------------------------------------+
| 1024 | 256 | -0.017 |
+------------+---------+-------------------------------------+
| 1518 | 256 | -0.012 |
+------------+---------+-------------------------------------+
https://lab.dpdk.org/results/dashboard/tarballs/7449/
UNH-IOL DPDK Community Lab
To manage your email subscriptions visit:
https://lab.dpdk.org/results/dashboard/preferences/subscriptions/
^ permalink raw reply [flat|nested] 5+ messages in thread
* [dpdk-test-report] |SUCCESS| [GIT MASTER] 53d40bbaa0428239094cb3da4f82cb1bc8c0303d
@ 2019-12-11 20:55 dpdklab
0 siblings, 0 replies; 5+ messages in thread
From: dpdklab @ 2019-12-11 20:55 UTC (permalink / raw)
To: Test Report; +Cc: dpdk-test-reports
[-- Attachment #1: Type: text/plain, Size: 1444 bytes --]
_Testing PASS_
Branch: dpdk-next-net-brcm
53d40bbaa0428239094cb3da4f82cb1bc8c0303d --> testing pass
Test environment and result as below:
+--------------+--------------------+------------------+--------------+----------------+-------------------+
| Environment | dpdk_meson_compile | dpdk_compile_ovs | dpdk_compile | dpdk_unit_test | dpdk_compile_spdk |
+==============+====================+==================+==============+================+===================+
| FreeBSD 11.2 | PASS | SKIPPED | PASS | SKIPPED | PASS |
+--------------+--------------------+------------------+--------------+----------------+-------------------+
| Ubuntu 18.04 | PASS | PASS | PASS | PASS | PASS |
+--------------+--------------------+------------------+--------------+----------------+-------------------+
| CentOS 8 | PASS | PASS | PASS | SKIPPED | SKIPPED |
+--------------+--------------------+------------------+--------------+----------------+-------------------+
FreeBSD 11.2
Kernel: 11.2
GCC: 8.3
Ubuntu 18.04
Kernel: 4.15.0-generic
GCC: 7.4
CentOS 8
Kernel: 4.18.0.el8_0
GCC: 8.2
https://lab.dpdk.org/results/dashboard/tarballs/7449/
UNH-IOL DPDK Community Lab
To manage your email subscriptions visit:
https://lab.dpdk.org/results/dashboard/preferences/subscriptions/
^ permalink raw reply [flat|nested] 5+ messages in thread
* [dpdk-test-report] |SUCCESS| [GIT MASTER] 53d40bbaa0428239094cb3da4f82cb1bc8c0303d
@ 2019-12-10 19:43 dpdklab
0 siblings, 0 replies; 5+ messages in thread
From: dpdklab @ 2019-12-10 19:43 UTC (permalink / raw)
To: Test Report; +Cc: dpdk-test-reports
[-- Attachment #1: Type: text/plain, Size: 1772 bytes --]
_Performance Testing PASS_
Branch: dpdk-next-net
53d40bbaa0428239094cb3da4f82cb1bc8c0303d --> performance testing pass
Test environment and result as below:
Ubuntu 18.04
Kernel: 4.15.0-generic
GCC: 7.4
NIC: Intel Corporation Ethernet Converged Network Adapter XL710-QDA2 40000 Mbps
Target: x86_64-native-linuxapp-gcc
Fail/Total: 0/2
Detail performance results:
+------------+---------+-------------------------------------+
| frame_size | txd/rxd | throughput difference from expected |
+============+=========+=====================================+
| 64 | 512 | 0.321 |
+------------+---------+-------------------------------------+
| 64 | 2048 | 0.302 |
+------------+---------+-------------------------------------+
Ubuntu 18.04
Kernel: 4.15.0-generic
GCC: 7.4
NIC: Intel Corporation Ethernet Converged Network Adapter 82599ES 10000 Mbps
Target: x86_64-native-linuxapp-gcc
Fail/Total: 0/3
Detail performance results:
+------------+---------+-------------------------------------+
| frame_size | txd/rxd | throughput difference from expected |
+============+=========+=====================================+
| 64 | 128 | 0.012 |
+------------+---------+-------------------------------------+
| 64 | 512 | 0.146 |
+------------+---------+-------------------------------------+
| 64 | 2048 | 0.217 |
+------------+---------+-------------------------------------+
https://lab.dpdk.org/results/dashboard/tarballs/7422/
UNH-IOL DPDK Community Lab
To manage your email subscriptions visit:
https://lab.dpdk.org/results/dashboard/preferences/subscriptions/
^ permalink raw reply [flat|nested] 5+ messages in thread
* [dpdk-test-report] |SUCCESS| [GIT MASTER] 53d40bbaa0428239094cb3da4f82cb1bc8c0303d
@ 2019-12-10 19:39 dpdklab
0 siblings, 0 replies; 5+ messages in thread
From: dpdklab @ 2019-12-10 19:39 UTC (permalink / raw)
To: Test Report; +Cc: dpdk-test-reports
[-- Attachment #1: Type: text/plain, Size: 1439 bytes --]
_Testing PASS_
Branch: dpdk-next-net
53d40bbaa0428239094cb3da4f82cb1bc8c0303d --> testing pass
Test environment and result as below:
+--------------+------------------+----------------+--------------------+-------------------+--------------+
| Environment | dpdk_compile_ovs | dpdk_unit_test | dpdk_meson_compile | dpdk_compile_spdk | dpdk_compile |
+==============+==================+================+====================+===================+==============+
| Ubuntu 18.04 | PASS | PASS | PASS | PASS | PASS |
+--------------+------------------+----------------+--------------------+-------------------+--------------+
| CentOS 8 | PASS | SKIPPED | PASS | SKIPPED | PASS |
+--------------+------------------+----------------+--------------------+-------------------+--------------+
| FreeBSD 11.2 | SKIPPED | SKIPPED | SKIPPED | PASS | SKIPPED |
+--------------+------------------+----------------+--------------------+-------------------+--------------+
Ubuntu 18.04
Kernel: 4.15.0-generic
GCC: 7.4
CentOS 8
Kernel: 4.18.0.el8_0
GCC: 8.2
FreeBSD 11.2
Kernel: 11.2
GCC: 8.3
https://lab.dpdk.org/results/dashboard/tarballs/7422/
UNH-IOL DPDK Community Lab
To manage your email subscriptions visit:
https://lab.dpdk.org/results/dashboard/preferences/subscriptions/
^ permalink raw reply [flat|nested] 5+ messages in thread
end of thread, other threads:[~2019-12-12 2:34 UTC | newest]
Thread overview: 5+ messages (download: mbox.gz / follow: Atom feed)
-- links below jump to the message on this page --
2019-12-10 22:17 [dpdk-test-report] |SUCCESS| [GIT MASTER] 53d40bbaa0428239094cb3da4f82cb1bc8c0303d dpdklab
-- strict thread matches above, loose matches on Subject: below --
2019-12-12 2:34 dpdklab
2019-12-11 20:55 dpdklab
2019-12-10 19:43 dpdklab
2019-12-10 19:39 dpdklab
This is a public inbox, see mirroring instructions
for how to clone and mirror all data and code used for this inbox;
as well as URLs for NNTP newsgroup(s).