* [dpdk-test-report] |SUCCESS| pw63737 [PATCH] app/testpmd: support unequal number of RXQ and TXQ
@ 2019-12-11 5:55 dpdklab
0 siblings, 0 replies; 4+ messages in thread
From: dpdklab @ 2019-12-11 5:55 UTC (permalink / raw)
To: Test Report; +Cc: dpdk-test-reports
[-- Attachment #1: Type: text/plain, Size: 1993 bytes --]
Test-Label: iol-intel-Performance
Test-Status: SUCCESS
http://dpdk.org/patch/63737
_Performance Testing PASS_
Submitter: Hemant Agrawal <hemant.agrawal@nxp.com>
Date: Wednesday, December 11 2019 05:30:09
DPDK git baseline: Repo:dpdk
Branch: master
CommitID:aef1d0733179afb56916e95058a4f1398b81af04
63737 --> performance testing pass
Test environment and result as below:
Ubuntu 18.04
Kernel: 4.15.0-generic
GCC: 7.4
NIC: Intel Corporation Ethernet Converged Network Adapter 82599ES 10000 Mbps
Target: x86_64-native-linuxapp-gcc
Fail/Total: 0/3
Detail performance results:
+------------+---------+-------------------------------------+
| frame_size | txd/rxd | throughput difference from expected |
+============+=========+=====================================+
| 64 | 128 | -0.225 |
+------------+---------+-------------------------------------+
| 64 | 512 | 0.010 |
+------------+---------+-------------------------------------+
| 64 | 2048 | 0.119 |
+------------+---------+-------------------------------------+
Ubuntu 18.04
Kernel: 4.15.0-generic
GCC: 7.4
NIC: Intel Corporation Ethernet Converged Network Adapter XL710-QDA2 40000 Mbps
Target: x86_64-native-linuxapp-gcc
Fail/Total: 0/2
Detail performance results:
+------------+---------+-------------------------------------+
| frame_size | txd/rxd | throughput difference from expected |
+============+=========+=====================================+
| 64 | 512 | 0.317 |
+------------+---------+-------------------------------------+
| 64 | 2048 | 0.200 |
+------------+---------+-------------------------------------+
https://lab.dpdk.org/results/dashboard/patchsets/8865/
UNH-IOL DPDK Community Lab
To manage your email subscriptions visit:
https://lab.dpdk.org/results/dashboard/preferences/subscriptions/
^ permalink raw reply [flat|nested] 4+ messages in thread
* [dpdk-test-report] |SUCCESS| pw63737 [PATCH] app/testpmd: support unequal number of RXQ and TXQ
@ 2019-12-11 6:22 dpdklab
0 siblings, 0 replies; 4+ messages in thread
From: dpdklab @ 2019-12-11 6:22 UTC (permalink / raw)
To: Ali Alnubani, Test Report; +Cc: dpdk-test-reports
[-- Attachment #1: Type: text/plain, Size: 3908 bytes --]
Test-Label: iol-mellanox-Performance
Test-Status: SUCCESS
http://dpdk.org/patch/63737
_Performance Testing PASS_
Submitter: Hemant Agrawal <hemant.agrawal@nxp.com>
Date: Wednesday, December 11 2019 05:30:09
DPDK git baseline: Repo:dpdk
Branch: master
CommitID:aef1d0733179afb56916e95058a4f1398b81af04
63737 --> performance testing pass
Test environment and result as below:
Ubuntu 18.04
Kernel: 4.15.0-generic
GCC: 7.4
NIC: Mellanox ConnectX-5 100000 Mbps
Target: x86_64-native-linuxapp-gcc
Fail/Total: 0/6
Detail performance results:
+------------+---------+-------------------------------------+
| frame_size | txd/rxd | throughput difference from expected |
+============+=========+=====================================+
| 64 | 256 | -0.520 |
+------------+---------+-------------------------------------+
| 128 | 256 | 0.181 |
+------------+---------+-------------------------------------+
| 256 | 256 | 0.047 |
+------------+---------+-------------------------------------+
| 512 | 256 | 0.020 |
+------------+---------+-------------------------------------+
| 1024 | 256 | -0.040 |
+------------+---------+-------------------------------------+
| 1518 | 256 | -0.012 |
+------------+---------+-------------------------------------+
Ubuntu 18.04
Kernel: 4.15.0-generic
GCC: 7.4
NIC: Mellanox ConnectX-4 Lx 25000 Mbps
Target: x86_64-native-linuxapp-gcc
Fail/Total: 0/6
Detail performance results:
+------------+---------+-------------------------------------+
| frame_size | txd/rxd | throughput difference from expected |
+============+=========+=====================================+
| 64 | 256 | 0.311 |
+------------+---------+-------------------------------------+
| 128 | 256 | -0.061 |
+------------+---------+-------------------------------------+
| 256 | 256 | -0.002 |
+------------+---------+-------------------------------------+
| 512 | 256 | 0.005 |
+------------+---------+-------------------------------------+
| 1024 | 256 | -0.003 |
+------------+---------+-------------------------------------+
| 1518 | 256 | 0.007 |
+------------+---------+-------------------------------------+
Ubuntu 18.04
Kernel: 4.15.0-generic
GCC: 7.4
NIC: Mellanox ConnectX-4 Lx 40000 Mbps
Target: x86_64-native-linuxapp-gcc
Fail/Total: 0/6
Detail performance results:
+------------+---------+-------------------------------------+
| frame_size | txd/rxd | throughput difference from expected |
+============+=========+=====================================+
| 64 | 256 | 0.270 |
+------------+---------+-------------------------------------+
| 128 | 256 | 0.065 |
+------------+---------+-------------------------------------+
| 256 | 256 | -0.135 |
+------------+---------+-------------------------------------+
| 512 | 256 | 0.026 |
+------------+---------+-------------------------------------+
| 1024 | 256 | 0.005 |
+------------+---------+-------------------------------------+
| 1518 | 256 | 0 |
+------------+---------+-------------------------------------+
https://lab.dpdk.org/results/dashboard/patchsets/8865/
UNH-IOL DPDK Community Lab
To manage your email subscriptions visit:
https://lab.dpdk.org/results/dashboard/preferences/subscriptions/
^ permalink raw reply [flat|nested] 4+ messages in thread
* [dpdk-test-report] |SUCCESS| pw63737 [PATCH] app/testpmd: support unequal number of RXQ and TXQ
@ 2019-12-11 6:00 dpdklab
0 siblings, 0 replies; 4+ messages in thread
From: dpdklab @ 2019-12-11 6:00 UTC (permalink / raw)
To: Test Report; +Cc: dpdk-test-reports
[-- Attachment #1: Type: text/plain, Size: 1650 bytes --]
Test-Label: iol-testing
Test-Status: SUCCESS
http://dpdk.org/patch/63737
_Testing PASS_
Submitter: Hemant Agrawal <hemant.agrawal@nxp.com>
Date: Wednesday, December 11 2019 05:30:09
DPDK git baseline: Repo:dpdk
Branch: master
CommitID:aef1d0733179afb56916e95058a4f1398b81af04
63737 --> testing pass
Test environment and result as below:
+--------------+--------------+------------------+--------------------+----------------+-------------------+
| Environment | dpdk_compile | dpdk_compile_ovs | dpdk_meson_compile | dpdk_unit_test | dpdk_compile_spdk |
+==============+==============+==================+====================+================+===================+
| FreeBSD 11.2 | PASS | SKIPPED | PASS | SKIPPED | PASS |
+--------------+--------------+------------------+--------------------+----------------+-------------------+
| Ubuntu 18.04 | PASS | PASS | PASS | PASS | PASS |
+--------------+--------------+------------------+--------------------+----------------+-------------------+
| CentOS 8 | PASS | PASS | PASS | SKIPPED | SKIPPED |
+--------------+--------------+------------------+--------------------+----------------+-------------------+
FreeBSD 11.2
Kernel: 11.2
GCC: 8.3
Ubuntu 18.04
Kernel: 4.15.0-generic
GCC: 7.4
CentOS 8
Kernel: 4.18.0.el8_0
GCC: 8.2
https://lab.dpdk.org/results/dashboard/patchsets/8865/
UNH-IOL DPDK Community Lab
To manage your email subscriptions visit:
https://lab.dpdk.org/results/dashboard/preferences/subscriptions/
^ permalink raw reply [flat|nested] 4+ messages in thread
* [dpdk-test-report] |SUCCESS| pw63737 [PATCH] app/testpmd: support unequal number of RXQ and TXQ
[not found] <20191211053009.14906-1-hemant.agrawal@nxp.com>
@ 2019-12-11 5:34 ` checkpatch
0 siblings, 0 replies; 4+ messages in thread
From: checkpatch @ 2019-12-11 5:34 UTC (permalink / raw)
To: test-report
Test-Label: checkpatch
Test-Status: SUCCESS
http://dpdk.org/patch/63737
_coding style OK_
^ permalink raw reply [flat|nested] 4+ messages in thread
end of thread, other threads:[~2019-12-11 6:22 UTC | newest]
Thread overview: 4+ messages (download: mbox.gz / follow: Atom feed)
-- links below jump to the message on this page --
2019-12-11 5:55 [dpdk-test-report] |SUCCESS| pw63737 [PATCH] app/testpmd: support unequal number of RXQ and TXQ dpdklab
-- strict thread matches above, loose matches on Subject: below --
2019-12-11 6:22 dpdklab
2019-12-11 6:00 dpdklab
[not found] <20191211053009.14906-1-hemant.agrawal@nxp.com>
2019-12-11 5:34 ` checkpatch
This is a public inbox, see mirroring instructions
for how to clone and mirror all data and code used for this inbox;
as well as URLs for NNTP newsgroup(s).