* [dpdk-test-report] |SUCCESS| pw63759 [PATCH] maintainers: update for OCTEONTX
@ 2019-12-11 18:15 dpdklab
0 siblings, 0 replies; 4+ messages in thread
From: dpdklab @ 2019-12-11 18:15 UTC (permalink / raw)
To: Test Report; +Cc: dpdk-test-reports
[-- Attachment #1: Type: text/plain, Size: 2000 bytes --]
Test-Label: iol-intel-Performance
Test-Status: SUCCESS
http://dpdk.org/patch/63759
_Performance Testing PASS_
Submitter: Jerin Jacob Kollanukkaran <jerinj@marvell.com>
Date: Wednesday, December 11 2019 14:23:42
DPDK git baseline: Repo:dpdk
Branch: master
CommitID:aef1d0733179afb56916e95058a4f1398b81af04
63759 --> performance testing pass
Test environment and result as below:
Ubuntu 18.04
Kernel: 4.15.0-generic
GCC: 7.4
NIC: Intel Corporation Ethernet Converged Network Adapter XL710-QDA2 40000 Mbps
Target: x86_64-native-linuxapp-gcc
Fail/Total: 0/2
Detail performance results:
+------------+---------+-------------------------------------+
| frame_size | txd/rxd | throughput difference from expected |
+============+=========+=====================================+
| 64 | 512 | -0.160 |
+------------+---------+-------------------------------------+
| 64 | 2048 | 0.043 |
+------------+---------+-------------------------------------+
Ubuntu 18.04
Kernel: 4.15.0-generic
GCC: 7.4
NIC: Intel Corporation Ethernet Converged Network Adapter 82599ES 10000 Mbps
Target: x86_64-native-linuxapp-gcc
Fail/Total: 0/3
Detail performance results:
+------------+---------+-------------------------------------+
| frame_size | txd/rxd | throughput difference from expected |
+============+=========+=====================================+
| 64 | 128 | 0.034 |
+------------+---------+-------------------------------------+
| 64 | 512 | 0.094 |
+------------+---------+-------------------------------------+
| 64 | 2048 | 0.028 |
+------------+---------+-------------------------------------+
https://lab.dpdk.org/results/dashboard/patchsets/8875/
UNH-IOL DPDK Community Lab
To manage your email subscriptions visit:
https://lab.dpdk.org/results/dashboard/preferences/subscriptions/
^ permalink raw reply [flat|nested] 4+ messages in thread
* [dpdk-test-report] |SUCCESS| pw63759 [PATCH] maintainers: update for OCTEONTX
@ 2019-12-11 20:48 dpdklab
0 siblings, 0 replies; 4+ messages in thread
From: dpdklab @ 2019-12-11 20:48 UTC (permalink / raw)
To: Ali Alnubani, Test Report; +Cc: dpdk-test-reports
[-- Attachment #1: Type: text/plain, Size: 3915 bytes --]
Test-Label: iol-mellanox-Performance
Test-Status: SUCCESS
http://dpdk.org/patch/63759
_Performance Testing PASS_
Submitter: Jerin Jacob Kollanukkaran <jerinj@marvell.com>
Date: Wednesday, December 11 2019 14:23:42
DPDK git baseline: Repo:dpdk
Branch: master
CommitID:aef1d0733179afb56916e95058a4f1398b81af04
63759 --> performance testing pass
Test environment and result as below:
Ubuntu 18.04
Kernel: 4.15.0-generic
GCC: 7.4
NIC: Mellanox ConnectX-4 Lx 25000 Mbps
Target: x86_64-native-linuxapp-gcc
Fail/Total: 0/6
Detail performance results:
+------------+---------+-------------------------------------+
| frame_size | txd/rxd | throughput difference from expected |
+============+=========+=====================================+
| 64 | 256 | 0.143 |
+------------+---------+-------------------------------------+
| 128 | 256 | -0.207 |
+------------+---------+-------------------------------------+
| 256 | 256 | -0.019 |
+------------+---------+-------------------------------------+
| 512 | 256 | 0.012 |
+------------+---------+-------------------------------------+
| 1024 | 256 | 0.017 |
+------------+---------+-------------------------------------+
| 1518 | 256 | 0.003 |
+------------+---------+-------------------------------------+
Ubuntu 18.04
Kernel: 4.15.0-generic
GCC: 7.4
NIC: Mellanox ConnectX-5 100000 Mbps
Target: x86_64-native-linuxapp-gcc
Fail/Total: 0/6
Detail performance results:
+------------+---------+-------------------------------------+
| frame_size | txd/rxd | throughput difference from expected |
+============+=========+=====================================+
| 64 | 256 | -0.746 |
+------------+---------+-------------------------------------+
| 128 | 256 | 0.026 |
+------------+---------+-------------------------------------+
| 256 | 256 | -0.055 |
+------------+---------+-------------------------------------+
| 512 | 256 | 0.370 |
+------------+---------+-------------------------------------+
| 1024 | 256 | -0.040 |
+------------+---------+-------------------------------------+
| 1518 | 256 | 0 |
+------------+---------+-------------------------------------+
Ubuntu 18.04
Kernel: 4.15.0-generic
GCC: 7.4
NIC: Mellanox ConnectX-4 Lx 40000 Mbps
Target: x86_64-native-linuxapp-gcc
Fail/Total: 0/6
Detail performance results:
+------------+---------+-------------------------------------+
| frame_size | txd/rxd | throughput difference from expected |
+============+=========+=====================================+
| 64 | 256 | 0.335 |
+------------+---------+-------------------------------------+
| 128 | 256 | 0.043 |
+------------+---------+-------------------------------------+
| 256 | 256 | -0.028 |
+------------+---------+-------------------------------------+
| 512 | 256 | 0.028 |
+------------+---------+-------------------------------------+
| 1024 | 256 | -0.002 |
+------------+---------+-------------------------------------+
| 1518 | 256 | -0.006 |
+------------+---------+-------------------------------------+
https://lab.dpdk.org/results/dashboard/patchsets/8875/
UNH-IOL DPDK Community Lab
To manage your email subscriptions visit:
https://lab.dpdk.org/results/dashboard/preferences/subscriptions/
^ permalink raw reply [flat|nested] 4+ messages in thread
* [dpdk-test-report] |SUCCESS| pw63759 [PATCH] maintainers: update for OCTEONTX
@ 2019-12-11 18:08 dpdklab
0 siblings, 0 replies; 4+ messages in thread
From: dpdklab @ 2019-12-11 18:08 UTC (permalink / raw)
To: Test Report; +Cc: dpdk-test-reports
[-- Attachment #1: Type: text/plain, Size: 1657 bytes --]
Test-Label: iol-testing
Test-Status: SUCCESS
http://dpdk.org/patch/63759
_Testing PASS_
Submitter: Jerin Jacob Kollanukkaran <jerinj@marvell.com>
Date: Wednesday, December 11 2019 14:23:42
DPDK git baseline: Repo:dpdk
Branch: master
CommitID:aef1d0733179afb56916e95058a4f1398b81af04
63759 --> testing pass
Test environment and result as below:
+--------------+--------------+------------------+-------------------+----------------+--------------------+
| Environment | dpdk_compile | dpdk_compile_ovs | dpdk_compile_spdk | dpdk_unit_test | dpdk_meson_compile |
+==============+==============+==================+===================+================+====================+
| Ubuntu 18.04 | PASS | PASS | PASS | PASS | PASS |
+--------------+--------------+------------------+-------------------+----------------+--------------------+
| FreeBSD 11.2 | PASS | SKIPPED | PASS | SKIPPED | PASS |
+--------------+--------------+------------------+-------------------+----------------+--------------------+
| CentOS 8 | PASS | PASS | SKIPPED | SKIPPED | PASS |
+--------------+--------------+------------------+-------------------+----------------+--------------------+
Ubuntu 18.04
Kernel: 4.15.0-generic
GCC: 7.4
FreeBSD 11.2
Kernel: 11.2
GCC: 8.3
CentOS 8
Kernel: 4.18.0.el8_0
GCC: 8.2
https://lab.dpdk.org/results/dashboard/patchsets/8875/
UNH-IOL DPDK Community Lab
To manage your email subscriptions visit:
https://lab.dpdk.org/results/dashboard/preferences/subscriptions/
^ permalink raw reply [flat|nested] 4+ messages in thread
* [dpdk-test-report] |SUCCESS| pw63759 [PATCH] maintainers: update for OCTEONTX
[not found] <20191211142342.1589768-1-jerinj@marvell.com>
@ 2019-12-11 14:23 ` checkpatch
0 siblings, 0 replies; 4+ messages in thread
From: checkpatch @ 2019-12-11 14:23 UTC (permalink / raw)
To: test-report
Test-Label: checkpatch
Test-Status: SUCCESS
http://dpdk.org/patch/63759
_coding style OK_
^ permalink raw reply [flat|nested] 4+ messages in thread
end of thread, other threads:[~2019-12-11 20:48 UTC | newest]
Thread overview: 4+ messages (download: mbox.gz / follow: Atom feed)
-- links below jump to the message on this page --
2019-12-11 18:15 [dpdk-test-report] |SUCCESS| pw63759 [PATCH] maintainers: update for OCTEONTX dpdklab
-- strict thread matches above, loose matches on Subject: below --
2019-12-11 20:48 dpdklab
2019-12-11 18:08 dpdklab
[not found] <20191211142342.1589768-1-jerinj@marvell.com>
2019-12-11 14:23 ` checkpatch
This is a public inbox, see mirroring instructions
for how to clone and mirror all data and code used for this inbox;
as well as URLs for NNTP newsgroup(s).