* [dpdk-test-report] |SUCCESS| pw63753-63754 [PATCH] [v2, 1/2] crypto/qat: handle mixed hash-cipher requests on GEN3 QAT
@ 2019-12-11 18:51 dpdklab
0 siblings, 0 replies; 3+ messages in thread
From: dpdklab @ 2019-12-11 18:51 UTC (permalink / raw)
To: Test Report; +Cc: dpdk-test-reports
[-- Attachment #1: Type: text/plain, Size: 1231 bytes --]
Test-Label: iol-intel-Performance
Test-Status: SUCCESS
http://dpdk.org/patch/63753
_Performance Testing PASS_
Submitter: Adam Dybkowski <adamx.dybkowski@intel.com>
Date: Wednesday, December 11 2019 14:09:34
DPDK git baseline: Repo:dpdk
Branch: master
CommitID:aef1d0733179afb56916e95058a4f1398b81af04
63753-63754 --> performance testing pass
Test environment and result as below:
Ubuntu 18.04
Kernel: 4.15.0-generic
GCC: 7.4
NIC: Intel Corporation Ethernet Converged Network Adapter XL710-QDA2 40000 Mbps
Target: x86_64-native-linuxapp-gcc
Fail/Total: 0/2
Detail performance results:
+------------+---------+-------------------------------------+
| frame_size | txd/rxd | throughput difference from expected |
+============+=========+=====================================+
| 64 | 512 | 0.122 |
+------------+---------+-------------------------------------+
| 64 | 2048 | 0.242 |
+------------+---------+-------------------------------------+
https://lab.dpdk.org/results/dashboard/patchsets/8873/
UNH-IOL DPDK Community Lab
To manage your email subscriptions visit:
https://lab.dpdk.org/results/dashboard/preferences/subscriptions/
^ permalink raw reply [flat|nested] 3+ messages in thread
* [dpdk-test-report] |SUCCESS| pw63753-63754 [PATCH] [v2, 1/2] crypto/qat: handle mixed hash-cipher requests on GEN3 QAT
@ 2019-12-11 22:05 dpdklab
0 siblings, 0 replies; 3+ messages in thread
From: dpdklab @ 2019-12-11 22:05 UTC (permalink / raw)
To: Ali Alnubani, Test Report; +Cc: dpdk-test-reports
[-- Attachment #1: Type: text/plain, Size: 3917 bytes --]
Test-Label: iol-mellanox-Performance
Test-Status: SUCCESS
http://dpdk.org/patch/63753
_Performance Testing PASS_
Submitter: Adam Dybkowski <adamx.dybkowski@intel.com>
Date: Wednesday, December 11 2019 14:09:34
DPDK git baseline: Repo:dpdk
Branch: master
CommitID:aef1d0733179afb56916e95058a4f1398b81af04
63753-63754 --> performance testing pass
Test environment and result as below:
Ubuntu 18.04
Kernel: 4.15.0-generic
GCC: 7.4
NIC: Mellanox ConnectX-4 Lx 25000 Mbps
Target: x86_64-native-linuxapp-gcc
Fail/Total: 0/6
Detail performance results:
+------------+---------+-------------------------------------+
| frame_size | txd/rxd | throughput difference from expected |
+============+=========+=====================================+
| 64 | 256 | 0.185 |
+------------+---------+-------------------------------------+
| 128 | 256 | 0.144 |
+------------+---------+-------------------------------------+
| 256 | 256 | 0.001 |
+------------+---------+-------------------------------------+
| 512 | 256 | 0.039 |
+------------+---------+-------------------------------------+
| 1024 | 256 | 0.010 |
+------------+---------+-------------------------------------+
| 1518 | 256 | 0 |
+------------+---------+-------------------------------------+
Ubuntu 18.04
Kernel: 4.15.0-generic
GCC: 7.4
NIC: Mellanox ConnectX-5 100000 Mbps
Target: x86_64-native-linuxapp-gcc
Fail/Total: 0/6
Detail performance results:
+------------+---------+-------------------------------------+
| frame_size | txd/rxd | throughput difference from expected |
+============+=========+=====================================+
| 64 | 256 | -0.337 |
+------------+---------+-------------------------------------+
| 128 | 256 | 0.127 |
+------------+---------+-------------------------------------+
| 256 | 256 | -0.028 |
+------------+---------+-------------------------------------+
| 512 | 256 | 0.259 |
+------------+---------+-------------------------------------+
| 1024 | 256 | -0.090 |
+------------+---------+-------------------------------------+
| 1518 | 256 | -0.030 |
+------------+---------+-------------------------------------+
Ubuntu 18.04
Kernel: 4.15.0-generic
GCC: 7.4
NIC: Mellanox ConnectX-4 Lx 40000 Mbps
Target: x86_64-native-linuxapp-gcc
Fail/Total: 0/6
Detail performance results:
+------------+---------+-------------------------------------+
| frame_size | txd/rxd | throughput difference from expected |
+============+=========+=====================================+
| 64 | 256 | -0.050 |
+------------+---------+-------------------------------------+
| 128 | 256 | 0.060 |
+------------+---------+-------------------------------------+
| 256 | 256 | -0.043 |
+------------+---------+-------------------------------------+
| 512 | 256 | 0.018 |
+------------+---------+-------------------------------------+
| 1024 | 256 | 0.005 |
+------------+---------+-------------------------------------+
| 1518 | 256 | -0.002 |
+------------+---------+-------------------------------------+
https://lab.dpdk.org/results/dashboard/patchsets/8873/
UNH-IOL DPDK Community Lab
To manage your email subscriptions visit:
https://lab.dpdk.org/results/dashboard/preferences/subscriptions/
^ permalink raw reply [flat|nested] 3+ messages in thread
* [dpdk-test-report] |SUCCESS| pw63753-63754 [PATCH] [v2, 1/2] crypto/qat: handle mixed hash-cipher requests on GEN3 QAT
@ 2019-12-11 18:42 dpdklab
0 siblings, 0 replies; 3+ messages in thread
From: dpdklab @ 2019-12-11 18:42 UTC (permalink / raw)
To: Test Report; +Cc: dpdk-test-reports
[-- Attachment #1: Type: text/plain, Size: 1659 bytes --]
Test-Label: iol-testing
Test-Status: SUCCESS
http://dpdk.org/patch/63753
_Testing PASS_
Submitter: Adam Dybkowski <adamx.dybkowski@intel.com>
Date: Wednesday, December 11 2019 14:09:34
DPDK git baseline: Repo:dpdk
Branch: master
CommitID:aef1d0733179afb56916e95058a4f1398b81af04
63753-63754 --> testing pass
Test environment and result as below:
+--------------+--------------+------------------+--------------------+-------------------+----------------+
| Environment | dpdk_compile | dpdk_compile_ovs | dpdk_meson_compile | dpdk_compile_spdk | dpdk_unit_test |
+==============+==============+==================+====================+===================+================+
| FreeBSD 11.2 | PASS | SKIPPED | PASS | PASS | SKIPPED |
+--------------+--------------+------------------+--------------------+-------------------+----------------+
| Ubuntu 18.04 | PASS | PASS | PASS | PASS | PASS |
+--------------+--------------+------------------+--------------------+-------------------+----------------+
| CentOS 8 | PASS | PASS | PASS | SKIPPED | SKIPPED |
+--------------+--------------+------------------+--------------------+-------------------+----------------+
FreeBSD 11.2
Kernel: 11.2
GCC: 8.3
Ubuntu 18.04
Kernel: 4.15.0-generic
GCC: 7.4
CentOS 8
Kernel: 4.18.0.el8_0
GCC: 8.2
https://lab.dpdk.org/results/dashboard/patchsets/8873/
UNH-IOL DPDK Community Lab
To manage your email subscriptions visit:
https://lab.dpdk.org/results/dashboard/preferences/subscriptions/
^ permalink raw reply [flat|nested] 3+ messages in thread
end of thread, other threads:[~2019-12-11 22:05 UTC | newest]
Thread overview: 3+ messages (download: mbox.gz / follow: Atom feed)
-- links below jump to the message on this page --
2019-12-11 18:51 [dpdk-test-report] |SUCCESS| pw63753-63754 [PATCH] [v2, 1/2] crypto/qat: handle mixed hash-cipher requests on GEN3 QAT dpdklab
-- strict thread matches above, loose matches on Subject: below --
2019-12-11 22:05 dpdklab
2019-12-11 18:42 dpdklab
This is a public inbox, see mirroring instructions
for how to clone and mirror all data and code used for this inbox;
as well as URLs for NNTP newsgroup(s).