* [dpdk-test-report] |SUCCESS| pw63782 [PATCH] app/test-fib: add test-fib application
@ 2019-12-11 19:32 dpdklab
0 siblings, 0 replies; 3+ messages in thread
From: dpdklab @ 2019-12-11 19:32 UTC (permalink / raw)
To: Test Report; +Cc: dpdk-test-reports
[-- Attachment #1: Type: text/plain, Size: 1660 bytes --]
Test-Label: iol-testing
Test-Status: SUCCESS
http://dpdk.org/patch/63782
_Testing PASS_
Submitter: Vladimir Medvedkin <vladimir.medvedkin@intel.com>
Date: Wednesday, December 11 2019 18:45:04
DPDK git baseline: Repo:dpdk
Branch: master
CommitID:aef1d0733179afb56916e95058a4f1398b81af04
63782 --> testing pass
Test environment and result as below:
+--------------+------------------+-------------------+--------------+----------------+--------------------+
| Environment | dpdk_compile_ovs | dpdk_compile_spdk | dpdk_compile | dpdk_unit_test | dpdk_meson_compile |
+==============+==================+===================+==============+================+====================+
| Ubuntu 18.04 | PASS | PASS | PASS | PASS | PASS |
+--------------+------------------+-------------------+--------------+----------------+--------------------+
| CentOS 8 | PASS | SKIPPED | PASS | SKIPPED | PASS |
+--------------+------------------+-------------------+--------------+----------------+--------------------+
| FreeBSD 11.2 | SKIPPED | PASS | PASS | SKIPPED | PASS |
+--------------+------------------+-------------------+--------------+----------------+--------------------+
Ubuntu 18.04
Kernel: 4.15.0-generic
GCC: 7.4
CentOS 8
Kernel: 4.18.0.el8_0
GCC: 8.2
FreeBSD 11.2
Kernel: 11.2
GCC: 8.3
https://lab.dpdk.org/results/dashboard/patchsets/8884/
UNH-IOL DPDK Community Lab
To manage your email subscriptions visit:
https://lab.dpdk.org/results/dashboard/preferences/subscriptions/
^ permalink raw reply [flat|nested] 3+ messages in thread
* [dpdk-test-report] |SUCCESS| pw63782 [PATCH] app/test-fib: add test-fib application
@ 2019-12-11 23:22 dpdklab
0 siblings, 0 replies; 3+ messages in thread
From: dpdklab @ 2019-12-11 23:22 UTC (permalink / raw)
To: Ali Alnubani, Test Report; +Cc: dpdk-test-reports
[-- Attachment #1: Type: text/plain, Size: 3918 bytes --]
Test-Label: iol-mellanox-Performance
Test-Status: SUCCESS
http://dpdk.org/patch/63782
_Performance Testing PASS_
Submitter: Vladimir Medvedkin <vladimir.medvedkin@intel.com>
Date: Wednesday, December 11 2019 18:45:04
DPDK git baseline: Repo:dpdk
Branch: master
CommitID:aef1d0733179afb56916e95058a4f1398b81af04
63782 --> performance testing pass
Test environment and result as below:
Ubuntu 18.04
Kernel: 4.15.0-generic
GCC: 7.4
NIC: Mellanox ConnectX-4 Lx 25000 Mbps
Target: x86_64-native-linuxapp-gcc
Fail/Total: 0/6
Detail performance results:
+------------+---------+-------------------------------------+
| frame_size | txd/rxd | throughput difference from expected |
+============+=========+=====================================+
| 64 | 256 | 0.287 |
+------------+---------+-------------------------------------+
| 128 | 256 | 0.174 |
+------------+---------+-------------------------------------+
| 256 | 256 | 0.017 |
+------------+---------+-------------------------------------+
| 512 | 256 | -0.004 |
+------------+---------+-------------------------------------+
| 1024 | 256 | 0.003 |
+------------+---------+-------------------------------------+
| 1518 | 256 | 0.001 |
+------------+---------+-------------------------------------+
Ubuntu 18.04
Kernel: 4.15.0-generic
GCC: 7.4
NIC: Mellanox ConnectX-4 Lx 40000 Mbps
Target: x86_64-native-linuxapp-gcc
Fail/Total: 0/6
Detail performance results:
+------------+---------+-------------------------------------+
| frame_size | txd/rxd | throughput difference from expected |
+============+=========+=====================================+
| 64 | 256 | 0.087 |
+------------+---------+-------------------------------------+
| 128 | 256 | 0.028 |
+------------+---------+-------------------------------------+
| 256 | 256 | 0.011 |
+------------+---------+-------------------------------------+
| 512 | 256 | 0.006 |
+------------+---------+-------------------------------------+
| 1024 | 256 | 0.006 |
+------------+---------+-------------------------------------+
| 1518 | 256 | -0.010 |
+------------+---------+-------------------------------------+
Ubuntu 18.04
Kernel: 4.15.0-generic
GCC: 7.4
NIC: Mellanox ConnectX-5 100000 Mbps
Target: x86_64-native-linuxapp-gcc
Fail/Total: 0/6
Detail performance results:
+------------+---------+-------------------------------------+
| frame_size | txd/rxd | throughput difference from expected |
+============+=========+=====================================+
| 64 | 256 | -0.283 |
+------------+---------+-------------------------------------+
| 128 | 256 | 0.088 |
+------------+---------+-------------------------------------+
| 256 | 256 | -0.096 |
+------------+---------+-------------------------------------+
| 512 | 256 | 0.152 |
+------------+---------+-------------------------------------+
| 1024 | 256 | -0.066 |
+------------+---------+-------------------------------------+
| 1518 | 256 | -0.003 |
+------------+---------+-------------------------------------+
https://lab.dpdk.org/results/dashboard/patchsets/8884/
UNH-IOL DPDK Community Lab
To manage your email subscriptions visit:
https://lab.dpdk.org/results/dashboard/preferences/subscriptions/
^ permalink raw reply [flat|nested] 3+ messages in thread
* [dpdk-test-report] |SUCCESS| pw63782 [PATCH] app/test-fib: add test-fib application
@ 2019-12-11 19:28 dpdklab
0 siblings, 0 replies; 3+ messages in thread
From: dpdklab @ 2019-12-11 19:28 UTC (permalink / raw)
To: Test Report; +Cc: dpdk-test-reports
[-- Attachment #1: Type: text/plain, Size: 2003 bytes --]
Test-Label: iol-intel-Performance
Test-Status: SUCCESS
http://dpdk.org/patch/63782
_Performance Testing PASS_
Submitter: Vladimir Medvedkin <vladimir.medvedkin@intel.com>
Date: Wednesday, December 11 2019 18:45:04
DPDK git baseline: Repo:dpdk
Branch: master
CommitID:aef1d0733179afb56916e95058a4f1398b81af04
63782 --> performance testing pass
Test environment and result as below:
Ubuntu 18.04
Kernel: 4.15.0-generic
GCC: 7.4
NIC: Intel Corporation Ethernet Converged Network Adapter XL710-QDA2 40000 Mbps
Target: x86_64-native-linuxapp-gcc
Fail/Total: 0/2
Detail performance results:
+------------+---------+-------------------------------------+
| frame_size | txd/rxd | throughput difference from expected |
+============+=========+=====================================+
| 64 | 512 | 0.196 |
+------------+---------+-------------------------------------+
| 64 | 2048 | 0.199 |
+------------+---------+-------------------------------------+
Ubuntu 18.04
Kernel: 4.15.0-generic
GCC: 7.4
NIC: Intel Corporation Ethernet Converged Network Adapter 82599ES 10000 Mbps
Target: x86_64-native-linuxapp-gcc
Fail/Total: 0/3
Detail performance results:
+------------+---------+-------------------------------------+
| frame_size | txd/rxd | throughput difference from expected |
+============+=========+=====================================+
| 64 | 128 | -0.168 |
+------------+---------+-------------------------------------+
| 64 | 512 | -0.370 |
+------------+---------+-------------------------------------+
| 64 | 2048 | 0.062 |
+------------+---------+-------------------------------------+
https://lab.dpdk.org/results/dashboard/patchsets/8884/
UNH-IOL DPDK Community Lab
To manage your email subscriptions visit:
https://lab.dpdk.org/results/dashboard/preferences/subscriptions/
^ permalink raw reply [flat|nested] 3+ messages in thread
end of thread, other threads:[~2019-12-11 23:22 UTC | newest]
Thread overview: 3+ messages (download: mbox.gz / follow: Atom feed)
-- links below jump to the message on this page --
2019-12-11 19:32 [dpdk-test-report] |SUCCESS| pw63782 [PATCH] app/test-fib: add test-fib application dpdklab
-- strict thread matches above, loose matches on Subject: below --
2019-12-11 23:22 dpdklab
2019-12-11 19:28 dpdklab
This is a public inbox, see mirroring instructions
for how to clone and mirror all data and code used for this inbox;
as well as URLs for NNTP newsgroup(s).