* [dpdk-test-report] |SUCCESS| pw63830 [PATCH] net/octeontx2: fix get supported ptype callback
@ 2019-12-12 19:07 dpdklab
0 siblings, 0 replies; 4+ messages in thread
From: dpdklab @ 2019-12-12 19:07 UTC (permalink / raw)
To: Ali Alnubani, Test Report; +Cc: dpdk-test-reports
[-- Attachment #1: Type: text/plain, Size: 3901 bytes --]
Test-Label: iol-mellanox-Performance
Test-Status: SUCCESS
http://dpdk.org/patch/63830
_Performance Testing PASS_
Submitter: Harman Kalra <hkalra@marvell.com>
Date: Thursday, December 12 2019 17:58:56
DPDK git baseline: Repo:dpdk
Branch: master
CommitID:aef1d0733179afb56916e95058a4f1398b81af04
63830 --> performance testing pass
Test environment and result as below:
Ubuntu 18.04
Kernel: 4.15.0-generic
GCC: 7.4
NIC: Mellanox ConnectX-4 Lx 25000 Mbps
Target: x86_64-native-linuxapp-gcc
Fail/Total: 0/6
Detail performance results:
+------------+---------+-------------------------------------+
| frame_size | txd/rxd | throughput difference from expected |
+============+=========+=====================================+
| 64 | 256 | 0.207 |
+------------+---------+-------------------------------------+
| 128 | 256 | 0.076 |
+------------+---------+-------------------------------------+
| 256 | 256 | -0.020 |
+------------+---------+-------------------------------------+
| 512 | 256 | 0.037 |
+------------+---------+-------------------------------------+
| 1024 | 256 | 0.015 |
+------------+---------+-------------------------------------+
| 1518 | 256 | 0.015 |
+------------+---------+-------------------------------------+
Ubuntu 18.04
Kernel: 4.15.0-generic
GCC: 7.4
NIC: Mellanox ConnectX-5 100000 Mbps
Target: x86_64-native-linuxapp-gcc
Fail/Total: 0/6
Detail performance results:
+------------+---------+-------------------------------------+
| frame_size | txd/rxd | throughput difference from expected |
+============+=========+=====================================+
| 64 | 256 | -0.662 |
+------------+---------+-------------------------------------+
| 128 | 256 | -0.107 |
+------------+---------+-------------------------------------+
| 256 | 256 | 0.009 |
+------------+---------+-------------------------------------+
| 512 | 256 | 0.098 |
+------------+---------+-------------------------------------+
| 1024 | 256 | -0.047 |
+------------+---------+-------------------------------------+
| 1518 | 256 | -0.029 |
+------------+---------+-------------------------------------+
Ubuntu 18.04
Kernel: 4.15.0-generic
GCC: 7.4
NIC: Mellanox ConnectX-4 Lx 40000 Mbps
Target: x86_64-native-linuxapp-gcc
Fail/Total: 0/6
Detail performance results:
+------------+---------+-------------------------------------+
| frame_size | txd/rxd | throughput difference from expected |
+============+=========+=====================================+
| 64 | 256 | 0.173 |
+------------+---------+-------------------------------------+
| 128 | 256 | 0.092 |
+------------+---------+-------------------------------------+
| 256 | 256 | -0.053 |
+------------+---------+-------------------------------------+
| 512 | 256 | 0.022 |
+------------+---------+-------------------------------------+
| 1024 | 256 | -0.003 |
+------------+---------+-------------------------------------+
| 1518 | 256 | -0.011 |
+------------+---------+-------------------------------------+
https://lab.dpdk.org/results/dashboard/patchsets/8894/
UNH-IOL DPDK Community Lab
To manage your email subscriptions visit:
https://lab.dpdk.org/results/dashboard/preferences/subscriptions/
^ permalink raw reply [flat|nested] 4+ messages in thread
* [dpdk-test-report] |SUCCESS| pw63830 [PATCH] net/octeontx2: fix get supported ptype callback
@ 2019-12-12 18:44 dpdklab
0 siblings, 0 replies; 4+ messages in thread
From: dpdklab @ 2019-12-12 18:44 UTC (permalink / raw)
To: Test Report; +Cc: dpdk-test-reports
[-- Attachment #1: Type: text/plain, Size: 1643 bytes --]
Test-Label: iol-testing
Test-Status: SUCCESS
http://dpdk.org/patch/63830
_Testing PASS_
Submitter: Harman Kalra <hkalra@marvell.com>
Date: Thursday, December 12 2019 17:58:56
DPDK git baseline: Repo:dpdk
Branch: master
CommitID:aef1d0733179afb56916e95058a4f1398b81af04
63830 --> testing pass
Test environment and result as below:
+--------------+--------------+------------------+--------------------+----------------+-------------------+
| Environment | dpdk_compile | dpdk_compile_ovs | dpdk_meson_compile | dpdk_unit_test | dpdk_compile_spdk |
+==============+==============+==================+====================+================+===================+
| FreeBSD 11.2 | PASS | SKIPPED | PASS | SKIPPED | PASS |
+--------------+--------------+------------------+--------------------+----------------+-------------------+
| Ubuntu 18.04 | PASS | PASS | PASS | PASS | PASS |
+--------------+--------------+------------------+--------------------+----------------+-------------------+
| CentOS 8 | PASS | PASS | PASS | SKIPPED | SKIPPED |
+--------------+--------------+------------------+--------------------+----------------+-------------------+
FreeBSD 11.2
Kernel: 11.2
GCC: 8.3
Ubuntu 18.04
Kernel: 4.15.0-generic
GCC: 7.4
CentOS 8
Kernel: 4.18.0.el8_0
GCC: 8.2
https://lab.dpdk.org/results/dashboard/patchsets/8894/
UNH-IOL DPDK Community Lab
To manage your email subscriptions visit:
https://lab.dpdk.org/results/dashboard/preferences/subscriptions/
^ permalink raw reply [flat|nested] 4+ messages in thread
* [dpdk-test-report] |SUCCESS| pw63830 [PATCH] net/octeontx2: fix get supported ptype callback
@ 2019-12-12 18:40 dpdklab
0 siblings, 0 replies; 4+ messages in thread
From: dpdklab @ 2019-12-12 18:40 UTC (permalink / raw)
To: Test Report; +Cc: dpdk-test-reports
[-- Attachment #1: Type: text/plain, Size: 1986 bytes --]
Test-Label: iol-intel-Performance
Test-Status: SUCCESS
http://dpdk.org/patch/63830
_Performance Testing PASS_
Submitter: Harman Kalra <hkalra@marvell.com>
Date: Thursday, December 12 2019 17:58:56
DPDK git baseline: Repo:dpdk
Branch: master
CommitID:aef1d0733179afb56916e95058a4f1398b81af04
63830 --> performance testing pass
Test environment and result as below:
Ubuntu 18.04
Kernel: 4.15.0-generic
GCC: 7.4
NIC: Intel Corporation Ethernet Converged Network Adapter 82599ES 10000 Mbps
Target: x86_64-native-linuxapp-gcc
Fail/Total: 0/3
Detail performance results:
+------------+---------+-------------------------------------+
| frame_size | txd/rxd | throughput difference from expected |
+============+=========+=====================================+
| 64 | 128 | -0.174 |
+------------+---------+-------------------------------------+
| 64 | 512 | 0.029 |
+------------+---------+-------------------------------------+
| 64 | 2048 | 0.099 |
+------------+---------+-------------------------------------+
Ubuntu 18.04
Kernel: 4.15.0-generic
GCC: 7.4
NIC: Intel Corporation Ethernet Converged Network Adapter XL710-QDA2 40000 Mbps
Target: x86_64-native-linuxapp-gcc
Fail/Total: 0/2
Detail performance results:
+------------+---------+-------------------------------------+
| frame_size | txd/rxd | throughput difference from expected |
+============+=========+=====================================+
| 64 | 512 | -0.310 |
+------------+---------+-------------------------------------+
| 64 | 2048 | 0.089 |
+------------+---------+-------------------------------------+
https://lab.dpdk.org/results/dashboard/patchsets/8894/
UNH-IOL DPDK Community Lab
To manage your email subscriptions visit:
https://lab.dpdk.org/results/dashboard/preferences/subscriptions/
^ permalink raw reply [flat|nested] 4+ messages in thread
* [dpdk-test-report] |SUCCESS| pw63830 [PATCH] net/octeontx2: fix get supported ptype callback
[not found] <1576173504-29467-1-git-send-email-hkalra@marvell.com>
@ 2019-12-12 17:59 ` checkpatch
0 siblings, 0 replies; 4+ messages in thread
From: checkpatch @ 2019-12-12 17:59 UTC (permalink / raw)
To: test-report
Test-Label: checkpatch
Test-Status: SUCCESS
http://dpdk.org/patch/63830
_coding style OK_
^ permalink raw reply [flat|nested] 4+ messages in thread
end of thread, other threads:[~2019-12-12 19:07 UTC | newest]
Thread overview: 4+ messages (download: mbox.gz / follow: Atom feed)
-- links below jump to the message on this page --
2019-12-12 19:07 [dpdk-test-report] |SUCCESS| pw63830 [PATCH] net/octeontx2: fix get supported ptype callback dpdklab
-- strict thread matches above, loose matches on Subject: below --
2019-12-12 18:44 dpdklab
2019-12-12 18:40 dpdklab
[not found] <1576173504-29467-1-git-send-email-hkalra@marvell.com>
2019-12-12 17:59 ` checkpatch
This is a public inbox, see mirroring instructions
for how to clone and mirror all data and code used for this inbox;
as well as URLs for NNTP newsgroup(s).