* [dpdk-test-report] |SUCCESS| pw63959 [PATCH] [v2, 04/10] net/i40e: improve RSS debug
@ 2019-12-17 14:41 dpdklab
0 siblings, 0 replies; 4+ messages in thread
From: dpdklab @ 2019-12-17 14:41 UTC (permalink / raw)
To: Test Report; +Cc: dpdk-test-reports
[-- Attachment #1: Type: text/plain, Size: 1999 bytes --]
Test-Label: iol-intel-Performance
Test-Status: SUCCESS
http://dpdk.org/patch/63959
_Performance Testing PASS_
Submitter: Bernard Iremonger <bernard.iremonger@intel.com>
Date: Tuesday, December 17 2019 10:15:50
DPDK git baseline: Repo:dpdk
Branch: master
CommitID:c3e89f69facbbfe131b6a6723665d48801ac943d
63959 --> performance testing pass
Test environment and result as below:
Ubuntu 18.04
Kernel: 4.15.0-generic
GCC: 7.4
NIC: Intel Corporation Ethernet Converged Network Adapter XL710-QDA2 40000 Mbps
Target: x86_64-native-linuxapp-gcc
Fail/Total: 0/2
Detail performance results:
+------------+---------+-------------------------------------+
| frame_size | txd/rxd | throughput difference from expected |
+============+=========+=====================================+
| 64 | 512 | 0.118 |
+------------+---------+-------------------------------------+
| 64 | 2048 | 0.266 |
+------------+---------+-------------------------------------+
Ubuntu 18.04
Kernel: 4.15.0-generic
GCC: 7.4
NIC: Intel Corporation Ethernet Converged Network Adapter 82599ES 10000 Mbps
Target: x86_64-native-linuxapp-gcc
Fail/Total: 0/3
Detail performance results:
+------------+---------+-------------------------------------+
| frame_size | txd/rxd | throughput difference from expected |
+============+=========+=====================================+
| 64 | 128 | -0.061 |
+------------+---------+-------------------------------------+
| 64 | 512 | 0.046 |
+------------+---------+-------------------------------------+
| 64 | 2048 | -0.185 |
+------------+---------+-------------------------------------+
https://lab.dpdk.org/results/dashboard/patchsets/8944/
UNH-IOL DPDK Community Lab
To manage your email subscriptions visit:
https://lab.dpdk.org/results/dashboard/preferences/subscriptions/
^ permalink raw reply [flat|nested] 4+ messages in thread
* [dpdk-test-report] |SUCCESS| pw63959 [PATCH] [v2, 04/10] net/i40e: improve RSS debug
@ 2019-12-17 17:20 dpdklab
0 siblings, 0 replies; 4+ messages in thread
From: dpdklab @ 2019-12-17 17:20 UTC (permalink / raw)
To: Ali Alnubani, Test Report; +Cc: dpdk-test-reports
[-- Attachment #1: Type: text/plain, Size: 3914 bytes --]
Test-Label: iol-mellanox-Performance
Test-Status: SUCCESS
http://dpdk.org/patch/63959
_Performance Testing PASS_
Submitter: Bernard Iremonger <bernard.iremonger@intel.com>
Date: Tuesday, December 17 2019 10:15:50
DPDK git baseline: Repo:dpdk
Branch: master
CommitID:c3e89f69facbbfe131b6a6723665d48801ac943d
63959 --> performance testing pass
Test environment and result as below:
Ubuntu 18.04
Kernel: 4.15.0-generic
GCC: 7.4
NIC: Mellanox ConnectX-5 100000 Mbps
Target: x86_64-native-linuxapp-gcc
Fail/Total: 0/6
Detail performance results:
+------------+---------+-------------------------------------+
| frame_size | txd/rxd | throughput difference from expected |
+============+=========+=====================================+
| 64 | 256 | 0.439 |
+------------+---------+-------------------------------------+
| 128 | 256 | -0.007 |
+------------+---------+-------------------------------------+
| 256 | 256 | -0.078 |
+------------+---------+-------------------------------------+
| 512 | 256 | -0.122 |
+------------+---------+-------------------------------------+
| 1024 | 256 | 0.031 |
+------------+---------+-------------------------------------+
| 1518 | 256 | 0.025 |
+------------+---------+-------------------------------------+
Ubuntu 18.04
Kernel: 4.15.0-generic
GCC: 7.4
NIC: Mellanox ConnectX-4 Lx 40000 Mbps
Target: x86_64-native-linuxapp-gcc
Fail/Total: 0/6
Detail performance results:
+------------+---------+-------------------------------------+
| frame_size | txd/rxd | throughput difference from expected |
+============+=========+=====================================+
| 64 | 256 | 0.083 |
+------------+---------+-------------------------------------+
| 128 | 256 | 0.015 |
+------------+---------+-------------------------------------+
| 256 | 256 | 0.044 |
+------------+---------+-------------------------------------+
| 512 | 256 | 0.004 |
+------------+---------+-------------------------------------+
| 1024 | 256 | -0.021 |
+------------+---------+-------------------------------------+
| 1518 | 256 | -0.014 |
+------------+---------+-------------------------------------+
Ubuntu 18.04
Kernel: 4.15.0-generic
GCC: 7.4
NIC: Mellanox ConnectX-4 Lx 25000 Mbps
Target: x86_64-native-linuxapp-gcc
Fail/Total: 0/6
Detail performance results:
+------------+---------+-------------------------------------+
| frame_size | txd/rxd | throughput difference from expected |
+============+=========+=====================================+
| 64 | 256 | 0.199 |
+------------+---------+-------------------------------------+
| 128 | 256 | -0.163 |
+------------+---------+-------------------------------------+
| 256 | 256 | 0.008 |
+------------+---------+-------------------------------------+
| 512 | 256 | 0.019 |
+------------+---------+-------------------------------------+
| 1024 | 256 | 0.001 |
+------------+---------+-------------------------------------+
| 1518 | 256 | 0 |
+------------+---------+-------------------------------------+
https://lab.dpdk.org/results/dashboard/patchsets/8944/
UNH-IOL DPDK Community Lab
To manage your email subscriptions visit:
https://lab.dpdk.org/results/dashboard/preferences/subscriptions/
^ permalink raw reply [flat|nested] 4+ messages in thread
* [dpdk-test-report] |SUCCESS| pw63959 [PATCH] [v2, 04/10] net/i40e: improve RSS debug
@ 2019-12-17 14:31 dpdklab
0 siblings, 0 replies; 4+ messages in thread
From: dpdklab @ 2019-12-17 14:31 UTC (permalink / raw)
To: Test Report; +Cc: dpdk-test-reports
[-- Attachment #1: Type: text/plain, Size: 1656 bytes --]
Test-Label: iol-testing
Test-Status: SUCCESS
http://dpdk.org/patch/63959
_Testing PASS_
Submitter: Bernard Iremonger <bernard.iremonger@intel.com>
Date: Tuesday, December 17 2019 10:15:50
DPDK git baseline: Repo:dpdk
Branch: master
CommitID:c3e89f69facbbfe131b6a6723665d48801ac943d
63959 --> testing pass
Test environment and result as below:
+--------------+-------------------+------------------+--------------------+----------------+--------------+
| Environment | dpdk_compile_spdk | dpdk_compile_ovs | dpdk_meson_compile | dpdk_unit_test | dpdk_compile |
+==============+===================+==================+====================+================+==============+
| Ubuntu 18.04 | PASS | PASS | PASS | PASS | PASS |
+--------------+-------------------+------------------+--------------------+----------------+--------------+
| FreeBSD 11.2 | PASS | SKIPPED | PASS | SKIPPED | PASS |
+--------------+-------------------+------------------+--------------------+----------------+--------------+
| CentOS 8 | SKIPPED | PASS | PASS | SKIPPED | PASS |
+--------------+-------------------+------------------+--------------------+----------------+--------------+
Ubuntu 18.04
Kernel: 4.15.0-generic
GCC: 7.4
FreeBSD 11.2
Kernel: 11.2
GCC: 8.3
CentOS 8
Kernel: 4.18.0.el8_0
GCC: 8.2
https://lab.dpdk.org/results/dashboard/patchsets/8944/
UNH-IOL DPDK Community Lab
To manage your email subscriptions visit:
https://lab.dpdk.org/results/dashboard/preferences/subscriptions/
^ permalink raw reply [flat|nested] 4+ messages in thread
[parent not found: <1576577756-648-5-git-send-email-bernard.iremonger@intel.com>]
end of thread, other threads:[~2019-12-17 17:20 UTC | newest]
Thread overview: 4+ messages (download: mbox.gz / follow: Atom feed)
-- links below jump to the message on this page --
2019-12-17 14:41 [dpdk-test-report] |SUCCESS| pw63959 [PATCH] [v2, 04/10] net/i40e: improve RSS debug dpdklab
-- strict thread matches above, loose matches on Subject: below --
2019-12-17 17:20 dpdklab
2019-12-17 14:31 dpdklab
[not found] <1576577756-648-5-git-send-email-bernard.iremonger@intel.com>
2019-12-17 10:17 ` [dpdk-test-report] |SUCCESS| pw63959 [PATCH v2 " checkpatch
This is a public inbox, see mirroring instructions
for how to clone and mirror all data and code used for this inbox;
as well as URLs for NNTP newsgroup(s).