* [dpdk-test-report] |SUCCESS| pw64004 [PATCH] net/iavf: fix virtual channel return value error
@ 2019-12-19 6:52 dpdklab
0 siblings, 0 replies; 4+ messages in thread
From: dpdklab @ 2019-12-19 6:52 UTC (permalink / raw)
To: Ali Alnubani, Test Report; +Cc: dpdk-test-reports
[-- Attachment #1: Type: text/plain, Size: 3899 bytes --]
Test-Label: iol-mellanox-Performance
Test-Status: SUCCESS
http://dpdk.org/patch/64004
_Performance Testing PASS_
Submitter: Yahui Cao <yahui.cao@intel.com>
Date: Thursday, December 19 2019 05:56:01
DPDK git baseline: Repo:dpdk
Branch: master
CommitID:c3e89f69facbbfe131b6a6723665d48801ac943d
64004 --> performance testing pass
Test environment and result as below:
Ubuntu 18.04
Kernel: 4.15.0-generic
GCC: 7.4
NIC: Mellanox ConnectX-5 100000 Mbps
Target: x86_64-native-linuxapp-gcc
Fail/Total: 0/6
Detail performance results:
+------------+---------+-------------------------------------+
| frame_size | txd/rxd | throughput difference from expected |
+============+=========+=====================================+
| 64 | 256 | -0.026 |
+------------+---------+-------------------------------------+
| 128 | 256 | -0.053 |
+------------+---------+-------------------------------------+
| 256 | 256 | -0.057 |
+------------+---------+-------------------------------------+
| 512 | 256 | -0.067 |
+------------+---------+-------------------------------------+
| 1024 | 256 | -0.006 |
+------------+---------+-------------------------------------+
| 1518 | 256 | -0.003 |
+------------+---------+-------------------------------------+
Ubuntu 18.04
Kernel: 4.15.0-generic
GCC: 7.4
NIC: Mellanox ConnectX-4 Lx 25000 Mbps
Target: x86_64-native-linuxapp-gcc
Fail/Total: 0/6
Detail performance results:
+------------+---------+-------------------------------------+
| frame_size | txd/rxd | throughput difference from expected |
+============+=========+=====================================+
| 64 | 256 | -0.003 |
+------------+---------+-------------------------------------+
| 128 | 256 | -0.266 |
+------------+---------+-------------------------------------+
| 256 | 256 | -0.002 |
+------------+---------+-------------------------------------+
| 512 | 256 | -0.009 |
+------------+---------+-------------------------------------+
| 1024 | 256 | 0.006 |
+------------+---------+-------------------------------------+
| 1518 | 256 | 0.003 |
+------------+---------+-------------------------------------+
Ubuntu 18.04
Kernel: 4.15.0-generic
GCC: 7.4
NIC: Mellanox ConnectX-4 Lx 40000 Mbps
Target: x86_64-native-linuxapp-gcc
Fail/Total: 0/6
Detail performance results:
+------------+---------+-------------------------------------+
| frame_size | txd/rxd | throughput difference from expected |
+============+=========+=====================================+
| 64 | 256 | 0.388 |
+------------+---------+-------------------------------------+
| 128 | 256 | 0.232 |
+------------+---------+-------------------------------------+
| 256 | 256 | 0.030 |
+------------+---------+-------------------------------------+
| 512 | 256 | 0.005 |
+------------+---------+-------------------------------------+
| 1024 | 256 | -0.022 |
+------------+---------+-------------------------------------+
| 1518 | 256 | -0.015 |
+------------+---------+-------------------------------------+
https://lab.dpdk.org/results/dashboard/patchsets/8970/
UNH-IOL DPDK Community Lab
To manage your email subscriptions visit:
https://lab.dpdk.org/results/dashboard/preferences/subscriptions/
^ permalink raw reply [flat|nested] 4+ messages in thread
* [dpdk-test-report] |SUCCESS| pw64004 [PATCH] net/iavf: fix virtual channel return value error
@ 2019-12-19 6:30 dpdklab
0 siblings, 0 replies; 4+ messages in thread
From: dpdklab @ 2019-12-19 6:30 UTC (permalink / raw)
To: Test Report; +Cc: dpdk-test-reports
[-- Attachment #1: Type: text/plain, Size: 1641 bytes --]
Test-Label: iol-testing
Test-Status: SUCCESS
http://dpdk.org/patch/64004
_Testing PASS_
Submitter: Yahui Cao <yahui.cao@intel.com>
Date: Thursday, December 19 2019 05:56:01
DPDK git baseline: Repo:dpdk
Branch: master
CommitID:c3e89f69facbbfe131b6a6723665d48801ac943d
64004 --> testing pass
Test environment and result as below:
+--------------+--------------+------------------+-------------------+----------------+--------------------+
| Environment | dpdk_compile | dpdk_compile_ovs | dpdk_compile_spdk | dpdk_unit_test | dpdk_meson_compile |
+==============+==============+==================+===================+================+====================+
| FreeBSD 11.2 | PASS | SKIPPED | PASS | SKIPPED | PASS |
+--------------+--------------+------------------+-------------------+----------------+--------------------+
| Ubuntu 18.04 | PASS | PASS | PASS | PASS | PASS |
+--------------+--------------+------------------+-------------------+----------------+--------------------+
| CentOS 8 | PASS | PASS | SKIPPED | SKIPPED | PASS |
+--------------+--------------+------------------+-------------------+----------------+--------------------+
FreeBSD 11.2
Kernel: 11.2
GCC: 8.3
Ubuntu 18.04
Kernel: 4.15.0-generic
GCC: 7.4
CentOS 8
Kernel: 4.18.0.el8_0
GCC: 8.2
https://lab.dpdk.org/results/dashboard/patchsets/8970/
UNH-IOL DPDK Community Lab
To manage your email subscriptions visit:
https://lab.dpdk.org/results/dashboard/preferences/subscriptions/
^ permalink raw reply [flat|nested] 4+ messages in thread
* [dpdk-test-report] |SUCCESS| pw64004 [PATCH] net/iavf: fix virtual channel return value error
@ 2019-12-19 6:25 dpdklab
0 siblings, 0 replies; 4+ messages in thread
From: dpdklab @ 2019-12-19 6:25 UTC (permalink / raw)
To: Test Report; +Cc: dpdk-test-reports
[-- Attachment #1: Type: text/plain, Size: 1984 bytes --]
Test-Label: iol-intel-Performance
Test-Status: SUCCESS
http://dpdk.org/patch/64004
_Performance Testing PASS_
Submitter: Yahui Cao <yahui.cao@intel.com>
Date: Thursday, December 19 2019 05:56:01
DPDK git baseline: Repo:dpdk
Branch: master
CommitID:c3e89f69facbbfe131b6a6723665d48801ac943d
64004 --> performance testing pass
Test environment and result as below:
Ubuntu 18.04
Kernel: 4.15.0-generic
GCC: 7.4
NIC: Intel Corporation Ethernet Converged Network Adapter 82599ES 10000 Mbps
Target: x86_64-native-linuxapp-gcc
Fail/Total: 0/3
Detail performance results:
+------------+---------+-------------------------------------+
| frame_size | txd/rxd | throughput difference from expected |
+============+=========+=====================================+
| 64 | 128 | 0.162 |
+------------+---------+-------------------------------------+
| 64 | 512 | 0.007 |
+------------+---------+-------------------------------------+
| 64 | 2048 | 0.041 |
+------------+---------+-------------------------------------+
Ubuntu 18.04
Kernel: 4.15.0-generic
GCC: 7.4
NIC: Intel Corporation Ethernet Converged Network Adapter XL710-QDA2 40000 Mbps
Target: x86_64-native-linuxapp-gcc
Fail/Total: 0/2
Detail performance results:
+------------+---------+-------------------------------------+
| frame_size | txd/rxd | throughput difference from expected |
+============+=========+=====================================+
| 64 | 512 | 0.143 |
+------------+---------+-------------------------------------+
| 64 | 2048 | 0.175 |
+------------+---------+-------------------------------------+
https://lab.dpdk.org/results/dashboard/patchsets/8970/
UNH-IOL DPDK Community Lab
To manage your email subscriptions visit:
https://lab.dpdk.org/results/dashboard/preferences/subscriptions/
^ permalink raw reply [flat|nested] 4+ messages in thread
* [dpdk-test-report] |SUCCESS| pw64004 [PATCH] net/iavf: fix virtual channel return value error
[not found] <20191219055601.78490-1-yahui.cao@intel.com>
@ 2019-12-19 5:57 ` checkpatch
0 siblings, 0 replies; 4+ messages in thread
From: checkpatch @ 2019-12-19 5:57 UTC (permalink / raw)
To: test-report
Test-Label: checkpatch
Test-Status: SUCCESS
http://dpdk.org/patch/64004
_coding style OK_
^ permalink raw reply [flat|nested] 4+ messages in thread
end of thread, other threads:[~2019-12-19 6:52 UTC | newest]
Thread overview: 4+ messages (download: mbox.gz / follow: Atom feed)
-- links below jump to the message on this page --
2019-12-19 6:52 [dpdk-test-report] |SUCCESS| pw64004 [PATCH] net/iavf: fix virtual channel return value error dpdklab
-- strict thread matches above, loose matches on Subject: below --
2019-12-19 6:30 dpdklab
2019-12-19 6:25 dpdklab
[not found] <20191219055601.78490-1-yahui.cao@intel.com>
2019-12-19 5:57 ` checkpatch
This is a public inbox, see mirroring instructions
for how to clone and mirror all data and code used for this inbox;
as well as URLs for NNTP newsgroup(s).