[-- Attachment #1: Type: text/plain, Size: 1678 bytes --] Test-Label: iol-mellanox-Performance Test-Status: SUCCESS http://dpdk.org/patch/64134 _Performance Testing PASS_ Submitter: Zhu, TaoX <taox.zhu@intel.com> Date: Thursday, December 26 2019 02:45:42 DPDK git baseline: Repo:dpdk Branch: master CommitID:2e088e6f94b773233c06440763c1be43d0d705b3 64134 --> performance testing pass Test environment and result as below: Ubuntu 18.04 Kernel: 4.15.0-generic GCC: 7.4 NIC: Mellanox ConnectX-4 Lx 25000 Mbps Target: x86_64-native-linuxapp-gcc Fail/Total: 0/6 Detail performance results: +------------+---------+-------------------------------------+ | frame_size | txd/rxd | throughput difference from expected | +============+=========+=====================================+ | 64 | 256 | 0.192 | +------------+---------+-------------------------------------+ | 128 | 256 | -0.080 | +------------+---------+-------------------------------------+ | 256 | 256 | -0.028 | +------------+---------+-------------------------------------+ | 512 | 256 | 0.022 | +------------+---------+-------------------------------------+ | 1024 | 256 | 0.005 | +------------+---------+-------------------------------------+ | 1518 | 256 | -0.002 | +------------+---------+-------------------------------------+ https://lab.dpdk.org/results/dashboard/patchsets/9026/ UNH-IOL DPDK Community Lab To manage your email subscriptions visit: https://lab.dpdk.org/results/dashboard/preferences/subscriptions/
[-- Attachment #1: Type: text/plain, Size: 1983 bytes --] Test-Label: iol-intel-Performance Test-Status: SUCCESS http://dpdk.org/patch/64134 _Performance Testing PASS_ Submitter: Zhu, TaoX <taox.zhu@intel.com> Date: Thursday, December 26 2019 02:45:42 DPDK git baseline: Repo:dpdk Branch: master CommitID:2e088e6f94b773233c06440763c1be43d0d705b3 64134 --> performance testing pass Test environment and result as below: Ubuntu 18.04 Kernel: 4.15.0-generic GCC: 7.4 NIC: Intel Corporation Ethernet Converged Network Adapter 82599ES 10000 Mbps Target: x86_64-native-linuxapp-gcc Fail/Total: 0/3 Detail performance results: +------------+---------+-------------------------------------+ | frame_size | txd/rxd | throughput difference from expected | +============+=========+=====================================+ | 64 | 128 | 0.092 | +------------+---------+-------------------------------------+ | 64 | 512 | 0.192 | +------------+---------+-------------------------------------+ | 64 | 2048 | -0.090 | +------------+---------+-------------------------------------+ Ubuntu 18.04 Kernel: 4.15.0-generic GCC: 7.4 NIC: Intel Corporation Ethernet Converged Network Adapter XL710-QDA2 40000 Mbps Target: x86_64-native-linuxapp-gcc Fail/Total: 0/2 Detail performance results: +------------+---------+-------------------------------------+ | frame_size | txd/rxd | throughput difference from expected | +============+=========+=====================================+ | 64 | 512 | 0.372 | +------------+---------+-------------------------------------+ | 64 | 2048 | -0.098 | +------------+---------+-------------------------------------+ https://lab.dpdk.org/results/dashboard/patchsets/9026/ UNH-IOL DPDK Community Lab To manage your email subscriptions visit: https://lab.dpdk.org/results/dashboard/preferences/subscriptions/
[-- Attachment #1: Type: text/plain, Size: 1897 bytes --] Test-Label: iol-testing Test-Status: SUCCESS http://dpdk.org/patch/64134 _Testing PASS_ Submitter: Zhu, TaoX <taox.zhu@intel.com> Date: Thursday, December 26 2019 02:45:42 DPDK git baseline: Repo:dpdk Branch: master CommitID:2e088e6f94b773233c06440763c1be43d0d705b3 64134 --> testing pass Test environment and result as below: +--------------+-------------------+--------------+--------------------+------------------+----------------+ | Environment | dpdk_compile_spdk | dpdk_compile | dpdk_meson_compile | dpdk_compile_ovs | dpdk_unit_test | +==============+===================+==============+====================+==================+================+ | Ubuntu 18.04 | PASS | PASS | PASS | PASS | PASS | +--------------+-------------------+--------------+--------------------+------------------+----------------+ | FreeBSD 11.2 | PASS | PASS | PASS | SKIPPED | SKIPPED | +--------------+-------------------+--------------+--------------------+------------------+----------------+ | Fedora 31 | SKIPPED | PASS | PASS | PASS | SKIPPED | +--------------+-------------------+--------------+--------------------+------------------+----------------+ | CentOS 8 | SKIPPED | PASS | PASS | PASS | SKIPPED | +--------------+-------------------+--------------+--------------------+------------------+----------------+ Ubuntu 18.04 Kernel: 4.15.0-generic GCC: 7.4 FreeBSD 11.2 Kernel: 11.2 GCC: 8.3 Fedora 31 Kernel: 5.3.16 GCC: 9.2.1 CentOS 8 Kernel: 4.18.0.el8_0 GCC: 8.2 https://lab.dpdk.org/results/dashboard/patchsets/9026/ UNH-IOL DPDK Community Lab To manage your email subscriptions visit: https://lab.dpdk.org/results/dashboard/preferences/subscriptions/
[-- Attachment #1: Type: text/plain, Size: 1154 bytes --] Test-Label: iol-nxp-Performance Test-Status: SUCCESS http://dpdk.org/patch/64134 _Performance Testing PASS_ Submitter: Zhu, TaoX <taox.zhu@intel.com> Date: Thursday, December 26 2019 02:45:42 DPDK git baseline: Repo:dpdk Branch: master CommitID:2e088e6f94b773233c06440763c1be43d0d705b3 64134 --> performance testing pass Test environment and result as below: Ubuntu 18.04 Kernel: 4.14.122 GCC: 7.3.0 NIC: NXP LS2088A 10000 Mbps Target: x86_64-native-linuxapp-gcc Fail/Total: 0/2 Detail performance results: +------------+---------+-------------------------------------+ | frame_size | txd/rxd | throughput difference from expected | +============+=========+=====================================+ | 64 | 512 | 0.112 | +------------+---------+-------------------------------------+ | 64 | 2048 | -0.003 | +------------+---------+-------------------------------------+ https://lab.dpdk.org/results/dashboard/patchsets/9026/ UNH-IOL DPDK Community Lab To manage your email subscriptions visit: https://lab.dpdk.org/results/dashboard/preferences/subscriptions/
[-- Attachment #1: Type: text/plain, Size: 2787 bytes --] Test-Label: iol-mellanox-Performance Test-Status: SUCCESS http://dpdk.org/patch/64134 _Performance Testing PASS_ Submitter: Zhu, TaoX <taox.zhu@intel.com> Date: Thursday, December 26 2019 02:45:42 DPDK git baseline: Repo:dpdk Branch: master CommitID:2e088e6f94b773233c06440763c1be43d0d705b3 64134 --> performance testing pass Test environment and result as below: Ubuntu 18.04 Kernel: 4.15.0-generic GCC: 7.4 NIC: Mellanox ConnectX-5 100000 Mbps Target: x86_64-native-linuxapp-gcc Fail/Total: 0/6 Detail performance results: +------------+---------+-------------------------------------+ | frame_size | txd/rxd | throughput difference from expected | +============+=========+=====================================+ | 64 | 256 | 0.447 | +------------+---------+-------------------------------------+ | 128 | 256 | -0.246 | +------------+---------+-------------------------------------+ | 256 | 256 | 0.109 | +------------+---------+-------------------------------------+ | 512 | 256 | -0.091 | +------------+---------+-------------------------------------+ | 1024 | 256 | -0.033 | +------------+---------+-------------------------------------+ | 1518 | 256 | 0.009 | +------------+---------+-------------------------------------+ Ubuntu 18.04 Kernel: 4.15.0-generic GCC: 7.4 NIC: Mellanox ConnectX-4 Lx 40000 Mbps Target: x86_64-native-linuxapp-gcc Fail/Total: 0/6 Detail performance results: +------------+---------+-------------------------------------+ | frame_size | txd/rxd | throughput difference from expected | +============+=========+=====================================+ | 64 | 256 | 0.220 | +------------+---------+-------------------------------------+ | 128 | 256 | -0.084 | +------------+---------+-------------------------------------+ | 256 | 256 | -0.346 | +------------+---------+-------------------------------------+ | 512 | 256 | -0.004 | +------------+---------+-------------------------------------+ | 1024 | 256 | -0.003 | +------------+---------+-------------------------------------+ | 1518 | 256 | -0.013 | +------------+---------+-------------------------------------+ https://lab.dpdk.org/results/dashboard/patchsets/9026/ UNH-IOL DPDK Community Lab To manage your email subscriptions visit: https://lab.dpdk.org/results/dashboard/preferences/subscriptions/