Test-Label: checkpatch Test-Status: SUCCESS http://dpdk.org/patch/64137 _coding style OK_
[-- Attachment #1: Type: text/plain, Size: 1679 bytes --] Test-Label: iol-mellanox-Performance Test-Status: SUCCESS http://dpdk.org/patch/64137 _Performance Testing PASS_ Submitter: Xiaoyun Li <xiaoyun.li@intel.com> Date: Thursday, December 26 2019 06:54:28 DPDK git baseline: Repo:dpdk Branch: master CommitID:2e088e6f94b773233c06440763c1be43d0d705b3 64137 --> performance testing pass Test environment and result as below: Ubuntu 18.04 Kernel: 4.15.0-generic GCC: 7.4 NIC: Mellanox ConnectX-5 100000 Mbps Target: x86_64-native-linuxapp-gcc Fail/Total: 0/6 Detail performance results: +------------+---------+-------------------------------------+ | frame_size | txd/rxd | throughput difference from expected | +============+=========+=====================================+ | 64 | 256 | -0.016 | +------------+---------+-------------------------------------+ | 128 | 256 | -0.115 | +------------+---------+-------------------------------------+ | 256 | 256 | -0.018 | +------------+---------+-------------------------------------+ | 512 | 256 | 0.093 | +------------+---------+-------------------------------------+ | 1024 | 256 | -0.009 | +------------+---------+-------------------------------------+ | 1518 | 256 | -0.011 | +------------+---------+-------------------------------------+ https://lab.dpdk.org/results/dashboard/patchsets/9029/ UNH-IOL DPDK Community Lab To manage your email subscriptions visit: https://lab.dpdk.org/results/dashboard/preferences/subscriptions/
[-- Attachment #1: Type: text/plain, Size: 1900 bytes --] Test-Label: iol-testing Test-Status: SUCCESS http://dpdk.org/patch/64137 _Testing PASS_ Submitter: Xiaoyun Li <xiaoyun.li@intel.com> Date: Thursday, December 26 2019 06:54:28 DPDK git baseline: Repo:dpdk Branch: master CommitID:2e088e6f94b773233c06440763c1be43d0d705b3 64137 --> testing pass Test environment and result as below: +--------------+--------------+--------------------+------------------+-------------------+----------------+ | Environment | dpdk_compile | dpdk_meson_compile | dpdk_compile_ovs | dpdk_compile_spdk | dpdk_unit_test | +==============+==============+====================+==================+===================+================+ | Ubuntu 18.04 | PASS | PASS | PASS | PASS | PASS | +--------------+--------------+--------------------+------------------+-------------------+----------------+ | Fedora 31 | PASS | PASS | PASS | SKIPPED | SKIPPED | +--------------+--------------+--------------------+------------------+-------------------+----------------+ | CentOS 8 | PASS | PASS | PASS | SKIPPED | SKIPPED | +--------------+--------------+--------------------+------------------+-------------------+----------------+ | FreeBSD 11.2 | PASS | PASS | SKIPPED | PASS | SKIPPED | +--------------+--------------+--------------------+------------------+-------------------+----------------+ Ubuntu 18.04 Kernel: 4.15.0-generic GCC: 7.4 Fedora 31 Kernel: 5.3.16 GCC: 9.2.1 CentOS 8 Kernel: 4.18.0.el8_0 GCC: 8.2 FreeBSD 11.2 Kernel: 11.2 GCC: 8.3 https://lab.dpdk.org/results/dashboard/patchsets/9029/ UNH-IOL DPDK Community Lab To manage your email subscriptions visit: https://lab.dpdk.org/results/dashboard/preferences/subscriptions/
[-- Attachment #1: Type: text/plain, Size: 2792 bytes --] Test-Label: iol-mellanox-Performance Test-Status: SUCCESS http://dpdk.org/patch/64137 _Performance Testing PASS_ Submitter: Xiaoyun Li <xiaoyun.li@intel.com> Date: Thursday, December 26 2019 06:54:28 DPDK git baseline: Repo:dpdk Branch: master CommitID:2e088e6f94b773233c06440763c1be43d0d705b3 64137 --> performance testing pass Test environment and result as below: Ubuntu 18.04 Kernel: 4.15.0-generic GCC: 7.4 NIC: Mellanox ConnectX-4 Lx 25000 Mbps Target: x86_64-native-linuxapp-gcc Fail/Total: 0/6 Detail performance results: +------------+---------+-------------------------------------+ | frame_size | txd/rxd | throughput difference from expected | +============+=========+=====================================+ | 64 | 256 | 0.002 | +------------+---------+-------------------------------------+ | 128 | 256 | -0.049 | +------------+---------+-------------------------------------+ | 256 | 256 | -0.023 | +------------+---------+-------------------------------------+ | 512 | 256 | -0.005 | +------------+---------+-------------------------------------+ | 1024 | 256 | 0.001 | +------------+---------+-------------------------------------+ | 1518 | 256 | 0.002 | +------------+---------+-------------------------------------+ Ubuntu 18.04 Kernel: 4.15.0-generic GCC: 7.4 NIC: Mellanox ConnectX-4 Lx 40000 Mbps Target: x86_64-native-linuxapp-gcc Fail/Total: 0/6 Detail performance results: +------------+---------+-------------------------------------+ | frame_size | txd/rxd | throughput difference from expected | +============+=========+=====================================+ | 64 | 256 | 0.093 | +------------+---------+-------------------------------------+ | 128 | 256 | 0.073 | +------------+---------+-------------------------------------+ | 256 | 256 | -0.021 | +------------+---------+-------------------------------------+ | 512 | 256 | -0.028 | +------------+---------+-------------------------------------+ | 1024 | 256 | -0.002 | +------------+---------+-------------------------------------+ | 1518 | 256 | -0.017 | +------------+---------+-------------------------------------+ https://lab.dpdk.org/results/dashboard/patchsets/9029/ UNH-IOL DPDK Community Lab To manage your email subscriptions visit: https://lab.dpdk.org/results/dashboard/preferences/subscriptions/
[-- Attachment #1: Type: text/plain, Size: 1157 bytes --] Test-Label: iol-nxp-Performance Test-Status: SUCCESS http://dpdk.org/patch/64137 _Performance Testing PASS_ Submitter: Xiaoyun Li <xiaoyun.li@intel.com> Date: Thursday, December 26 2019 06:54:28 DPDK git baseline: Repo:dpdk Branch: master CommitID:2e088e6f94b773233c06440763c1be43d0d705b3 64137 --> performance testing pass Test environment and result as below: Ubuntu 18.04 Kernel: 4.14.122 GCC: 7.3.0 NIC: NXP LS2088A 10000 Mbps Target: x86_64-native-linuxapp-gcc Fail/Total: 0/2 Detail performance results: +------------+---------+-------------------------------------+ | frame_size | txd/rxd | throughput difference from expected | +============+=========+=====================================+ | 64 | 512 | 0.065 | +------------+---------+-------------------------------------+ | 64 | 2048 | 0.276 | +------------+---------+-------------------------------------+ https://lab.dpdk.org/results/dashboard/patchsets/9029/ UNH-IOL DPDK Community Lab To manage your email subscriptions visit: https://lab.dpdk.org/results/dashboard/preferences/subscriptions/