Test-Label: checkpatch Test-Status: SUCCESS http://dpdk.org/patch/64152 _coding style OK_
[-- Attachment #1: Type: text/plain, Size: 1979 bytes --] Test-Label: iol-intel-Performance Test-Status: SUCCESS http://dpdk.org/patch/64152 _Performance Testing PASS_ Submitter: Ori Kam <orika@mellanox.com> Date: Sunday, December 29 2019 08:56:58 DPDK git baseline: Repo:dpdk Branch: master CommitID:2e088e6f94b773233c06440763c1be43d0d705b3 64152 --> performance testing pass Test environment and result as below: Ubuntu 18.04 Kernel: 4.15.0-generic GCC: 7.4 NIC: Intel Corporation Ethernet Converged Network Adapter 82599ES 10000 Mbps Target: x86_64-native-linuxapp-gcc Fail/Total: 0/3 Detail performance results: +------------+---------+-------------------------------------+ | frame_size | txd/rxd | throughput difference from expected | +============+=========+=====================================+ | 64 | 128 | 0.374 | +------------+---------+-------------------------------------+ | 64 | 512 | -0.039 | +------------+---------+-------------------------------------+ | 64 | 2048 | -0.265 | +------------+---------+-------------------------------------+ Ubuntu 18.04 Kernel: 4.15.0-generic GCC: 7.4 NIC: Intel Corporation Ethernet Converged Network Adapter XL710-QDA2 40000 Mbps Target: x86_64-native-linuxapp-gcc Fail/Total: 0/2 Detail performance results: +------------+---------+-------------------------------------+ | frame_size | txd/rxd | throughput difference from expected | +============+=========+=====================================+ | 64 | 512 | -0.156 | +------------+---------+-------------------------------------+ | 64 | 2048 | -0.086 | +------------+---------+-------------------------------------+ https://lab.dpdk.org/results/dashboard/patchsets/9034/ UNH-IOL DPDK Community Lab To manage your email subscriptions visit: https://lab.dpdk.org/results/dashboard/preferences/subscriptions/
[-- Attachment #1: Type: text/plain, Size: 1672 bytes --] Test-Label: iol-mellanox-Performance Test-Status: SUCCESS http://dpdk.org/patch/64152 _Performance Testing PASS_ Submitter: Ori Kam <orika@mellanox.com> Date: Sunday, December 29 2019 08:56:58 DPDK git baseline: Repo:dpdk Branch: master CommitID:2e088e6f94b773233c06440763c1be43d0d705b3 64152 --> performance testing pass Test environment and result as below: Ubuntu 18.04 Kernel: 4.15.0-generic GCC: 7.4 NIC: Mellanox ConnectX-5 100000 Mbps Target: x86_64-native-linuxapp-gcc Fail/Total: 0/6 Detail performance results: +------------+---------+-------------------------------------+ | frame_size | txd/rxd | throughput difference from expected | +============+=========+=====================================+ | 64 | 256 | -0.042 | +------------+---------+-------------------------------------+ | 128 | 256 | 0.035 | +------------+---------+-------------------------------------+ | 256 | 256 | 0.036 | +------------+---------+-------------------------------------+ | 512 | 256 | -0.033 | +------------+---------+-------------------------------------+ | 1024 | 256 | -0.055 | +------------+---------+-------------------------------------+ | 1518 | 256 | 0.011 | +------------+---------+-------------------------------------+ https://lab.dpdk.org/results/dashboard/patchsets/9034/ UNH-IOL DPDK Community Lab To manage your email subscriptions visit: https://lab.dpdk.org/results/dashboard/preferences/subscriptions/
[-- Attachment #1: Type: text/plain, Size: 1893 bytes --] Test-Label: iol-testing Test-Status: SUCCESS http://dpdk.org/patch/64152 _Testing PASS_ Submitter: Ori Kam <orika@mellanox.com> Date: Sunday, December 29 2019 08:56:58 DPDK git baseline: Repo:dpdk Branch: master CommitID:2e088e6f94b773233c06440763c1be43d0d705b3 64152 --> testing pass Test environment and result as below: +--------------+------------------+--------------------+-------------------+--------------+----------------+ | Environment | dpdk_compile_ovs | dpdk_meson_compile | dpdk_compile_spdk | dpdk_compile | dpdk_unit_test | +==============+==================+====================+===================+==============+================+ | Ubuntu 18.04 | PASS | PASS | PASS | PASS | PASS | +--------------+------------------+--------------------+-------------------+--------------+----------------+ | Fedora 31 | PASS | PASS | SKIPPED | PASS | SKIPPED | +--------------+------------------+--------------------+-------------------+--------------+----------------+ | CentOS 8 | PASS | PASS | SKIPPED | PASS | SKIPPED | +--------------+------------------+--------------------+-------------------+--------------+----------------+ | FreeBSD 11.2 | SKIPPED | PASS | PASS | PASS | SKIPPED | +--------------+------------------+--------------------+-------------------+--------------+----------------+ Ubuntu 18.04 Kernel: 4.15.0-generic GCC: 7.4 Fedora 31 Kernel: 5.3.16 GCC: 9.2.1 CentOS 8 Kernel: 4.18.0.el8_0 GCC: 8.2 FreeBSD 11.2 Kernel: 11.2 GCC: 8.3 https://lab.dpdk.org/results/dashboard/patchsets/9034/ UNH-IOL DPDK Community Lab To manage your email subscriptions visit: https://lab.dpdk.org/results/dashboard/preferences/subscriptions/
[-- Attachment #1: Type: text/plain, Size: 1150 bytes --] Test-Label: iol-nxp-Performance Test-Status: SUCCESS http://dpdk.org/patch/64152 _Performance Testing PASS_ Submitter: Ori Kam <orika@mellanox.com> Date: Sunday, December 29 2019 08:56:58 DPDK git baseline: Repo:dpdk Branch: master CommitID:2e088e6f94b773233c06440763c1be43d0d705b3 64152 --> performance testing pass Test environment and result as below: Ubuntu 18.04 Kernel: 4.14.122 GCC: 7.3.0 NIC: NXP LS2088A 10000 Mbps Target: x86_64-native-linuxapp-gcc Fail/Total: 0/2 Detail performance results: +------------+---------+-------------------------------------+ | frame_size | txd/rxd | throughput difference from expected | +============+=========+=====================================+ | 64 | 512 | -0.031 | +------------+---------+-------------------------------------+ | 64 | 2048 | 0.136 | +------------+---------+-------------------------------------+ https://lab.dpdk.org/results/dashboard/patchsets/9034/ UNH-IOL DPDK Community Lab To manage your email subscriptions visit: https://lab.dpdk.org/results/dashboard/preferences/subscriptions/
[-- Attachment #1: Type: text/plain, Size: 2785 bytes --] Test-Label: iol-mellanox-Performance Test-Status: SUCCESS http://dpdk.org/patch/64152 _Performance Testing PASS_ Submitter: Ori Kam <orika@mellanox.com> Date: Sunday, December 29 2019 08:56:58 DPDK git baseline: Repo:dpdk Branch: master CommitID:2e088e6f94b773233c06440763c1be43d0d705b3 64152 --> performance testing pass Test environment and result as below: Ubuntu 18.04 Kernel: 4.15.0-generic GCC: 7.4 NIC: Mellanox ConnectX-4 Lx 40000 Mbps Target: x86_64-native-linuxapp-gcc Fail/Total: 0/6 Detail performance results: +------------+---------+-------------------------------------+ | frame_size | txd/rxd | throughput difference from expected | +============+=========+=====================================+ | 64 | 256 | 0.117 | +------------+---------+-------------------------------------+ | 128 | 256 | -0.041 | +------------+---------+-------------------------------------+ | 256 | 256 | -0.112 | +------------+---------+-------------------------------------+ | 512 | 256 | 0.007 | +------------+---------+-------------------------------------+ | 1024 | 256 | 0.006 | +------------+---------+-------------------------------------+ | 1518 | 256 | -0.006 | +------------+---------+-------------------------------------+ Ubuntu 18.04 Kernel: 4.15.0-generic GCC: 7.4 NIC: Mellanox ConnectX-4 Lx 25000 Mbps Target: x86_64-native-linuxapp-gcc Fail/Total: 0/6 Detail performance results: +------------+---------+-------------------------------------+ | frame_size | txd/rxd | throughput difference from expected | +============+=========+=====================================+ | 64 | 256 | -0.013 | +------------+---------+-------------------------------------+ | 128 | 256 | -0.083 | +------------+---------+-------------------------------------+ | 256 | 256 | -0.005 | +------------+---------+-------------------------------------+ | 512 | 256 | -0.006 | +------------+---------+-------------------------------------+ | 1024 | 256 | 0.012 | +------------+---------+-------------------------------------+ | 1518 | 256 | -0.003 | +------------+---------+-------------------------------------+ https://lab.dpdk.org/results/dashboard/patchsets/9034/ UNH-IOL DPDK Community Lab To manage your email subscriptions visit: https://lab.dpdk.org/results/dashboard/preferences/subscriptions/