[-- Attachment #1: Type: text/plain, Size: 1994 bytes --] Test-Label: iol-intel-Performance Test-Status: SUCCESS http://dpdk.org/patch/64175 _Performance Testing PASS_ Submitter: Shahed Shaikh <shshaikh@marvell.com> Date: Thursday, January 02 2020 17:59:02 DPDK git baseline: Repo:dpdk Branch: master CommitID:2e088e6f94b773233c06440763c1be43d0d705b3 64175-64176 --> performance testing pass Test environment and result as below: Ubuntu 18.04 Kernel: 4.15.0-generic GCC: 7.4 NIC: Intel Corporation Ethernet Converged Network Adapter 82599ES 10000 Mbps Target: x86_64-native-linuxapp-gcc Fail/Total: 0/3 Detail performance results: +------------+---------+-------------------------------------+ | frame_size | txd/rxd | throughput difference from expected | +============+=========+=====================================+ | 64 | 128 | 0.079 | +------------+---------+-------------------------------------+ | 64 | 512 | 0.640 | +------------+---------+-------------------------------------+ | 64 | 2048 | -0.124 | +------------+---------+-------------------------------------+ Ubuntu 18.04 Kernel: 4.15.0-generic GCC: 7.4 NIC: Intel Corporation Ethernet Converged Network Adapter XL710-QDA2 40000 Mbps Target: x86_64-native-linuxapp-gcc Fail/Total: 0/2 Detail performance results: +------------+---------+-------------------------------------+ | frame_size | txd/rxd | throughput difference from expected | +============+=========+=====================================+ | 64 | 512 | -0.379 | +------------+---------+-------------------------------------+ | 64 | 2048 | 0.076 | +------------+---------+-------------------------------------+ https://lab.dpdk.org/results/dashboard/patchsets/9044/ UNH-IOL DPDK Community Lab To manage your email subscriptions visit: https://lab.dpdk.org/results/dashboard/preferences/subscriptions/
[-- Attachment #1: Type: text/plain, Size: 1908 bytes --] Test-Label: iol-testing Test-Status: SUCCESS http://dpdk.org/patch/64175 _Testing PASS_ Submitter: Shahed Shaikh <shshaikh@marvell.com> Date: Thursday, January 02 2020 17:59:02 DPDK git baseline: Repo:dpdk Branch: master CommitID:2e088e6f94b773233c06440763c1be43d0d705b3 64175-64176 --> testing pass Test environment and result as below: +--------------+--------------------+-------------------+--------------+------------------+----------------+ | Environment | dpdk_meson_compile | dpdk_compile_spdk | dpdk_compile | dpdk_compile_ovs | dpdk_unit_test | +==============+====================+===================+==============+==================+================+ | Ubuntu 18.04 | PASS | PASS | PASS | PASS | PASS | +--------------+--------------------+-------------------+--------------+------------------+----------------+ | Fedora 31 | PASS | SKIPPED | PASS | PASS | SKIPPED | +--------------+--------------------+-------------------+--------------+------------------+----------------+ | CentOS 8 | PASS | SKIPPED | PASS | PASS | SKIPPED | +--------------+--------------------+-------------------+--------------+------------------+----------------+ | FreeBSD 11.2 | PASS | PASS | PASS | SKIPPED | SKIPPED | +--------------+--------------------+-------------------+--------------+------------------+----------------+ Ubuntu 18.04 Kernel: 4.15.0-generic GCC: 7.4 Fedora 31 Kernel: 5.3.16 GCC: 9.2.1 CentOS 8 Kernel: 4.18.0.el8_0 GCC: 8.2 FreeBSD 11.2 Kernel: 11.2 GCC: 8.3 https://lab.dpdk.org/results/dashboard/patchsets/9044/ UNH-IOL DPDK Community Lab To manage your email subscriptions visit: https://lab.dpdk.org/results/dashboard/preferences/subscriptions/
[-- Attachment #1: Type: text/plain, Size: 3909 bytes --] Test-Label: iol-mellanox-Performance Test-Status: SUCCESS http://dpdk.org/patch/64175 _Performance Testing PASS_ Submitter: Shahed Shaikh <shshaikh@marvell.com> Date: Thursday, January 02 2020 17:59:02 DPDK git baseline: Repo:dpdk Branch: master CommitID:2e088e6f94b773233c06440763c1be43d0d705b3 64175-64176 --> performance testing pass Test environment and result as below: Ubuntu 18.04 Kernel: 4.15.0-generic GCC: 7.4 NIC: Mellanox ConnectX-5 100000 Mbps Target: x86_64-native-linuxapp-gcc Fail/Total: 0/6 Detail performance results: +------------+---------+-------------------------------------+ | frame_size | txd/rxd | throughput difference from expected | +============+=========+=====================================+ | 64 | 256 | 0.069 | +------------+---------+-------------------------------------+ | 128 | 256 | -0.188 | +------------+---------+-------------------------------------+ | 256 | 256 | -0.069 | +------------+---------+-------------------------------------+ | 512 | 256 | -0.003 | +------------+---------+-------------------------------------+ | 1024 | 256 | -0.006 | +------------+---------+-------------------------------------+ | 1518 | 256 | 0.006 | +------------+---------+-------------------------------------+ Ubuntu 18.04 Kernel: 4.15.0-generic GCC: 7.4 NIC: Mellanox ConnectX-4 Lx 40000 Mbps Target: x86_64-native-linuxapp-gcc Fail/Total: 0/6 Detail performance results: +------------+---------+-------------------------------------+ | frame_size | txd/rxd | throughput difference from expected | +============+=========+=====================================+ | 64 | 256 | 0.069 | +------------+---------+-------------------------------------+ | 128 | 256 | -0.034 | +------------+---------+-------------------------------------+ | 256 | 256 | -0.009 | +------------+---------+-------------------------------------+ | 512 | 256 | 0 | +------------+---------+-------------------------------------+ | 1024 | 256 | 0 | +------------+---------+-------------------------------------+ | 1518 | 256 | -0.003 | +------------+---------+-------------------------------------+ Ubuntu 18.04 Kernel: 4.15.0-generic GCC: 7.4 NIC: Mellanox ConnectX-4 Lx 25000 Mbps Target: x86_64-native-linuxapp-gcc Fail/Total: 0/6 Detail performance results: +------------+---------+-------------------------------------+ | frame_size | txd/rxd | throughput difference from expected | +============+=========+=====================================+ | 64 | 256 | 0.034 | +------------+---------+-------------------------------------+ | 128 | 256 | 0.134 | +------------+---------+-------------------------------------+ | 256 | 256 | -0.011 | +------------+---------+-------------------------------------+ | 512 | 256 | -0.009 | +------------+---------+-------------------------------------+ | 1024 | 256 | -0.003 | +------------+---------+-------------------------------------+ | 1518 | 256 | 0.010 | +------------+---------+-------------------------------------+ https://lab.dpdk.org/results/dashboard/patchsets/9044/ UNH-IOL DPDK Community Lab To manage your email subscriptions visit: https://lab.dpdk.org/results/dashboard/preferences/subscriptions/
[-- Attachment #1: Type: text/plain, Size: 1165 bytes --] Test-Label: iol-nxp-Performance Test-Status: SUCCESS http://dpdk.org/patch/64175 _Performance Testing PASS_ Submitter: Shahed Shaikh <shshaikh@marvell.com> Date: Thursday, January 02 2020 17:59:02 DPDK git baseline: Repo:dpdk Branch: master CommitID:2e088e6f94b773233c06440763c1be43d0d705b3 64175-64176 --> performance testing pass Test environment and result as below: Ubuntu 18.04 Kernel: 4.14.122 GCC: 7.3.0 NIC: NXP LS2088A 10000 Mbps Target: x86_64-native-linuxapp-gcc Fail/Total: 0/2 Detail performance results: +------------+---------+-------------------------------------+ | frame_size | txd/rxd | throughput difference from expected | +============+=========+=====================================+ | 64 | 512 | 0.073 | +------------+---------+-------------------------------------+ | 64 | 2048 | 0.179 | +------------+---------+-------------------------------------+ https://lab.dpdk.org/results/dashboard/patchsets/9044/ UNH-IOL DPDK Community Lab To manage your email subscriptions visit: https://lab.dpdk.org/results/dashboard/preferences/subscriptions/