[-- Attachment #1: Type: text/plain, Size: 1778 bytes --] _Performance Testing PASS_ Branch: dpdk-next-net-intel 9ed1d24ed26f9ce5d5aee412f148e21675c76a3f --> performance testing pass Test environment and result as below: Ubuntu 18.04 Kernel: 4.15.0-generic GCC: 7.4 NIC: Intel Corporation Ethernet Converged Network Adapter XL710-QDA2 40000 Mbps Target: x86_64-native-linuxapp-gcc Fail/Total: 0/2 Detail performance results: +------------+---------+-------------------------------------+ | frame_size | txd/rxd | throughput difference from expected | +============+=========+=====================================+ | 64 | 512 | 0.173 | +------------+---------+-------------------------------------+ | 64 | 2048 | 0.241 | +------------+---------+-------------------------------------+ Ubuntu 18.04 Kernel: 4.15.0-generic GCC: 7.4 NIC: Intel Corporation Ethernet Converged Network Adapter 82599ES 10000 Mbps Target: x86_64-native-linuxapp-gcc Fail/Total: 0/3 Detail performance results: +------------+---------+-------------------------------------+ | frame_size | txd/rxd | throughput difference from expected | +============+=========+=====================================+ | 64 | 128 | 0.087 | +------------+---------+-------------------------------------+ | 64 | 512 | 0.366 | +------------+---------+-------------------------------------+ | 64 | 2048 | -0.176 | +------------+---------+-------------------------------------+ https://lab.dpdk.org/results/dashboard/tarballs/7608/ UNH-IOL DPDK Community Lab To manage your email subscriptions visit: https://lab.dpdk.org/results/dashboard/preferences/subscriptions/
[-- Attachment #1: Type: text/plain, Size: 2579 bytes --] _Performance Testing PASS_ Branch: dpdk-next-net-intel 9ed1d24ed26f9ce5d5aee412f148e21675c76a3f --> performance testing pass Test environment and result as below: Ubuntu 18.04 Kernel: 4.15.0-generic GCC: 7.4 NIC: Mellanox ConnectX-5 100000 Mbps Target: x86_64-native-linuxapp-gcc Fail/Total: 0/6 Detail performance results: +------------+---------+-------------------------------------+ | frame_size | txd/rxd | throughput difference from expected | +============+=========+=====================================+ | 64 | 256 | 0.404 | +------------+---------+-------------------------------------+ | 128 | 256 | -0.100 | +------------+---------+-------------------------------------+ | 256 | 256 | 0.065 | +------------+---------+-------------------------------------+ | 512 | 256 | 0.044 | +------------+---------+-------------------------------------+ | 1024 | 256 | -0.014 | +------------+---------+-------------------------------------+ | 1518 | 256 | -0.008 | +------------+---------+-------------------------------------+ Ubuntu 18.04 Kernel: 4.15.0-generic GCC: 7.4 NIC: Mellanox ConnectX-4 Lx 25000 Mbps Target: x86_64-native-linuxapp-gcc Fail/Total: 0/6 Detail performance results: +------------+---------+-------------------------------------+ | frame_size | txd/rxd | throughput difference from expected | +============+=========+=====================================+ | 64 | 256 | -0.014 | +------------+---------+-------------------------------------+ | 128 | 256 | 0.234 | +------------+---------+-------------------------------------+ | 256 | 256 | 0.004 | +------------+---------+-------------------------------------+ | 512 | 256 | 0.012 | +------------+---------+-------------------------------------+ | 1024 | 256 | -0.005 | +------------+---------+-------------------------------------+ | 1518 | 256 | -0.005 | +------------+---------+-------------------------------------+ https://lab.dpdk.org/results/dashboard/tarballs/7608/ UNH-IOL DPDK Community Lab To manage your email subscriptions visit: https://lab.dpdk.org/results/dashboard/preferences/subscriptions/
[-- Attachment #1: Type: text/plain, Size: 951 bytes --] _Performance Testing PASS_ Branch: dpdk-next-net-intel 9ed1d24ed26f9ce5d5aee412f148e21675c76a3f --> performance testing pass Test environment and result as below: Ubuntu 18.04 Kernel: 4.14.122 GCC: 7.3.0 NIC: NXP LS2088A 10000 Mbps Target: x86_64-native-linuxapp-gcc Fail/Total: 0/2 Detail performance results: +------------+---------+-------------------------------------+ | frame_size | txd/rxd | throughput difference from expected | +============+=========+=====================================+ | 64 | 512 | 0.071 | +------------+---------+-------------------------------------+ | 64 | 2048 | 0.106 | +------------+---------+-------------------------------------+ https://lab.dpdk.org/results/dashboard/tarballs/7608/ UNH-IOL DPDK Community Lab To manage your email subscriptions visit: https://lab.dpdk.org/results/dashboard/preferences/subscriptions/
[-- Attachment #1: Type: text/plain, Size: 2019 bytes --] _Testing PASS_ Branch: dpdk-next-net-intel 9ed1d24ed26f9ce5d5aee412f148e21675c76a3f --> testing pass Test environment and result as below: +------------------+-------------------+------------------+--------------+--------------------+----------------+ | Environment | dpdk_compile_spdk | dpdk_compile_ovs | dpdk_compile | dpdk_meson_compile | dpdk_unit_test | +==================+===================+==================+==============+====================+================+ | Ubuntu 18.04 | PASS | PASS | PASS | PASS | PASS | +------------------+-------------------+------------------+--------------+--------------------+----------------+ | FreeBSD 11.2 | PASS | SKIPPED | PASS | PASS | SKIPPED | +------------------+-------------------+------------------+--------------+--------------------+----------------+ | Fedora 31 | SKIPPED | PASS | PASS | PASS | SKIPPED | +------------------+-------------------+------------------+--------------+--------------------+----------------+ | CentOS 8 | SKIPPED | PASS | PASS | PASS | SKIPPED | +------------------+-------------------+------------------+--------------+--------------------+----------------+ | openSUSE Leap 15 | SKIPPED | PASS | PASS | PASS | SKIPPED | +------------------+-------------------+------------------+--------------+--------------------+----------------+ Ubuntu 18.04 Kernel: 4.15.0-generic GCC: 7.4 FreeBSD 11.2 Kernel: 11.2 GCC: 8.3 Fedora 31 Kernel: 5.3.16 GCC: 9.2.1 CentOS 8 Kernel: 4.18.0.el8_0 GCC: 8.2 openSUSE Leap 15 Kernel: 4.12.14 GCC: 7.4.1 https://lab.dpdk.org/results/dashboard/tarballs/7608/ UNH-IOL DPDK Community Lab To manage your email subscriptions visit: https://lab.dpdk.org/results/dashboard/preferences/subscriptions/
[-- Attachment #1: Type: text/plain, Size: 1470 bytes --] _Performance Testing PASS_ Branch: dpdk-next-net-intel 9ed1d24ed26f9ce5d5aee412f148e21675c76a3f --> performance testing pass Test environment and result as below: Ubuntu 18.04 Kernel: 4.15.0-generic GCC: 7.4 NIC: Mellanox ConnectX-4 Lx 40000 Mbps Target: x86_64-native-linuxapp-gcc Fail/Total: 0/6 Detail performance results: +------------+---------+-------------------------------------+ | frame_size | txd/rxd | throughput difference from expected | +============+=========+=====================================+ | 64 | 256 | -0.070 | +------------+---------+-------------------------------------+ | 128 | 256 | -0.249 | +------------+---------+-------------------------------------+ | 256 | 256 | -0.028 | +------------+---------+-------------------------------------+ | 512 | 256 | 0.018 | +------------+---------+-------------------------------------+ | 1024 | 256 | 0 | +------------+---------+-------------------------------------+ | 1518 | 256 | 0.001 | +------------+---------+-------------------------------------+ https://lab.dpdk.org/results/dashboard/tarballs/7608/ UNH-IOL DPDK Community Lab To manage your email subscriptions visit: https://lab.dpdk.org/results/dashboard/preferences/subscriptions/