Test-Label: checkpatch Test-Status: SUCCESS http://dpdk.org/patch/64177 _coding style OK_
[-- Attachment #1: Type: text/plain, Size: 2216 bytes --] Test-Label: iol-testing Test-Status: SUCCESS http://dpdk.org/patch/64177 _Testing PASS_ Submitter: Haiyue Wang <haiyue.wang@intel.com> Date: Friday, January 03 2020 02:02:04 DPDK git baseline: Repo:dpdk Branch: master CommitID:2e088e6f94b773233c06440763c1be43d0d705b3 64177 --> testing pass Test environment and result as below: +------------------+-------------------+--------------+------------------+----------------+--------------------+ | Environment | dpdk_compile_spdk | dpdk_compile | dpdk_compile_ovs | dpdk_unit_test | dpdk_meson_compile | +==================+===================+==============+==================+================+====================+ | FreeBSD 11.2 | PASS | PASS | SKIPPED | SKIPPED | PASS | +------------------+-------------------+--------------+------------------+----------------+--------------------+ | Ubuntu 18.04 | PASS | PASS | PASS | PASS | PASS | +------------------+-------------------+--------------+------------------+----------------+--------------------+ | openSUSE Leap 15 | SKIPPED | PASS | PASS | SKIPPED | PASS | +------------------+-------------------+--------------+------------------+----------------+--------------------+ | Fedora 31 | SKIPPED | PASS | PASS | SKIPPED | PASS | +------------------+-------------------+--------------+------------------+----------------+--------------------+ | CentOS 8 | SKIPPED | PASS | PASS | SKIPPED | PASS | +------------------+-------------------+--------------+------------------+----------------+--------------------+ FreeBSD 11.2 Kernel: 11.2 GCC: 8.3 Ubuntu 18.04 Kernel: 4.15.0-generic GCC: 7.4 openSUSE Leap 15 Kernel: 4.12.14 GCC: 7.4.1 Fedora 31 Kernel: 5.3.16 GCC: 9.2.1 CentOS 8 Kernel: 4.18.0.el8_0 GCC: 8.2 https://lab.dpdk.org/results/dashboard/patchsets/9045/ UNH-IOL DPDK Community Lab To manage your email subscriptions visit: https://lab.dpdk.org/results/dashboard/preferences/subscriptions/
[-- Attachment #1: Type: text/plain, Size: 1156 bytes --] Test-Label: iol-nxp-Performance Test-Status: SUCCESS http://dpdk.org/patch/64177 _Performance Testing PASS_ Submitter: Haiyue Wang <haiyue.wang@intel.com> Date: Friday, January 03 2020 02:02:04 DPDK git baseline: Repo:dpdk Branch: master CommitID:2e088e6f94b773233c06440763c1be43d0d705b3 64177 --> performance testing pass Test environment and result as below: Ubuntu 18.04 Kernel: 4.14.122 GCC: 7.3.0 NIC: NXP LS2088A 10000 Mbps Target: x86_64-native-linuxapp-gcc Fail/Total: 0/2 Detail performance results: +------------+---------+-------------------------------------+ | frame_size | txd/rxd | throughput difference from expected | +============+=========+=====================================+ | 64 | 512 | 0.101 | +------------+---------+-------------------------------------+ | 64 | 2048 | 0.241 | +------------+---------+-------------------------------------+ https://lab.dpdk.org/results/dashboard/patchsets/9045/ UNH-IOL DPDK Community Lab To manage your email subscriptions visit: https://lab.dpdk.org/results/dashboard/preferences/subscriptions/
[-- Attachment #1: Type: text/plain, Size: 3900 bytes --] Test-Label: iol-mellanox-Performance Test-Status: SUCCESS http://dpdk.org/patch/64177 _Performance Testing PASS_ Submitter: Haiyue Wang <haiyue.wang@intel.com> Date: Friday, January 03 2020 02:02:04 DPDK git baseline: Repo:dpdk Branch: master CommitID:2e088e6f94b773233c06440763c1be43d0d705b3 64177 --> performance testing pass Test environment and result as below: Ubuntu 18.04 Kernel: 4.15.0-generic GCC: 7.4 NIC: Mellanox ConnectX-4 Lx 25000 Mbps Target: x86_64-native-linuxapp-gcc Fail/Total: 0/6 Detail performance results: +------------+---------+-------------------------------------+ | frame_size | txd/rxd | throughput difference from expected | +============+=========+=====================================+ | 64 | 256 | 0.248 | +------------+---------+-------------------------------------+ | 128 | 256 | 0.154 | +------------+---------+-------------------------------------+ | 256 | 256 | -0.011 | +------------+---------+-------------------------------------+ | 512 | 256 | 0.002 | +------------+---------+-------------------------------------+ | 1024 | 256 | 0.005 | +------------+---------+-------------------------------------+ | 1518 | 256 | -0.005 | +------------+---------+-------------------------------------+ Ubuntu 18.04 Kernel: 4.15.0-generic GCC: 7.4 NIC: Mellanox ConnectX-4 Lx 40000 Mbps Target: x86_64-native-linuxapp-gcc Fail/Total: 0/6 Detail performance results: +------------+---------+-------------------------------------+ | frame_size | txd/rxd | throughput difference from expected | +============+=========+=====================================+ | 64 | 256 | -0.410 | +------------+---------+-------------------------------------+ | 128 | 256 | 0.114 | +------------+---------+-------------------------------------+ | 256 | 256 | -0.039 | +------------+---------+-------------------------------------+ | 512 | 256 | -0.008 | +------------+---------+-------------------------------------+ | 1024 | 256 | 0.003 | +------------+---------+-------------------------------------+ | 1518 | 256 | -0.018 | +------------+---------+-------------------------------------+ Ubuntu 18.04 Kernel: 4.15.0-generic GCC: 7.4 NIC: Mellanox ConnectX-5 100000 Mbps Target: x86_64-native-linuxapp-gcc Fail/Total: 0/6 Detail performance results: +------------+---------+-------------------------------------+ | frame_size | txd/rxd | throughput difference from expected | +============+=========+=====================================+ | 64 | 256 | 0.374 | +------------+---------+-------------------------------------+ | 128 | 256 | -0.082 | +------------+---------+-------------------------------------+ | 256 | 256 | 0.070 | +------------+---------+-------------------------------------+ | 512 | 256 | 0.022 | +------------+---------+-------------------------------------+ | 1024 | 256 | -0.040 | +------------+---------+-------------------------------------+ | 1518 | 256 | 0.020 | +------------+---------+-------------------------------------+ https://lab.dpdk.org/results/dashboard/patchsets/9045/ UNH-IOL DPDK Community Lab To manage your email subscriptions visit: https://lab.dpdk.org/results/dashboard/preferences/subscriptions/
[-- Attachment #1: Type: text/plain, Size: 1337 bytes --] Test-Label: iol-intel-Performance Test-Status: SUCCESS http://dpdk.org/patch/64177 _Performance Testing PASS_ Submitter: Haiyue Wang <haiyue.wang@intel.com> Date: Friday, January 03 2020 02:02:04 DPDK git baseline: Repo:dpdk Branch: master CommitID:2e088e6f94b773233c06440763c1be43d0d705b3 64177 --> performance testing pass Test environment and result as below: Ubuntu 18.04 Kernel: 4.15.0-generic GCC: 7.4 NIC: Intel Corporation Ethernet Converged Network Adapter 82599ES 10000 Mbps Target: x86_64-native-linuxapp-gcc Fail/Total: 0/3 Detail performance results: +------------+---------+-------------------------------------+ | frame_size | txd/rxd | throughput difference from expected | +============+=========+=====================================+ | 64 | 128 | 0.269 | +------------+---------+-------------------------------------+ | 64 | 512 | 0.551 | +------------+---------+-------------------------------------+ | 64 | 2048 | -0.307 | +------------+---------+-------------------------------------+ https://lab.dpdk.org/results/dashboard/patchsets/9045/ UNH-IOL DPDK Community Lab To manage your email subscriptions visit: https://lab.dpdk.org/results/dashboard/preferences/subscriptions/