Test-Label: checkpatch Test-Status: SUCCESS http://dpdk.org/patch/64182 _coding style OK_
[-- Attachment #1: Type: text/plain, Size: 1983 bytes --] Test-Label: iol-intel-Performance Test-Status: SUCCESS http://dpdk.org/patch/64182 _Performance Testing PASS_ Submitter: Xiao Wang <xiao.w.wang@intel.com> Date: Friday, January 03 2020 18:36:21 DPDK git baseline: Repo:dpdk Branch: master CommitID:2e088e6f94b773233c06440763c1be43d0d705b3 64182 --> performance testing pass Test environment and result as below: Ubuntu 18.04 Kernel: 4.15.0-generic GCC: 7.4 NIC: Intel Corporation Ethernet Converged Network Adapter 82599ES 10000 Mbps Target: x86_64-native-linuxapp-gcc Fail/Total: 0/3 Detail performance results: +------------+---------+-------------------------------------+ | frame_size | txd/rxd | throughput difference from expected | +============+=========+=====================================+ | 64 | 128 | -0.019 | +------------+---------+-------------------------------------+ | 64 | 512 | 0.502 | +------------+---------+-------------------------------------+ | 64 | 2048 | -0.370 | +------------+---------+-------------------------------------+ Ubuntu 18.04 Kernel: 4.15.0-generic GCC: 7.4 NIC: Intel Corporation Ethernet Converged Network Adapter XL710-QDA2 40000 Mbps Target: x86_64-native-linuxapp-gcc Fail/Total: 0/2 Detail performance results: +------------+---------+-------------------------------------+ | frame_size | txd/rxd | throughput difference from expected | +============+=========+=====================================+ | 64 | 512 | 0.127 | +------------+---------+-------------------------------------+ | 64 | 2048 | 0.068 | +------------+---------+-------------------------------------+ https://lab.dpdk.org/results/dashboard/patchsets/9050/ UNH-IOL DPDK Community Lab To manage your email subscriptions visit: https://lab.dpdk.org/results/dashboard/preferences/subscriptions/
[-- Attachment #1: Type: text/plain, Size: 1154 bytes --] Test-Label: iol-nxp-Performance Test-Status: SUCCESS http://dpdk.org/patch/64182 _Performance Testing PASS_ Submitter: Xiao Wang <xiao.w.wang@intel.com> Date: Friday, January 03 2020 18:36:21 DPDK git baseline: Repo:dpdk Branch: master CommitID:2e088e6f94b773233c06440763c1be43d0d705b3 64182 --> performance testing pass Test environment and result as below: Ubuntu 18.04 Kernel: 4.14.122 GCC: 7.3.0 NIC: NXP LS2088A 10000 Mbps Target: x86_64-native-linuxapp-gcc Fail/Total: 0/2 Detail performance results: +------------+---------+-------------------------------------+ | frame_size | txd/rxd | throughput difference from expected | +============+=========+=====================================+ | 64 | 512 | -0.008 | +------------+---------+-------------------------------------+ | 64 | 2048 | 0.147 | +------------+---------+-------------------------------------+ https://lab.dpdk.org/results/dashboard/patchsets/9050/ UNH-IOL DPDK Community Lab To manage your email subscriptions visit: https://lab.dpdk.org/results/dashboard/preferences/subscriptions/
[-- Attachment #1: Type: text/plain, Size: 3898 bytes --] Test-Label: iol-mellanox-Performance Test-Status: SUCCESS http://dpdk.org/patch/64182 _Performance Testing PASS_ Submitter: Xiao Wang <xiao.w.wang@intel.com> Date: Friday, January 03 2020 18:36:21 DPDK git baseline: Repo:dpdk Branch: master CommitID:2e088e6f94b773233c06440763c1be43d0d705b3 64182 --> performance testing pass Test environment and result as below: Ubuntu 18.04 Kernel: 4.15.0-generic GCC: 7.4 NIC: Mellanox ConnectX-4 Lx 25000 Mbps Target: x86_64-native-linuxapp-gcc Fail/Total: 0/6 Detail performance results: +------------+---------+-------------------------------------+ | frame_size | txd/rxd | throughput difference from expected | +============+=========+=====================================+ | 64 | 256 | 0.063 | +------------+---------+-------------------------------------+ | 128 | 256 | -0.125 | +------------+---------+-------------------------------------+ | 256 | 256 | -0.001 | +------------+---------+-------------------------------------+ | 512 | 256 | -0.006 | +------------+---------+-------------------------------------+ | 1024 | 256 | 0.001 | +------------+---------+-------------------------------------+ | 1518 | 256 | 0.001 | +------------+---------+-------------------------------------+ Ubuntu 18.04 Kernel: 4.15.0-generic GCC: 7.4 NIC: Mellanox ConnectX-5 100000 Mbps Target: x86_64-native-linuxapp-gcc Fail/Total: 0/6 Detail performance results: +------------+---------+-------------------------------------+ | frame_size | txd/rxd | throughput difference from expected | +============+=========+=====================================+ | 64 | 256 | -0.206 | +------------+---------+-------------------------------------+ | 128 | 256 | -0.061 | +------------+---------+-------------------------------------+ | 256 | 256 | -0.006 | +------------+---------+-------------------------------------+ | 512 | 256 | -0.082 | +------------+---------+-------------------------------------+ | 1024 | 256 | -0.054 | +------------+---------+-------------------------------------+ | 1518 | 256 | 0.018 | +------------+---------+-------------------------------------+ Ubuntu 18.04 Kernel: 4.15.0-generic GCC: 7.4 NIC: Mellanox ConnectX-4 Lx 40000 Mbps Target: x86_64-native-linuxapp-gcc Fail/Total: 0/6 Detail performance results: +------------+---------+-------------------------------------+ | frame_size | txd/rxd | throughput difference from expected | +============+=========+=====================================+ | 64 | 256 | -0.156 | +------------+---------+-------------------------------------+ | 128 | 256 | 0.029 | +------------+---------+-------------------------------------+ | 256 | 256 | -0.067 | +------------+---------+-------------------------------------+ | 512 | 256 | -0.001 | +------------+---------+-------------------------------------+ | 1024 | 256 | 0 | +------------+---------+-------------------------------------+ | 1518 | 256 | -0.002 | +------------+---------+-------------------------------------+ https://lab.dpdk.org/results/dashboard/patchsets/9050/ UNH-IOL DPDK Community Lab To manage your email subscriptions visit: https://lab.dpdk.org/results/dashboard/preferences/subscriptions/
[-- Attachment #1: Type: text/plain, Size: 2214 bytes --] Test-Label: iol-testing Test-Status: SUCCESS http://dpdk.org/patch/64182 _Testing PASS_ Submitter: Xiao Wang <xiao.w.wang@intel.com> Date: Friday, January 03 2020 18:36:21 DPDK git baseline: Repo:dpdk Branch: master CommitID:2e088e6f94b773233c06440763c1be43d0d705b3 64182 --> testing pass Test environment and result as below: +------------------+-------------------+------------------+--------------+--------------------+----------------+ | Environment | dpdk_compile_spdk | dpdk_compile_ovs | dpdk_compile | dpdk_meson_compile | dpdk_unit_test | +==================+===================+==================+==============+====================+================+ | Ubuntu 18.04 | PASS | PASS | PASS | PASS | PASS | +------------------+-------------------+------------------+--------------+--------------------+----------------+ | FreeBSD 11.2 | PASS | SKIPPED | PASS | PASS | SKIPPED | +------------------+-------------------+------------------+--------------+--------------------+----------------+ | openSUSE Leap 15 | SKIPPED | PASS | PASS | PASS | SKIPPED | +------------------+-------------------+------------------+--------------+--------------------+----------------+ | Fedora 31 | SKIPPED | PASS | PASS | PASS | SKIPPED | +------------------+-------------------+------------------+--------------+--------------------+----------------+ | CentOS 8 | SKIPPED | PASS | PASS | PASS | SKIPPED | +------------------+-------------------+------------------+--------------+--------------------+----------------+ Ubuntu 18.04 Kernel: 4.15.0-generic GCC: 7.4 FreeBSD 11.2 Kernel: 11.2 GCC: 8.3 openSUSE Leap 15 Kernel: 4.12.14 GCC: 7.4.1 Fedora 31 Kernel: 5.3.16 GCC: 9.2.1 CentOS 8 Kernel: 4.18.0.el8_0 GCC: 8.2 https://lab.dpdk.org/results/dashboard/patchsets/9050/ UNH-IOL DPDK Community Lab To manage your email subscriptions visit: https://lab.dpdk.org/results/dashboard/preferences/subscriptions/