* [dpdk-test-report] |SUCCESS| pw64277 [PATCH] ethdev: rte_eth_dev_callback_unregister() fails with cb_arg == -1
@ 2020-01-07 16:30 dpdklab
0 siblings, 0 replies; 5+ messages in thread
From: dpdklab @ 2020-01-07 16:30 UTC (permalink / raw)
To: Test Report; +Cc: dpdk-test-reports
[-- Attachment #1: Type: text/plain, Size: 2218 bytes --]
Test-Label: iol-testing
Test-Status: SUCCESS
http://dpdk.org/patch/64277
_Testing PASS_
Submitter: Ricardo Roldan <rroldan@bequant.com>
Date: Tuesday, January 07 2020 15:51:36
DPDK git baseline: Repo:dpdk
Branch: master
CommitID:10060dba6455461088d24e03d3cfeba639d53022
64277 --> testing pass
Test environment and result as below:
+------------------+-------------------+--------------------+--------------+----------------+------------------+
| Environment | dpdk_compile_spdk | dpdk_meson_compile | dpdk_compile | dpdk_unit_test | dpdk_compile_ovs |
+==================+===================+====================+==============+================+==================+
| Ubuntu 18.04 | PASS | PASS | PASS | PASS | PASS |
+------------------+-------------------+--------------------+--------------+----------------+------------------+
| FreeBSD 11.2 | PASS | PASS | PASS | SKIPPED | SKIPPED |
+------------------+-------------------+--------------------+--------------+----------------+------------------+
| openSUSE Leap 15 | SKIPPED | PASS | PASS | SKIPPED | PASS |
+------------------+-------------------+--------------------+--------------+----------------+------------------+
| Fedora 31 | SKIPPED | PASS | PASS | SKIPPED | PASS |
+------------------+-------------------+--------------------+--------------+----------------+------------------+
| CentOS 8 | SKIPPED | PASS | PASS | SKIPPED | PASS |
+------------------+-------------------+--------------------+--------------+----------------+------------------+
Ubuntu 18.04
Kernel: 4.15.0-generic
GCC: 7.4
FreeBSD 11.2
Kernel: 11.2
GCC: 8.3
openSUSE Leap 15
Kernel: 4.12.14
GCC: 7.4.1
Fedora 31
Kernel: 5.3.16
GCC: 9.2.1
CentOS 8
Kernel: 4.18.0.el8_0
GCC: 8.2
https://lab.dpdk.org/results/dashboard/patchsets/9085/
UNH-IOL DPDK Community Lab
To manage your email subscriptions visit:
https://lab.dpdk.org/results/dashboard/preferences/subscriptions/
^ permalink raw reply [flat|nested] 5+ messages in thread
* [dpdk-test-report] |SUCCESS| pw64277 [PATCH] ethdev: rte_eth_dev_callback_unregister() fails with cb_arg == -1
@ 2020-01-07 17:58 dpdklab
0 siblings, 0 replies; 5+ messages in thread
From: dpdklab @ 2020-01-07 17:58 UTC (permalink / raw)
To: Ruoshan Shi, Test Report; +Cc: dpdk-test-reports
[-- Attachment #1: Type: text/plain, Size: 1158 bytes --]
Test-Label: iol-nxp-Performance
Test-Status: SUCCESS
http://dpdk.org/patch/64277
_Performance Testing PASS_
Submitter: Ricardo Roldan <rroldan@bequant.com>
Date: Tuesday, January 07 2020 15:51:36
DPDK git baseline: Repo:dpdk
Branch: master
CommitID:10060dba6455461088d24e03d3cfeba639d53022
64277 --> performance testing pass
Test environment and result as below:
Ubuntu 18.04
Kernel: 4.14.122
GCC: 7.3.0
NIC: NXP LS2088A 10000 Mbps
Target: x86_64-native-linuxapp-gcc
Fail/Total: 0/2
Detail performance results:
+------------+---------+-------------------------------------+
| frame_size | txd/rxd | throughput difference from expected |
+============+=========+=====================================+
| 64 | 512 | 0.269 |
+------------+---------+-------------------------------------+
| 64 | 2048 | -0.213 |
+------------+---------+-------------------------------------+
https://lab.dpdk.org/results/dashboard/patchsets/9085/
UNH-IOL DPDK Community Lab
To manage your email subscriptions visit:
https://lab.dpdk.org/results/dashboard/preferences/subscriptions/
^ permalink raw reply [flat|nested] 5+ messages in thread
* [dpdk-test-report] |SUCCESS| pw64277 [PATCH] ethdev: rte_eth_dev_callback_unregister() fails with cb_arg == -1
@ 2020-01-07 17:58 dpdklab
0 siblings, 0 replies; 5+ messages in thread
From: dpdklab @ 2020-01-07 17:58 UTC (permalink / raw)
To: Ali Alnubani, Test Report; +Cc: dpdk-test-reports
[-- Attachment #1: Type: text/plain, Size: 3902 bytes --]
Test-Label: iol-mellanox-Performance
Test-Status: SUCCESS
http://dpdk.org/patch/64277
_Performance Testing PASS_
Submitter: Ricardo Roldan <rroldan@bequant.com>
Date: Tuesday, January 07 2020 15:51:36
DPDK git baseline: Repo:dpdk
Branch: master
CommitID:10060dba6455461088d24e03d3cfeba639d53022
64277 --> performance testing pass
Test environment and result as below:
Ubuntu 18.04
Kernel: 4.15.0-generic
GCC: 7.4
NIC: Mellanox ConnectX-4 Lx 25000 Mbps
Target: x86_64-native-linuxapp-gcc
Fail/Total: 0/6
Detail performance results:
+------------+---------+-------------------------------------+
| frame_size | txd/rxd | throughput difference from expected |
+============+=========+=====================================+
| 64 | 256 | 0.063 |
+------------+---------+-------------------------------------+
| 128 | 256 | -0.215 |
+------------+---------+-------------------------------------+
| 256 | 256 | 0.002 |
+------------+---------+-------------------------------------+
| 512 | 256 | 0.010 |
+------------+---------+-------------------------------------+
| 1024 | 256 | 0.004 |
+------------+---------+-------------------------------------+
| 1518 | 256 | 0.002 |
+------------+---------+-------------------------------------+
Ubuntu 18.04
Kernel: 4.15.0-generic
GCC: 7.4
NIC: Mellanox ConnectX-5 100000 Mbps
Target: x86_64-native-linuxapp-gcc
Fail/Total: 0/6
Detail performance results:
+------------+---------+-------------------------------------+
| frame_size | txd/rxd | throughput difference from expected |
+============+=========+=====================================+
| 64 | 256 | 0.245 |
+------------+---------+-------------------------------------+
| 128 | 256 | 0.367 |
+------------+---------+-------------------------------------+
| 256 | 256 | -0.095 |
+------------+---------+-------------------------------------+
| 512 | 256 | 0.126 |
+------------+---------+-------------------------------------+
| 1024 | 256 | -0.028 |
+------------+---------+-------------------------------------+
| 1518 | 256 | 0.016 |
+------------+---------+-------------------------------------+
Ubuntu 18.04
Kernel: 4.15.0-generic
GCC: 7.4
NIC: Mellanox ConnectX-4 Lx 40000 Mbps
Target: x86_64-native-linuxapp-gcc
Fail/Total: 0/6
Detail performance results:
+------------+---------+-------------------------------------+
| frame_size | txd/rxd | throughput difference from expected |
+============+=========+=====================================+
| 64 | 256 | 0.299 |
+------------+---------+-------------------------------------+
| 128 | 256 | -0.173 |
+------------+---------+-------------------------------------+
| 256 | 256 | 0.022 |
+------------+---------+-------------------------------------+
| 512 | 256 | -0.001 |
+------------+---------+-------------------------------------+
| 1024 | 256 | 0.014 |
+------------+---------+-------------------------------------+
| 1518 | 256 | 0.002 |
+------------+---------+-------------------------------------+
https://lab.dpdk.org/results/dashboard/patchsets/9085/
UNH-IOL DPDK Community Lab
To manage your email subscriptions visit:
https://lab.dpdk.org/results/dashboard/preferences/subscriptions/
^ permalink raw reply [flat|nested] 5+ messages in thread
* [dpdk-test-report] |SUCCESS| pw64277 [PATCH] ethdev: rte_eth_dev_callback_unregister() fails with cb_arg == -1
@ 2020-01-07 16:25 dpdklab
0 siblings, 0 replies; 5+ messages in thread
From: dpdklab @ 2020-01-07 16:25 UTC (permalink / raw)
To: Test Report; +Cc: dpdk-test-reports
[-- Attachment #1: Type: text/plain, Size: 1987 bytes --]
Test-Label: iol-intel-Performance
Test-Status: SUCCESS
http://dpdk.org/patch/64277
_Performance Testing PASS_
Submitter: Ricardo Roldan <rroldan@bequant.com>
Date: Tuesday, January 07 2020 15:51:36
DPDK git baseline: Repo:dpdk
Branch: master
CommitID:10060dba6455461088d24e03d3cfeba639d53022
64277 --> performance testing pass
Test environment and result as below:
Ubuntu 18.04
Kernel: 4.15.0-generic
GCC: 7.4
NIC: Intel Corporation Ethernet Converged Network Adapter 82599ES 10000 Mbps
Target: x86_64-native-linuxapp-gcc
Fail/Total: 0/3
Detail performance results:
+------------+---------+-------------------------------------+
| frame_size | txd/rxd | throughput difference from expected |
+============+=========+=====================================+
| 64 | 128 | 0.175 |
+------------+---------+-------------------------------------+
| 64 | 512 | -0.441 |
+------------+---------+-------------------------------------+
| 64 | 2048 | 0.062 |
+------------+---------+-------------------------------------+
Ubuntu 18.04
Kernel: 4.15.0-generic
GCC: 7.4
NIC: Intel Corporation Ethernet Converged Network Adapter XL710-QDA2 40000 Mbps
Target: x86_64-native-linuxapp-gcc
Fail/Total: 0/2
Detail performance results:
+------------+---------+-------------------------------------+
| frame_size | txd/rxd | throughput difference from expected |
+============+=========+=====================================+
| 64 | 512 | 0.469 |
+------------+---------+-------------------------------------+
| 64 | 2048 | 0.241 |
+------------+---------+-------------------------------------+
https://lab.dpdk.org/results/dashboard/patchsets/9085/
UNH-IOL DPDK Community Lab
To manage your email subscriptions visit:
https://lab.dpdk.org/results/dashboard/preferences/subscriptions/
^ permalink raw reply [flat|nested] 5+ messages in thread
* [dpdk-test-report] |SUCCESS| pw64277 [PATCH] ethdev: rte_eth_dev_callback_unregister() fails with cb_arg == -1
[not found] <20200107155136.70237-1-rroldan@bequant.com>
@ 2020-01-07 15:52 ` checkpatch
0 siblings, 0 replies; 5+ messages in thread
From: checkpatch @ 2020-01-07 15:52 UTC (permalink / raw)
To: test-report
Test-Label: checkpatch
Test-Status: SUCCESS
http://dpdk.org/patch/64277
_coding style OK_
^ permalink raw reply [flat|nested] 5+ messages in thread
end of thread, other threads:[~2020-01-07 17:59 UTC | newest]
Thread overview: 5+ messages (download: mbox.gz / follow: Atom feed)
-- links below jump to the message on this page --
2020-01-07 16:30 [dpdk-test-report] |SUCCESS| pw64277 [PATCH] ethdev: rte_eth_dev_callback_unregister() fails with cb_arg == -1 dpdklab
-- strict thread matches above, loose matches on Subject: below --
2020-01-07 17:58 dpdklab
2020-01-07 17:58 dpdklab
2020-01-07 16:25 dpdklab
[not found] <20200107155136.70237-1-rroldan@bequant.com>
2020-01-07 15:52 ` checkpatch
This is a public inbox, see mirroring instructions
for how to clone and mirror all data and code used for this inbox;
as well as URLs for NNTP newsgroup(s).