* [dpdk-test-report] |SUCCESS| pw64280 [PATCH] net/af_xdp: use single-prod-and-cons ring
@ 2020-01-08 2:31 dpdklab
0 siblings, 0 replies; 5+ messages in thread
From: dpdklab @ 2020-01-08 2:31 UTC (permalink / raw)
To: Test Report; +Cc: dpdk-test-reports
[-- Attachment #1: Type: text/plain, Size: 2217 bytes --]
Test-Label: iol-testing
Test-Status: SUCCESS
http://dpdk.org/patch/64280
_Testing PASS_
Submitter: Xiao Wang <xiao.w.wang@intel.com>
Date: Wednesday, January 08 2020 13:37:08
DPDK git baseline: Repo:dpdk
Branch: master
CommitID:10060dba6455461088d24e03d3cfeba639d53022
64280 --> testing pass
Test environment and result as below:
+------------------+-------------------+--------------+------------------+----------------+--------------------+
| Environment | dpdk_compile_spdk | dpdk_compile | dpdk_compile_ovs | dpdk_unit_test | dpdk_meson_compile |
+==================+===================+==============+==================+================+====================+
| Ubuntu 18.04 | PASS | PASS | PASS | PASS | PASS |
+------------------+-------------------+--------------+------------------+----------------+--------------------+
| FreeBSD 11.2 | PASS | PASS | SKIPPED | SKIPPED | PASS |
+------------------+-------------------+--------------+------------------+----------------+--------------------+
| openSUSE Leap 15 | SKIPPED | PASS | PASS | SKIPPED | PASS |
+------------------+-------------------+--------------+------------------+----------------+--------------------+
| Fedora 31 | SKIPPED | PASS | PASS | SKIPPED | PASS |
+------------------+-------------------+--------------+------------------+----------------+--------------------+
| CentOS 8 | SKIPPED | PASS | PASS | SKIPPED | PASS |
+------------------+-------------------+--------------+------------------+----------------+--------------------+
Ubuntu 18.04
Kernel: 4.15.0-generic
GCC: 7.4
FreeBSD 11.2
Kernel: 11.2
GCC: 8.3
openSUSE Leap 15
Kernel: 4.12.14
GCC: 7.4.1
Fedora 31
Kernel: 5.3.16
GCC: 9.2.1
CentOS 8
Kernel: 4.18.0.el8_0
GCC: 8.2
https://lab.dpdk.org/results/dashboard/patchsets/9088/
UNH-IOL DPDK Community Lab
To manage your email subscriptions visit:
https://lab.dpdk.org/results/dashboard/preferences/subscriptions/
^ permalink raw reply [flat|nested] 5+ messages in thread
* [dpdk-test-report] |SUCCESS| pw64280 [PATCH] net/af_xdp: use single-prod-and-cons ring
@ 2020-01-08 2:52 dpdklab
0 siblings, 0 replies; 5+ messages in thread
From: dpdklab @ 2020-01-08 2:52 UTC (permalink / raw)
To: Ali Alnubani, Test Report; +Cc: dpdk-test-reports
[-- Attachment #1: Type: text/plain, Size: 3901 bytes --]
Test-Label: iol-mellanox-Performance
Test-Status: SUCCESS
http://dpdk.org/patch/64280
_Performance Testing PASS_
Submitter: Xiao Wang <xiao.w.wang@intel.com>
Date: Wednesday, January 08 2020 13:37:08
DPDK git baseline: Repo:dpdk
Branch: master
CommitID:10060dba6455461088d24e03d3cfeba639d53022
64280 --> performance testing pass
Test environment and result as below:
Ubuntu 18.04
Kernel: 4.15.0-generic
GCC: 7.4
NIC: Mellanox ConnectX-5 100000 Mbps
Target: x86_64-native-linuxapp-gcc
Fail/Total: 0/6
Detail performance results:
+------------+---------+-------------------------------------+
| frame_size | txd/rxd | throughput difference from expected |
+============+=========+=====================================+
| 64 | 256 | -0.095 |
+------------+---------+-------------------------------------+
| 128 | 256 | 0.168 |
+------------+---------+-------------------------------------+
| 256 | 256 | 0.029 |
+------------+---------+-------------------------------------+
| 512 | 256 | 0.086 |
+------------+---------+-------------------------------------+
| 1024 | 256 | 0.044 |
+------------+---------+-------------------------------------+
| 1518 | 256 | 0.025 |
+------------+---------+-------------------------------------+
Ubuntu 18.04
Kernel: 4.15.0-generic
GCC: 7.4
NIC: Mellanox ConnectX-4 Lx 40000 Mbps
Target: x86_64-native-linuxapp-gcc
Fail/Total: 0/6
Detail performance results:
+------------+---------+-------------------------------------+
| frame_size | txd/rxd | throughput difference from expected |
+============+=========+=====================================+
| 64 | 256 | -0.061 |
+------------+---------+-------------------------------------+
| 128 | 256 | -0.026 |
+------------+---------+-------------------------------------+
| 256 | 256 | 0.021 |
+------------+---------+-------------------------------------+
| 512 | 256 | 0.003 |
+------------+---------+-------------------------------------+
| 1024 | 256 | 0.004 |
+------------+---------+-------------------------------------+
| 1518 | 256 | 0.002 |
+------------+---------+-------------------------------------+
Ubuntu 18.04
Kernel: 4.15.0-generic
GCC: 7.4
NIC: Mellanox ConnectX-4 Lx 25000 Mbps
Target: x86_64-native-linuxapp-gcc
Fail/Total: 0/6
Detail performance results:
+------------+---------+-------------------------------------+
| frame_size | txd/rxd | throughput difference from expected |
+============+=========+=====================================+
| 64 | 256 | 0.025 |
+------------+---------+-------------------------------------+
| 128 | 256 | 0.113 |
+------------+---------+-------------------------------------+
| 256 | 256 | 0.006 |
+------------+---------+-------------------------------------+
| 512 | 256 | -0.016 |
+------------+---------+-------------------------------------+
| 1024 | 256 | 0 |
+------------+---------+-------------------------------------+
| 1518 | 256 | -0.002 |
+------------+---------+-------------------------------------+
https://lab.dpdk.org/results/dashboard/patchsets/9088/
UNH-IOL DPDK Community Lab
To manage your email subscriptions visit:
https://lab.dpdk.org/results/dashboard/preferences/subscriptions/
^ permalink raw reply [flat|nested] 5+ messages in thread
* [dpdk-test-report] |SUCCESS| pw64280 [PATCH] net/af_xdp: use single-prod-and-cons ring
@ 2020-01-08 2:52 dpdklab
0 siblings, 0 replies; 5+ messages in thread
From: dpdklab @ 2020-01-08 2:52 UTC (permalink / raw)
To: Ruoshan Shi, Test Report; +Cc: dpdk-test-reports
[-- Attachment #1: Type: text/plain, Size: 1157 bytes --]
Test-Label: iol-nxp-Performance
Test-Status: SUCCESS
http://dpdk.org/patch/64280
_Performance Testing PASS_
Submitter: Xiao Wang <xiao.w.wang@intel.com>
Date: Wednesday, January 08 2020 13:37:08
DPDK git baseline: Repo:dpdk
Branch: master
CommitID:10060dba6455461088d24e03d3cfeba639d53022
64280 --> performance testing pass
Test environment and result as below:
Ubuntu 18.04
Kernel: 4.14.122
GCC: 7.3.0
NIC: NXP LS2088A 10000 Mbps
Target: x86_64-native-linuxapp-gcc
Fail/Total: 0/2
Detail performance results:
+------------+---------+-------------------------------------+
| frame_size | txd/rxd | throughput difference from expected |
+============+=========+=====================================+
| 64 | 512 | 0.304 |
+------------+---------+-------------------------------------+
| 64 | 2048 | -0.283 |
+------------+---------+-------------------------------------+
https://lab.dpdk.org/results/dashboard/patchsets/9088/
UNH-IOL DPDK Community Lab
To manage your email subscriptions visit:
https://lab.dpdk.org/results/dashboard/preferences/subscriptions/
^ permalink raw reply [flat|nested] 5+ messages in thread
* [dpdk-test-report] |SUCCESS| pw64280 [PATCH] net/af_xdp: use single-prod-and-cons ring
@ 2020-01-08 2:25 dpdklab
0 siblings, 0 replies; 5+ messages in thread
From: dpdklab @ 2020-01-08 2:25 UTC (permalink / raw)
To: Test Report; +Cc: dpdk-test-reports
[-- Attachment #1: Type: text/plain, Size: 1986 bytes --]
Test-Label: iol-intel-Performance
Test-Status: SUCCESS
http://dpdk.org/patch/64280
_Performance Testing PASS_
Submitter: Xiao Wang <xiao.w.wang@intel.com>
Date: Wednesday, January 08 2020 13:37:08
DPDK git baseline: Repo:dpdk
Branch: master
CommitID:10060dba6455461088d24e03d3cfeba639d53022
64280 --> performance testing pass
Test environment and result as below:
Ubuntu 18.04
Kernel: 4.15.0-generic
GCC: 7.4
NIC: Intel Corporation Ethernet Converged Network Adapter 82599ES 10000 Mbps
Target: x86_64-native-linuxapp-gcc
Fail/Total: 0/3
Detail performance results:
+------------+---------+-------------------------------------+
| frame_size | txd/rxd | throughput difference from expected |
+============+=========+=====================================+
| 64 | 128 | 0.099 |
+------------+---------+-------------------------------------+
| 64 | 512 | -0.353 |
+------------+---------+-------------------------------------+
| 64 | 2048 | 0.268 |
+------------+---------+-------------------------------------+
Ubuntu 18.04
Kernel: 4.15.0-generic
GCC: 7.4
NIC: Intel Corporation Ethernet Converged Network Adapter XL710-QDA2 40000 Mbps
Target: x86_64-native-linuxapp-gcc
Fail/Total: 0/2
Detail performance results:
+------------+---------+-------------------------------------+
| frame_size | txd/rxd | throughput difference from expected |
+============+=========+=====================================+
| 64 | 512 | 0.271 |
+------------+---------+-------------------------------------+
| 64 | 2048 | 0.233 |
+------------+---------+-------------------------------------+
https://lab.dpdk.org/results/dashboard/patchsets/9088/
UNH-IOL DPDK Community Lab
To manage your email subscriptions visit:
https://lab.dpdk.org/results/dashboard/preferences/subscriptions/
^ permalink raw reply [flat|nested] 5+ messages in thread
* [dpdk-test-report] |SUCCESS| pw64280 [PATCH] net/af_xdp: use single-prod-and-cons ring
[not found] <20200108133708.51909-1-xiao.w.wang@intel.com>
@ 2020-01-08 1:38 ` checkpatch
0 siblings, 0 replies; 5+ messages in thread
From: checkpatch @ 2020-01-08 1:38 UTC (permalink / raw)
To: test-report
Test-Label: checkpatch
Test-Status: SUCCESS
http://dpdk.org/patch/64280
_coding style OK_
^ permalink raw reply [flat|nested] 5+ messages in thread
end of thread, other threads:[~2020-01-08 2:52 UTC | newest]
Thread overview: 5+ messages (download: mbox.gz / follow: Atom feed)
-- links below jump to the message on this page --
2020-01-08 2:31 [dpdk-test-report] |SUCCESS| pw64280 [PATCH] net/af_xdp: use single-prod-and-cons ring dpdklab
-- strict thread matches above, loose matches on Subject: below --
2020-01-08 2:52 dpdklab
2020-01-08 2:52 dpdklab
2020-01-08 2:25 dpdklab
[not found] <20200108133708.51909-1-xiao.w.wang@intel.com>
2020-01-08 1:38 ` checkpatch
This is a public inbox, see mirroring instructions
for how to clone and mirror all data and code used for this inbox;
as well as URLs for NNTP newsgroup(s).