* [dpdk-test-report] |SUCCESS| pw64402-64405 [PATCH] [v8, 1/4] net/i40e: cleanup Tx buffers
@ 2020-01-10 10:48 dpdklab
0 siblings, 0 replies; 4+ messages in thread
From: dpdklab @ 2020-01-10 10:48 UTC (permalink / raw)
To: Test Report; +Cc: dpdk-test-reports
[-- Attachment #1: Type: text/plain, Size: 2488 bytes --]
Test-Label: iol-testing
Test-Status: SUCCESS
http://dpdk.org/patch/64402
_Testing PASS_
Submitter: Di, ChenxuX <chenxux.di@intel.com>
Date: Friday, January 10 2020 09:58:57
DPDK git baseline: Repo:dpdk
Branch: master
CommitID:a02b9406a8769247737b55dbfa50b6b5f896d946
64402-64405 --> testing pass
Test environment and result as below:
+------------------+-------------------+------------------+----------------+--------------+--------------------+
| Environment | dpdk_compile_spdk | dpdk_compile_ovs | dpdk_unit_test | dpdk_compile | dpdk_meson_compile |
+==================+===================+==================+================+==============+====================+
| Ubuntu 18.04 | PASS | PASS | PASS | PASS | PASS |
+------------------+-------------------+------------------+----------------+--------------+--------------------+
| FreeBSD 11.2 | PASS | SKIPPED | SKIPPED | PASS | PASS |
+------------------+-------------------+------------------+----------------+--------------+--------------------+
| openSUSE Leap 15 | SKIPPED | PASS | SKIPPED | PASS | PASS |
+------------------+-------------------+------------------+----------------+--------------+--------------------+
| Arch Linux | SKIPPED | PASS | SKIPPED | PASS | PASS |
+------------------+-------------------+------------------+----------------+--------------+--------------------+
| Fedora 31 | SKIPPED | PASS | SKIPPED | PASS | PASS |
+------------------+-------------------+------------------+----------------+--------------+--------------------+
| CentOS 8 | SKIPPED | PASS | SKIPPED | PASS | PASS |
+------------------+-------------------+------------------+----------------+--------------+--------------------+
Ubuntu 18.04
Kernel: 4.15.0-generic
GCC: 7.4
FreeBSD 11.2
Kernel: 11.2
GCC: 8.3
openSUSE Leap 15
Kernel: 4.12.14
GCC: 7.4.1
Arch Linux
Kernel: latest
GCC: latest
Fedora 31
Kernel: 5.3.16
GCC: 9.2.1
CentOS 8
Kernel: 4.18.0.el8_0
GCC: 8.2
https://lab.dpdk.org/results/dashboard/patchsets/9125/
UNH-IOL DPDK Community Lab
To manage your email subscriptions visit:
https://lab.dpdk.org/results/dashboard/preferences/subscriptions/
^ permalink raw reply [flat|nested] 4+ messages in thread
* [dpdk-test-report] |SUCCESS| pw64402-64405 [PATCH] [v8, 1/4] net/i40e: cleanup Tx buffers
@ 2020-01-10 12:01 dpdklab
0 siblings, 0 replies; 4+ messages in thread
From: dpdklab @ 2020-01-10 12:01 UTC (permalink / raw)
To: Ali Alnubani, Test Report; +Cc: dpdk-test-reports
[-- Attachment #1: Type: text/plain, Size: 3905 bytes --]
Test-Label: iol-mellanox-Performance
Test-Status: SUCCESS
http://dpdk.org/patch/64402
_Performance Testing PASS_
Submitter: Di, ChenxuX <chenxux.di@intel.com>
Date: Friday, January 10 2020 09:58:57
DPDK git baseline: Repo:dpdk
Branch: master
CommitID:a02b9406a8769247737b55dbfa50b6b5f896d946
64402-64405 --> performance testing pass
Test environment and result as below:
Ubuntu 18.04
Kernel: 4.15.0-generic
GCC: 7.4
NIC: Mellanox ConnectX-5 100000 Mbps
Target: x86_64-native-linuxapp-gcc
Fail/Total: 0/6
Detail performance results:
+------------+---------+-------------------------------------+
| frame_size | txd/rxd | throughput difference from expected |
+============+=========+=====================================+
| 64 | 256 | 0.099 |
+------------+---------+-------------------------------------+
| 128 | 256 | -0.095 |
+------------+---------+-------------------------------------+
| 256 | 256 | 0.029 |
+------------+---------+-------------------------------------+
| 512 | 256 | -0.073 |
+------------+---------+-------------------------------------+
| 1024 | 256 | -0.027 |
+------------+---------+-------------------------------------+
| 1518 | 256 | 0.038 |
+------------+---------+-------------------------------------+
Ubuntu 18.04
Kernel: 4.15.0-generic
GCC: 7.4
NIC: Mellanox ConnectX-4 Lx 40000 Mbps
Target: x86_64-native-linuxapp-gcc
Fail/Total: 0/6
Detail performance results:
+------------+---------+-------------------------------------+
| frame_size | txd/rxd | throughput difference from expected |
+============+=========+=====================================+
| 64 | 256 | 0.030 |
+------------+---------+-------------------------------------+
| 128 | 256 | -0.086 |
+------------+---------+-------------------------------------+
| 256 | 256 | -0.019 |
+------------+---------+-------------------------------------+
| 512 | 256 | -0.008 |
+------------+---------+-------------------------------------+
| 1024 | 256 | -0.015 |
+------------+---------+-------------------------------------+
| 1518 | 256 | -0.029 |
+------------+---------+-------------------------------------+
Ubuntu 18.04
Kernel: 4.15.0-generic
GCC: 7.4
NIC: Mellanox ConnectX-4 Lx 25000 Mbps
Target: x86_64-native-linuxapp-gcc
Fail/Total: 0/6
Detail performance results:
+------------+---------+-------------------------------------+
| frame_size | txd/rxd | throughput difference from expected |
+============+=========+=====================================+
| 64 | 256 | -0.139 |
+------------+---------+-------------------------------------+
| 128 | 256 | 0.116 |
+------------+---------+-------------------------------------+
| 256 | 256 | -0.045 |
+------------+---------+-------------------------------------+
| 512 | 256 | -0.006 |
+------------+---------+-------------------------------------+
| 1024 | 256 | -0.010 |
+------------+---------+-------------------------------------+
| 1518 | 256 | 0.002 |
+------------+---------+-------------------------------------+
https://lab.dpdk.org/results/dashboard/patchsets/9125/
UNH-IOL DPDK Community Lab
To manage your email subscriptions visit:
https://lab.dpdk.org/results/dashboard/preferences/subscriptions/
^ permalink raw reply [flat|nested] 4+ messages in thread
* [dpdk-test-report] |SUCCESS| pw64402-64405 [PATCH] [v8, 1/4] net/i40e: cleanup Tx buffers
@ 2020-01-10 12:01 dpdklab
0 siblings, 0 replies; 4+ messages in thread
From: dpdklab @ 2020-01-10 12:01 UTC (permalink / raw)
To: Ruoshan Shi, Test Report; +Cc: dpdk-test-reports
[-- Attachment #1: Type: text/plain, Size: 1161 bytes --]
Test-Label: iol-nxp-Performance
Test-Status: SUCCESS
http://dpdk.org/patch/64402
_Performance Testing PASS_
Submitter: Di, ChenxuX <chenxux.di@intel.com>
Date: Friday, January 10 2020 09:58:57
DPDK git baseline: Repo:dpdk
Branch: master
CommitID:a02b9406a8769247737b55dbfa50b6b5f896d946
64402-64405 --> performance testing pass
Test environment and result as below:
Ubuntu 18.04
Kernel: 4.14.122
GCC: 7.3.0
NIC: NXP LS2088A 10000 Mbps
Target: x86_64-native-linuxapp-gcc
Fail/Total: 0/2
Detail performance results:
+------------+---------+-------------------------------------+
| frame_size | txd/rxd | throughput difference from expected |
+============+=========+=====================================+
| 64 | 512 | 0.074 |
+------------+---------+-------------------------------------+
| 64 | 2048 | -0.082 |
+------------+---------+-------------------------------------+
https://lab.dpdk.org/results/dashboard/patchsets/9125/
UNH-IOL DPDK Community Lab
To manage your email subscriptions visit:
https://lab.dpdk.org/results/dashboard/preferences/subscriptions/
^ permalink raw reply [flat|nested] 4+ messages in thread
* [dpdk-test-report] |SUCCESS| pw64402-64405 [PATCH] [v8, 1/4] net/i40e: cleanup Tx buffers
@ 2020-01-10 10:41 dpdklab
0 siblings, 0 replies; 4+ messages in thread
From: dpdklab @ 2020-01-10 10:41 UTC (permalink / raw)
To: Test Report; +Cc: dpdk-test-reports
[-- Attachment #1: Type: text/plain, Size: 1990 bytes --]
Test-Label: iol-intel-Performance
Test-Status: SUCCESS
http://dpdk.org/patch/64402
_Performance Testing PASS_
Submitter: Di, ChenxuX <chenxux.di@intel.com>
Date: Friday, January 10 2020 09:58:57
DPDK git baseline: Repo:dpdk
Branch: master
CommitID:a02b9406a8769247737b55dbfa50b6b5f896d946
64402-64405 --> performance testing pass
Test environment and result as below:
Ubuntu 18.04
Kernel: 4.15.0-generic
GCC: 7.4
NIC: Intel Corporation Ethernet Converged Network Adapter 82599ES 10000 Mbps
Target: x86_64-native-linuxapp-gcc
Fail/Total: 0/3
Detail performance results:
+------------+---------+-------------------------------------+
| frame_size | txd/rxd | throughput difference from expected |
+============+=========+=====================================+
| 64 | 128 | 0.023 |
+------------+---------+-------------------------------------+
| 64 | 512 | -0.181 |
+------------+---------+-------------------------------------+
| 64 | 2048 | 0.025 |
+------------+---------+-------------------------------------+
Ubuntu 18.04
Kernel: 4.15.0-generic
GCC: 7.4
NIC: Intel Corporation Ethernet Converged Network Adapter XL710-QDA2 40000 Mbps
Target: x86_64-native-linuxapp-gcc
Fail/Total: 0/2
Detail performance results:
+------------+---------+-------------------------------------+
| frame_size | txd/rxd | throughput difference from expected |
+============+=========+=====================================+
| 64 | 512 | 0.230 |
+------------+---------+-------------------------------------+
| 64 | 2048 | -0.321 |
+------------+---------+-------------------------------------+
https://lab.dpdk.org/results/dashboard/patchsets/9125/
UNH-IOL DPDK Community Lab
To manage your email subscriptions visit:
https://lab.dpdk.org/results/dashboard/preferences/subscriptions/
^ permalink raw reply [flat|nested] 4+ messages in thread
end of thread, other threads:[~2020-01-10 12:01 UTC | newest]
Thread overview: 4+ messages (download: mbox.gz / follow: Atom feed)
-- links below jump to the message on this page --
2020-01-10 10:48 [dpdk-test-report] |SUCCESS| pw64402-64405 [PATCH] [v8, 1/4] net/i40e: cleanup Tx buffers dpdklab
-- strict thread matches above, loose matches on Subject: below --
2020-01-10 12:01 dpdklab
2020-01-10 12:01 dpdklab
2020-01-10 10:41 dpdklab
This is a public inbox, see mirroring instructions
for how to clone and mirror all data and code used for this inbox;
as well as URLs for NNTP newsgroup(s).